BEGIN:VCALENDAR
VERSION:2.0
PRODID:-//Tate&#039;s Gaming Satellite - ECPv6.15.20//NONSGML v1.0//EN
CALSCALE:GREGORIAN
METHOD:PUBLISH
X-ORIGINAL-URL:https://staging.tatesgaming.com
X-WR-CALDESC:Events for Tate&#039;s Gaming Satellite
REFRESH-INTERVAL;VALUE=DURATION:PT1H
X-Robots-Tag:noindex
X-PUBLISHED-TTL:PT1H
BEGIN:VTIMEZONE
TZID:America/New_York
BEGIN:DAYLIGHT
TZOFFSETFROM:-0500
TZOFFSETTO:-0400
TZNAME:EDT
DTSTART:20190310T070000
END:DAYLIGHT
BEGIN:STANDARD
TZOFFSETFROM:-0400
TZOFFSETTO:-0500
TZNAME:EST
DTSTART:20191103T060000
END:STANDARD
BEGIN:DAYLIGHT
TZOFFSETFROM:-0500
TZOFFSETTO:-0400
TZNAME:EDT
DTSTART:20200308T070000
END:DAYLIGHT
BEGIN:STANDARD
TZOFFSETFROM:-0400
TZOFFSETTO:-0500
TZNAME:EST
DTSTART:20201101T060000
END:STANDARD
BEGIN:DAYLIGHT
TZOFFSETFROM:-0500
TZOFFSETTO:-0400
TZNAME:EDT
DTSTART:20210314T070000
END:DAYLIGHT
BEGIN:STANDARD
TZOFFSETFROM:-0400
TZOFFSETTO:-0500
TZNAME:EST
DTSTART:20211107T060000
END:STANDARD
BEGIN:DAYLIGHT
TZOFFSETFROM:-0500
TZOFFSETTO:-0400
TZNAME:EDT
DTSTART:20220313T070000
END:DAYLIGHT
BEGIN:STANDARD
TZOFFSETFROM:-0400
TZOFFSETTO:-0500
TZNAME:EST
DTSTART:20221106T060000
END:STANDARD
BEGIN:DAYLIGHT
TZOFFSETFROM:-0500
TZOFFSETTO:-0400
TZNAME:EDT
DTSTART:20230312T070000
END:DAYLIGHT
BEGIN:STANDARD
TZOFFSETFROM:-0400
TZOFFSETTO:-0500
TZNAME:EST
DTSTART:20231105T060000
END:STANDARD
END:VTIMEZONE
BEGIN:VEVENT
DTSTART;TZID=America/New_York:20220101T160000
DTEND;TZID=America/New_York:20220101T220000
DTSTAMP:20260424T214505
CREATED:20210731T175302Z
LAST-MODIFIED:20240410T175759Z
UID:10000752-1641052800-1641074400@staging.tatesgaming.com
SUMMARY:Digimon TCG Tournament
DESCRIPTION:Digimon players\, join us for our weekly Digimon TCG tournaments! \n• Dates: Every Saturday\n• Start Time: 4:00 pm\n• Registration ends @ 3:50 pm\n• Entry: $10\n• Format: Standard\, Swiss\, Best of 3\, 50 minute rounds \nPrize support is based on the number of entrants.
URL:https://staging.tatesgaming.com/event/digimon-tcg-tournament/2022-01-01/
CATEGORIES:Digimon
ATTACH;FMTTYPE=image/png:https://staging.tatesgaming.com/wp-content/uploads/2021/07/digimon_website_slider.png
END:VEVENT
BEGIN:VEVENT
DTSTART;TZID=America/New_York:20211218T160000
DTEND;TZID=America/New_York:20211218T220000
DTSTAMP:20260424T214505
CREATED:20210731T175302Z
LAST-MODIFIED:20240410T175759Z
UID:10000751-1639843200-1639864800@staging.tatesgaming.com
SUMMARY:Digimon TCG Tournament
DESCRIPTION:Digimon players\, join us for our weekly Digimon TCG tournaments! \n• Dates: Every Saturday\n• Start Time: 4:00 pm\n• Registration ends @ 3:50 pm\n• Entry: $10\n• Format: Standard\, Swiss\, Best of 3\, 50 minute rounds \nPrize support is based on the number of entrants.
URL:https://staging.tatesgaming.com/event/digimon-tcg-tournament/2021-12-18/
CATEGORIES:Digimon
ATTACH;FMTTYPE=image/png:https://staging.tatesgaming.com/wp-content/uploads/2021/07/digimon_website_slider.png
END:VEVENT
BEGIN:VEVENT
DTSTART;TZID=America/New_York:20211211T160000
DTEND;TZID=America/New_York:20211211T220000
DTSTAMP:20260424T214505
CREATED:20210731T175302Z
LAST-MODIFIED:20240410T175759Z
UID:10000750-1639238400-1639260000@staging.tatesgaming.com
SUMMARY:Digimon TCG Tournament
DESCRIPTION:Digimon players\, join us for our weekly Digimon TCG tournaments! \n• Dates: Every Saturday\n• Start Time: 4:00 pm\n• Registration ends @ 3:50 pm\n• Entry: $10\n• Format: Standard\, Swiss\, Best of 3\, 50 minute rounds \nPrize support is based on the number of entrants.
URL:https://staging.tatesgaming.com/event/digimon-tcg-tournament/2021-12-11/
CATEGORIES:Digimon
ATTACH;FMTTYPE=image/png:https://staging.tatesgaming.com/wp-content/uploads/2021/07/digimon_website_slider.png
END:VEVENT
BEGIN:VEVENT
DTSTART;TZID=America/New_York:20211204T160000
DTEND;TZID=America/New_York:20211204T220000
DTSTAMP:20260424T214505
CREATED:20210731T175302Z
LAST-MODIFIED:20240410T175759Z
UID:10000749-1638633600-1638655200@staging.tatesgaming.com
SUMMARY:Digimon TCG Tournament
DESCRIPTION:Digimon players\, join us for our weekly Digimon TCG tournaments! \n• Dates: Every Saturday\n• Start Time: 4:00 pm\n• Registration ends @ 3:50 pm\n• Entry: $10\n• Format: Standard\, Swiss\, Best of 3\, 50 minute rounds \nPrize support is based on the number of entrants.
URL:https://staging.tatesgaming.com/event/digimon-tcg-tournament/2021-12-04/
CATEGORIES:Digimon
ATTACH;FMTTYPE=image/png:https://staging.tatesgaming.com/wp-content/uploads/2021/07/digimon_website_slider.png
END:VEVENT
BEGIN:VEVENT
DTSTART;TZID=America/New_York:20211127T160000
DTEND;TZID=America/New_York:20211127T220000
DTSTAMP:20260424T214505
CREATED:20210731T175302Z
LAST-MODIFIED:20240410T175759Z
UID:10000748-1638028800-1638050400@staging.tatesgaming.com
SUMMARY:Digimon TCG Tournament
DESCRIPTION:Digimon players\, join us for our weekly Digimon TCG tournaments! \n• Dates: Every Saturday\n• Start Time: 4:00 pm\n• Registration ends @ 3:50 pm\n• Entry: $10\n• Format: Standard\, Swiss\, Best of 3\, 50 minute rounds \nPrize support is based on the number of entrants.
URL:https://staging.tatesgaming.com/event/digimon-tcg-tournament/2021-11-27/
CATEGORIES:Digimon
ATTACH;FMTTYPE=image/png:https://staging.tatesgaming.com/wp-content/uploads/2021/07/digimon_website_slider.png
END:VEVENT
BEGIN:VEVENT
DTSTART;TZID=America/New_York:20211120T160000
DTEND;TZID=America/New_York:20211120T220000
DTSTAMP:20260424T214505
CREATED:20210731T175302Z
LAST-MODIFIED:20240410T175759Z
UID:10000747-1637424000-1637445600@staging.tatesgaming.com
SUMMARY:Digimon TCG Tournament
DESCRIPTION:Digimon players\, join us for our weekly Digimon TCG tournaments! \n• Dates: Every Saturday\n• Start Time: 4:00 pm\n• Registration ends @ 3:50 pm\n• Entry: $10\n• Format: Standard\, Swiss\, Best of 3\, 50 minute rounds \nPrize support is based on the number of entrants.
URL:https://staging.tatesgaming.com/event/digimon-tcg-tournament/2021-11-20/
CATEGORIES:Digimon
ATTACH;FMTTYPE=image/png:https://staging.tatesgaming.com/wp-content/uploads/2021/07/digimon_website_slider.png
END:VEVENT
BEGIN:VEVENT
DTSTART;TZID=America/New_York:20211113T160000
DTEND;TZID=America/New_York:20211113T220000
DTSTAMP:20260424T214505
CREATED:20210731T175302Z
LAST-MODIFIED:20240410T175759Z
UID:10000746-1636819200-1636840800@staging.tatesgaming.com
SUMMARY:Digimon TCG Tournament
DESCRIPTION:Digimon players\, join us for our weekly Digimon TCG tournaments! \n• Dates: Every Saturday\n• Start Time: 4:00 pm\n• Registration ends @ 3:50 pm\n• Entry: $10\n• Format: Standard\, Swiss\, Best of 3\, 50 minute rounds \nPrize support is based on the number of entrants.
URL:https://staging.tatesgaming.com/event/digimon-tcg-tournament/2021-11-13/
CATEGORIES:Digimon
ATTACH;FMTTYPE=image/png:https://staging.tatesgaming.com/wp-content/uploads/2021/07/digimon_website_slider.png
END:VEVENT
BEGIN:VEVENT
DTSTART;TZID=America/New_York:20211106T160000
DTEND;TZID=America/New_York:20211106T220000
DTSTAMP:20260424T214505
CREATED:20210731T175302Z
LAST-MODIFIED:20240410T175759Z
UID:10000745-1636214400-1636236000@staging.tatesgaming.com
SUMMARY:Digimon TCG Tournament
DESCRIPTION:Digimon players\, join us for our weekly Digimon TCG tournaments! \n• Dates: Every Saturday\n• Start Time: 4:00 pm\n• Registration ends @ 3:50 pm\n• Entry: $10\n• Format: Standard\, Swiss\, Best of 3\, 50 minute rounds \nPrize support is based on the number of entrants.
URL:https://staging.tatesgaming.com/event/digimon-tcg-tournament/2021-11-06/
CATEGORIES:Digimon
ATTACH;FMTTYPE=image/png:https://staging.tatesgaming.com/wp-content/uploads/2021/07/digimon_website_slider.png
END:VEVENT
BEGIN:VEVENT
DTSTART;TZID=America/New_York:20211030T160000
DTEND;TZID=America/New_York:20211030T220000
DTSTAMP:20260424T214505
CREATED:20210731T175302Z
LAST-MODIFIED:20240410T175759Z
UID:10000744-1635609600-1635631200@staging.tatesgaming.com
SUMMARY:Digimon TCG Tournament
DESCRIPTION:Digimon players\, join us for our weekly Digimon TCG tournaments! \n• Dates: Every Saturday\n• Start Time: 4:00 pm\n• Registration ends @ 3:50 pm\n• Entry: $10\n• Format: Standard\, Swiss\, Best of 3\, 50 minute rounds \nPrize support is based on the number of entrants.
URL:https://staging.tatesgaming.com/event/digimon-tcg-tournament/2021-10-30/
CATEGORIES:Digimon
ATTACH;FMTTYPE=image/png:https://staging.tatesgaming.com/wp-content/uploads/2021/07/digimon_website_slider.png
END:VEVENT
BEGIN:VEVENT
DTSTART;TZID=America/New_York:20211023T160000
DTEND;TZID=America/New_York:20211023T220000
DTSTAMP:20260424T214505
CREATED:20210731T175302Z
LAST-MODIFIED:20240410T175759Z
UID:10000743-1635004800-1635026400@staging.tatesgaming.com
SUMMARY:Digimon TCG Tournament
DESCRIPTION:Digimon players\, join us for our weekly Digimon TCG tournaments! \n• Dates: Every Saturday\n• Start Time: 4:00 pm\n• Registration ends @ 3:50 pm\n• Entry: $10\n• Format: Standard\, Swiss\, Best of 3\, 50 minute rounds \nPrize support is based on the number of entrants.
URL:https://staging.tatesgaming.com/event/digimon-tcg-tournament/2021-10-23/
CATEGORIES:Digimon
ATTACH;FMTTYPE=image/png:https://staging.tatesgaming.com/wp-content/uploads/2021/07/digimon_website_slider.png
END:VEVENT
BEGIN:VEVENT
DTSTART;TZID=America/New_York:20211016T160000
DTEND;TZID=America/New_York:20211016T220000
DTSTAMP:20260424T214505
CREATED:20210731T175302Z
LAST-MODIFIED:20240410T175759Z
UID:10000742-1634400000-1634421600@staging.tatesgaming.com
SUMMARY:Digimon TCG Tournament
DESCRIPTION:Digimon players\, join us for our weekly Digimon TCG tournaments! \n• Dates: Every Saturday\n• Start Time: 4:00 pm\n• Registration ends @ 3:50 pm\n• Entry: $10\n• Format: Standard\, Swiss\, Best of 3\, 50 minute rounds \nPrize support is based on the number of entrants.
URL:https://staging.tatesgaming.com/event/digimon-tcg-tournament/2021-10-16/
CATEGORIES:Digimon
ATTACH;FMTTYPE=image/png:https://staging.tatesgaming.com/wp-content/uploads/2021/07/digimon_website_slider.png
END:VEVENT
BEGIN:VEVENT
DTSTART;TZID=America/New_York:20211009T160000
DTEND;TZID=America/New_York:20211009T220000
DTSTAMP:20260424T214505
CREATED:20210731T175302Z
LAST-MODIFIED:20240410T175759Z
UID:10000741-1633795200-1633816800@staging.tatesgaming.com
SUMMARY:Digimon TCG Tournament
DESCRIPTION:Digimon players\, join us for our weekly Digimon TCG tournaments! \n• Dates: Every Saturday\n• Start Time: 4:00 pm\n• Registration ends @ 3:50 pm\n• Entry: $10\n• Format: Standard\, Swiss\, Best of 3\, 50 minute rounds \nPrize support is based on the number of entrants.
URL:https://staging.tatesgaming.com/event/digimon-tcg-tournament/2021-10-09/
CATEGORIES:Digimon
ATTACH;FMTTYPE=image/png:https://staging.tatesgaming.com/wp-content/uploads/2021/07/digimon_website_slider.png
END:VEVENT
BEGIN:VEVENT
DTSTART;TZID=America/New_York:20211002T160000
DTEND;TZID=America/New_York:20211002T220000
DTSTAMP:20260424T214505
CREATED:20210731T175302Z
LAST-MODIFIED:20240410T175759Z
UID:10000740-1633190400-1633212000@staging.tatesgaming.com
SUMMARY:Digimon TCG Tournament
DESCRIPTION:Digimon players\, join us for our weekly Digimon TCG tournaments! \n• Dates: Every Saturday\n• Start Time: 4:00 pm\n• Registration ends @ 3:50 pm\n• Entry: $10\n• Format: Standard\, Swiss\, Best of 3\, 50 minute rounds \nPrize support is based on the number of entrants.
URL:https://staging.tatesgaming.com/event/digimon-tcg-tournament/2021-10-02/
CATEGORIES:Digimon
ATTACH;FMTTYPE=image/png:https://staging.tatesgaming.com/wp-content/uploads/2021/07/digimon_website_slider.png
END:VEVENT
BEGIN:VEVENT
DTSTART;TZID=America/New_York:20210925T160000
DTEND;TZID=America/New_York:20210925T220000
DTSTAMP:20260424T214505
CREATED:20210731T175302Z
LAST-MODIFIED:20240410T175759Z
UID:10000739-1632585600-1632607200@staging.tatesgaming.com
SUMMARY:Digimon TCG Tournament
DESCRIPTION:Digimon players\, join us for our weekly Digimon TCG tournaments! \n• Dates: Every Saturday\n• Start Time: 4:00 pm\n• Registration ends @ 3:50 pm\n• Entry: $10\n• Format: Standard\, Swiss\, Best of 3\, 50 minute rounds \nPrize support is based on the number of entrants.
URL:https://staging.tatesgaming.com/event/digimon-tcg-tournament/2021-09-25/
CATEGORIES:Digimon
ATTACH;FMTTYPE=image/png:https://staging.tatesgaming.com/wp-content/uploads/2021/07/digimon_website_slider.png
END:VEVENT
BEGIN:VEVENT
DTSTART;TZID=America/New_York:20210918T160000
DTEND;TZID=America/New_York:20210918T220000
DTSTAMP:20260424T214505
CREATED:20210731T175302Z
LAST-MODIFIED:20240410T175759Z
UID:10000738-1631980800-1632002400@staging.tatesgaming.com
SUMMARY:Digimon TCG Tournament
DESCRIPTION:Digimon players\, join us for our weekly Digimon TCG tournaments! \n• Dates: Every Saturday\n• Start Time: 4:00 pm\n• Registration ends @ 3:50 pm\n• Entry: $10\n• Format: Standard\, Swiss\, Best of 3\, 50 minute rounds \nPrize support is based on the number of entrants.
URL:https://staging.tatesgaming.com/event/digimon-tcg-tournament/2021-09-18/
CATEGORIES:Digimon
ATTACH;FMTTYPE=image/png:https://staging.tatesgaming.com/wp-content/uploads/2021/07/digimon_website_slider.png
END:VEVENT
BEGIN:VEVENT
DTSTART;TZID=America/New_York:20210911T160000
DTEND;TZID=America/New_York:20210911T220000
DTSTAMP:20260424T214505
CREATED:20210731T175302Z
LAST-MODIFIED:20240410T175759Z
UID:10000737-1631376000-1631397600@staging.tatesgaming.com
SUMMARY:Digimon TCG Tournament
DESCRIPTION:Digimon players\, join us for our weekly Digimon TCG tournaments! \n• Dates: Every Saturday\n• Start Time: 4:00 pm\n• Registration ends @ 3:50 pm\n• Entry: $10\n• Format: Standard\, Swiss\, Best of 3\, 50 minute rounds \nPrize support is based on the number of entrants.
URL:https://staging.tatesgaming.com/event/digimon-tcg-tournament/2021-09-11/
CATEGORIES:Digimon
ATTACH;FMTTYPE=image/png:https://staging.tatesgaming.com/wp-content/uploads/2021/07/digimon_website_slider.png
END:VEVENT
BEGIN:VEVENT
DTSTART;TZID=America/New_York:20210904T160000
DTEND;TZID=America/New_York:20210904T220000
DTSTAMP:20260424T214505
CREATED:20210731T175302Z
LAST-MODIFIED:20240410T175759Z
UID:10000736-1630771200-1630792800@staging.tatesgaming.com
SUMMARY:Digimon TCG Tournament
DESCRIPTION:Digimon players\, join us for our weekly Digimon TCG tournaments! \n• Dates: Every Saturday\n• Start Time: 4:00 pm\n• Registration ends @ 3:50 pm\n• Entry: $10\n• Format: Standard\, Swiss\, Best of 3\, 50 minute rounds \nPrize support is based on the number of entrants.
URL:https://staging.tatesgaming.com/event/digimon-tcg-tournament/2021-09-04/
CATEGORIES:Digimon
ATTACH;FMTTYPE=image/png:https://staging.tatesgaming.com/wp-content/uploads/2021/07/digimon_website_slider.png
END:VEVENT
BEGIN:VEVENT
DTSTART;TZID=America/New_York:20210828T160000
DTEND;TZID=America/New_York:20210828T220000
DTSTAMP:20260424T214505
CREATED:20210731T175302Z
LAST-MODIFIED:20240410T175759Z
UID:10000735-1630166400-1630188000@staging.tatesgaming.com
SUMMARY:Digimon TCG Tournament
DESCRIPTION:Digimon players\, join us for our weekly Digimon TCG tournaments! \n• Dates: Every Saturday\n• Start Time: 4:00 pm\n• Registration ends @ 3:50 pm\n• Entry: $10\n• Format: Standard\, Swiss\, Best of 3\, 50 minute rounds \nPrize support is based on the number of entrants.
URL:https://staging.tatesgaming.com/event/digimon-tcg-tournament/2021-08-28/
CATEGORIES:Digimon
ATTACH;FMTTYPE=image/png:https://staging.tatesgaming.com/wp-content/uploads/2021/07/digimon_website_slider.png
END:VEVENT
BEGIN:VEVENT
DTSTART;TZID=America/New_York:20210821T160000
DTEND;TZID=America/New_York:20210821T220000
DTSTAMP:20260424T214505
CREATED:20210731T175302Z
LAST-MODIFIED:20240410T175759Z
UID:10000734-1629561600-1629583200@staging.tatesgaming.com
SUMMARY:Digimon TCG Tournament
DESCRIPTION:Digimon players\, join us for our weekly Digimon TCG tournaments! \n• Dates: Every Saturday\n• Start Time: 4:00 pm\n• Registration ends @ 3:50 pm\n• Entry: $10\n• Format: Standard\, Swiss\, Best of 3\, 50 minute rounds \nPrize support is based on the number of entrants.
URL:https://staging.tatesgaming.com/event/digimon-tcg-tournament/2021-08-21/
CATEGORIES:Digimon
ATTACH;FMTTYPE=image/png:https://staging.tatesgaming.com/wp-content/uploads/2021/07/digimon_website_slider.png
END:VEVENT
BEGIN:VEVENT
DTSTART;TZID=America/New_York:20210814T160000
DTEND;TZID=America/New_York:20210814T220000
DTSTAMP:20260424T214505
CREATED:20210731T175302Z
LAST-MODIFIED:20240410T175759Z
UID:10000733-1628956800-1628978400@staging.tatesgaming.com
SUMMARY:Digimon TCG Tournament
DESCRIPTION:Digimon players\, join us for our weekly Digimon TCG tournaments! \n• Dates: Every Saturday\n• Start Time: 4:00 pm\n• Registration ends @ 3:50 pm\n• Entry: $10\n• Format: Standard\, Swiss\, Best of 3\, 50 minute rounds \nPrize support is based on the number of entrants.
URL:https://staging.tatesgaming.com/event/digimon-tcg-tournament/2021-08-14/
CATEGORIES:Digimon
ATTACH;FMTTYPE=image/png:https://staging.tatesgaming.com/wp-content/uploads/2021/07/digimon_website_slider.png
END:VEVENT
BEGIN:VEVENT
DTSTART;TZID=America/New_York:20210807T160000
DTEND;TZID=America/New_York:20210807T220000
DTSTAMP:20260424T214505
CREATED:20210731T175302Z
LAST-MODIFIED:20240410T175759Z
UID:10000732-1628352000-1628373600@staging.tatesgaming.com
SUMMARY:Digimon TCG Tournament
DESCRIPTION:Digimon players\, join us for our weekly Digimon TCG tournaments! \n• Dates: Every Saturday\n• Start Time: 4:00 pm\n• Registration ends @ 3:50 pm\n• Entry: $10\n• Format: Standard\, Swiss\, Best of 3\, 50 minute rounds \nPrize support is based on the number of entrants.
URL:https://staging.tatesgaming.com/event/digimon-tcg-tournament/2021-08-07/
CATEGORIES:Digimon
ATTACH;FMTTYPE=image/png:https://staging.tatesgaming.com/wp-content/uploads/2021/07/digimon_website_slider.png
END:VEVENT
BEGIN:VEVENT
DTSTART;TZID=America/New_York:20210731T110000
DTEND;TZID=America/New_York:20210731T190000
DTSTAMP:20260424T214505
CREATED:20210723T204620Z
LAST-MODIFIED:20210723T204855Z
UID:10000817-1627729200-1627758000@staging.tatesgaming.com
SUMMARY:Digimon TCG Prerelease - Battle of Omni [BT-05]
DESCRIPTION:Calling all Digimon TCG players! Join us for our Battle of Omni Prerelease! Here are the details:\n• Date: Saturday\, July 31st\n• Time: 11am – 7pm*\n• Price: Booster Box – $90\n• Power Up Pack with each box purchase\n• Limited supply — first-come\, first-served\n• Limit one box per customer\n\n*While supplies last
URL:https://staging.tatesgaming.com/event/digimon-tcg-prerelease-battle-of-omni-bt-05/
LOCATION:TATE’S Gaming Satellite\, 4580 N. University Drive\, Lauderhill\, FL\, 33351\, United States
CATEGORIES:Digimon,Slider Feature
ATTACH;FMTTYPE=image/png:https://staging.tatesgaming.com/wp-content/uploads/2021/07/BT05_SLIDER.png
GEO:26.1823829;-80.2509514
X-APPLE-STRUCTURED-LOCATION;VALUE=URI;X-ADDRESS=TATE’S Gaming Satellite 4580 N. University Drive Lauderhill FL 33351 United States;X-APPLE-RADIUS=500;X-TITLE=4580 N. University Drive:geo:-80.2509514,26.1823829
END:VEVENT
BEGIN:VEVENT
DTSTART;TZID=America/New_York:20201127T110000
DTEND;TZID=America/New_York:20201127T190000
DTSTAMP:20260424T214505
CREATED:20201009T182428Z
LAST-MODIFIED:20201011T171539Z
UID:10000694-1606474800-1606503600@staging.tatesgaming.com
SUMMARY:Digimon TCG - Super Pre-Sale
DESCRIPTION:Calling all Digimon fans! \nPrior to the Release in early 2021\, a “Super Pre-Sale” will be held on November 27th! This is your chance to get the Release Special Booster Ver.1.0 and the 3 Starter Decks\, over 2 months before release! \nPreorders for all items in the Super Pre-Sale are available online or in-store. Preorders can be picked up the day of the event. \nGet ready for DIGIMON to unleash November 27th\, 2020!
URL:https://staging.tatesgaming.com/event/digimon-tcg-super-pre-sale/
LOCATION:TATE’S Gaming Satellite\, 4580 N. University Drive\, Lauderhill\, FL\, 33351\, United States
CATEGORIES:Digimon,Slider Feature
ATTACH;FMTTYPE=image/jpeg:https://staging.tatesgaming.com/wp-content/uploads/2020/10/website_slider_digimon.jpg
GEO:26.1823829;-80.2509514
X-APPLE-STRUCTURED-LOCATION;VALUE=URI;X-ADDRESS=TATE’S Gaming Satellite 4580 N. University Drive Lauderhill FL 33351 United States;X-APPLE-RADIUS=500;X-TITLE=4580 N. University Drive:geo:-80.2509514,26.1823829
END:VEVENT
END:VCALENDAR