BEGIN:VCALENDAR
VERSION:2.0
PRODID:-//Tate&#039;s Gaming Satellite - ECPv6.15.20//NONSGML v1.0//EN
CALSCALE:GREGORIAN
METHOD:PUBLISH
X-WR-CALNAME:Tate&#039;s Gaming Satellite
X-ORIGINAL-URL:https://staging.tatesgaming.com
X-WR-CALDESC:Events for Tate&#039;s Gaming Satellite
REFRESH-INTERVAL;VALUE=DURATION:PT1H
X-Robots-Tag:noindex
X-PUBLISHED-TTL:PT1H
BEGIN:VTIMEZONE
TZID:America/New_York
BEGIN:DAYLIGHT
TZOFFSETFROM:-0500
TZOFFSETTO:-0400
TZNAME:EDT
DTSTART:20210314T070000
END:DAYLIGHT
BEGIN:STANDARD
TZOFFSETFROM:-0400
TZOFFSETTO:-0500
TZNAME:EST
DTSTART:20211107T060000
END:STANDARD
BEGIN:DAYLIGHT
TZOFFSETFROM:-0500
TZOFFSETTO:-0400
TZNAME:EDT
DTSTART:20220313T070000
END:DAYLIGHT
BEGIN:STANDARD
TZOFFSETFROM:-0400
TZOFFSETTO:-0500
TZNAME:EST
DTSTART:20221106T060000
END:STANDARD
BEGIN:DAYLIGHT
TZOFFSETFROM:-0500
TZOFFSETTO:-0400
TZNAME:EDT
DTSTART:20230312T070000
END:DAYLIGHT
BEGIN:STANDARD
TZOFFSETFROM:-0400
TZOFFSETTO:-0500
TZNAME:EST
DTSTART:20231105T060000
END:STANDARD
BEGIN:DAYLIGHT
TZOFFSETFROM:-0500
TZOFFSETTO:-0400
TZNAME:EDT
DTSTART:20240310T070000
END:DAYLIGHT
BEGIN:STANDARD
TZOFFSETFROM:-0400
TZOFFSETTO:-0500
TZNAME:EST
DTSTART:20241103T060000
END:STANDARD
END:VTIMEZONE
BEGIN:VEVENT
DTSTART;TZID=America/New_York:20230506T160000
DTEND;TZID=America/New_York:20230506T220000
DTSTAMP:20260424T113605
CREATED:20210731T175302Z
LAST-MODIFIED:20240410T175759Z
UID:10001031-1683388800-1683410400@staging.tatesgaming.com
SUMMARY:Digimon TCG Tournament
DESCRIPTION:Digimon players\, join us for our weekly Digimon TCG tournaments! \n• Dates: Every Saturday\n• Start Time: 4:00 pm\n• Registration ends @ 3:50 pm\n• Entry: $10\n• Format: Standard\, Swiss\, Best of 3\, 50 minute rounds \nPrize support is based on the number of entrants.
URL:https://staging.tatesgaming.com/event/digimon-tcg-tournament/2023-05-06/
CATEGORIES:Digimon
ATTACH;FMTTYPE=image/png:https://staging.tatesgaming.com/wp-content/uploads/2021/07/digimon_website_slider.png
END:VEVENT
BEGIN:VEVENT
DTSTART;TZID=America/New_York:20230429T160000
DTEND;TZID=America/New_York:20230429T220000
DTSTAMP:20260424T113605
CREATED:20210731T175302Z
LAST-MODIFIED:20240410T175759Z
UID:10001030-1682784000-1682805600@staging.tatesgaming.com
SUMMARY:Digimon TCG Tournament
DESCRIPTION:Digimon players\, join us for our weekly Digimon TCG tournaments! \n• Dates: Every Saturday\n• Start Time: 4:00 pm\n• Registration ends @ 3:50 pm\n• Entry: $10\n• Format: Standard\, Swiss\, Best of 3\, 50 minute rounds \nPrize support is based on the number of entrants.
URL:https://staging.tatesgaming.com/event/digimon-tcg-tournament/2023-04-29/
CATEGORIES:Digimon
ATTACH;FMTTYPE=image/png:https://staging.tatesgaming.com/wp-content/uploads/2021/07/digimon_website_slider.png
END:VEVENT
BEGIN:VEVENT
DTSTART;TZID=America/New_York:20230422T160000
DTEND;TZID=America/New_York:20230422T220000
DTSTAMP:20260424T113605
CREATED:20210731T175302Z
LAST-MODIFIED:20240410T175759Z
UID:10001029-1682179200-1682200800@staging.tatesgaming.com
SUMMARY:Digimon TCG Tournament
DESCRIPTION:Digimon players\, join us for our weekly Digimon TCG tournaments! \n• Dates: Every Saturday\n• Start Time: 4:00 pm\n• Registration ends @ 3:50 pm\n• Entry: $10\n• Format: Standard\, Swiss\, Best of 3\, 50 minute rounds \nPrize support is based on the number of entrants.
URL:https://staging.tatesgaming.com/event/digimon-tcg-tournament/2023-04-22/
CATEGORIES:Digimon
ATTACH;FMTTYPE=image/png:https://staging.tatesgaming.com/wp-content/uploads/2021/07/digimon_website_slider.png
END:VEVENT
BEGIN:VEVENT
DTSTART;TZID=America/New_York:20230422T160000
DTEND;TZID=America/New_York:20230422T200000
DTSTAMP:20260424T113605
CREATED:20230417T181637Z
LAST-MODIFIED:20230417T181638Z
UID:10000959-1682179200-1682193600@staging.tatesgaming.com
SUMMARY:Digimon TCG Prerelease - Across Time [BT-12]
DESCRIPTION:Digimon trainers! Join us for our BT-12 Across Time Prerelease! Here are the details: \n• Date: Saturday\, April 22nd\, 2023\n• Time: 4:00pm\n• Registration: Bandai TCG+ app given priority entry\n• Format: Sealed\n• Entry: $30\n• Capacity: 16 per flight\, 2 flights available. \nA limited number of booster boxes will be available for purchase for starting on Friday\, April 21st.
URL:https://staging.tatesgaming.com/event/digimon-tcg-prerelease-across-time-bt-12/
LOCATION:TATE’S Gaming Satellite\, 4580 N. University Drive\, Lauderhill\, FL\, 33351\, United States
CATEGORIES:Digimon,Slider Feature
ATTACH;FMTTYPE=image/png:https://staging.tatesgaming.com/wp-content/uploads/2023/04/bt12-prerelease-slider.png
GEO:26.1823829;-80.2509514
X-APPLE-STRUCTURED-LOCATION;VALUE=URI;X-ADDRESS=TATE’S Gaming Satellite 4580 N. University Drive Lauderhill FL 33351 United States;X-APPLE-RADIUS=500;X-TITLE=4580 N. University Drive:geo:-80.2509514,26.1823829
END:VEVENT
BEGIN:VEVENT
DTSTART;TZID=America/New_York:20230415T160000
DTEND;TZID=America/New_York:20230415T220000
DTSTAMP:20260424T113605
CREATED:20210731T175302Z
LAST-MODIFIED:20240410T175759Z
UID:10001028-1681574400-1681596000@staging.tatesgaming.com
SUMMARY:Digimon TCG Tournament
DESCRIPTION:Digimon players\, join us for our weekly Digimon TCG tournaments! \n• Dates: Every Saturday\n• Start Time: 4:00 pm\n• Registration ends @ 3:50 pm\n• Entry: $10\n• Format: Standard\, Swiss\, Best of 3\, 50 minute rounds \nPrize support is based on the number of entrants.
URL:https://staging.tatesgaming.com/event/digimon-tcg-tournament/2023-04-15/
CATEGORIES:Digimon
ATTACH;FMTTYPE=image/png:https://staging.tatesgaming.com/wp-content/uploads/2021/07/digimon_website_slider.png
END:VEVENT
BEGIN:VEVENT
DTSTART;TZID=America/New_York:20230408T160000
DTEND;TZID=America/New_York:20230408T220000
DTSTAMP:20260424T113605
CREATED:20210731T175302Z
LAST-MODIFIED:20240410T175759Z
UID:10001027-1680969600-1680991200@staging.tatesgaming.com
SUMMARY:Digimon TCG Tournament
DESCRIPTION:Digimon players\, join us for our weekly Digimon TCG tournaments! \n• Dates: Every Saturday\n• Start Time: 4:00 pm\n• Registration ends @ 3:50 pm\n• Entry: $10\n• Format: Standard\, Swiss\, Best of 3\, 50 minute rounds \nPrize support is based on the number of entrants.
URL:https://staging.tatesgaming.com/event/digimon-tcg-tournament/2023-04-08/
CATEGORIES:Digimon
ATTACH;FMTTYPE=image/png:https://staging.tatesgaming.com/wp-content/uploads/2021/07/digimon_website_slider.png
END:VEVENT
BEGIN:VEVENT
DTSTART;TZID=America/New_York:20230401T160000
DTEND;TZID=America/New_York:20230401T220000
DTSTAMP:20260424T113605
CREATED:20210731T175302Z
LAST-MODIFIED:20240410T175759Z
UID:10001026-1680364800-1680386400@staging.tatesgaming.com
SUMMARY:Digimon TCG Tournament
DESCRIPTION:Digimon players\, join us for our weekly Digimon TCG tournaments! \n• Dates: Every Saturday\n• Start Time: 4:00 pm\n• Registration ends @ 3:50 pm\n• Entry: $10\n• Format: Standard\, Swiss\, Best of 3\, 50 minute rounds \nPrize support is based on the number of entrants.
URL:https://staging.tatesgaming.com/event/digimon-tcg-tournament/2023-04-01/
CATEGORIES:Digimon
ATTACH;FMTTYPE=image/png:https://staging.tatesgaming.com/wp-content/uploads/2021/07/digimon_website_slider.png
END:VEVENT
BEGIN:VEVENT
DTSTART;TZID=America/New_York:20230325T160000
DTEND;TZID=America/New_York:20230325T220000
DTSTAMP:20260424T113605
CREATED:20210731T175302Z
LAST-MODIFIED:20240410T175759Z
UID:10001025-1679760000-1679781600@staging.tatesgaming.com
SUMMARY:Digimon TCG Tournament
DESCRIPTION:Digimon players\, join us for our weekly Digimon TCG tournaments! \n• Dates: Every Saturday\n• Start Time: 4:00 pm\n• Registration ends @ 3:50 pm\n• Entry: $10\n• Format: Standard\, Swiss\, Best of 3\, 50 minute rounds \nPrize support is based on the number of entrants.
URL:https://staging.tatesgaming.com/event/digimon-tcg-tournament/2023-03-25/
CATEGORIES:Digimon
ATTACH;FMTTYPE=image/png:https://staging.tatesgaming.com/wp-content/uploads/2021/07/digimon_website_slider.png
END:VEVENT
BEGIN:VEVENT
DTSTART;TZID=America/New_York:20230318T160000
DTEND;TZID=America/New_York:20230318T220000
DTSTAMP:20260424T113605
CREATED:20210731T175302Z
LAST-MODIFIED:20240410T175759Z
UID:10000813-1679155200-1679176800@staging.tatesgaming.com
SUMMARY:Digimon TCG Tournament
DESCRIPTION:Digimon players\, join us for our weekly Digimon TCG tournaments! \n• Dates: Every Saturday\n• Start Time: 4:00 pm\n• Registration ends @ 3:50 pm\n• Entry: $10\n• Format: Standard\, Swiss\, Best of 3\, 50 minute rounds \nPrize support is based on the number of entrants.
URL:https://staging.tatesgaming.com/event/digimon-tcg-tournament/2023-03-18/
CATEGORIES:Digimon
ATTACH;FMTTYPE=image/png:https://staging.tatesgaming.com/wp-content/uploads/2021/07/digimon_website_slider.png
END:VEVENT
BEGIN:VEVENT
DTSTART;TZID=America/New_York:20230311T160000
DTEND;TZID=America/New_York:20230311T220000
DTSTAMP:20260424T113605
CREATED:20210731T175302Z
LAST-MODIFIED:20240410T175759Z
UID:10000812-1678550400-1678572000@staging.tatesgaming.com
SUMMARY:Digimon TCG Tournament
DESCRIPTION:Digimon players\, join us for our weekly Digimon TCG tournaments! \n• Dates: Every Saturday\n• Start Time: 4:00 pm\n• Registration ends @ 3:50 pm\n• Entry: $10\n• Format: Standard\, Swiss\, Best of 3\, 50 minute rounds \nPrize support is based on the number of entrants.
URL:https://staging.tatesgaming.com/event/digimon-tcg-tournament/2023-03-11/
CATEGORIES:Digimon
ATTACH;FMTTYPE=image/png:https://staging.tatesgaming.com/wp-content/uploads/2021/07/digimon_website_slider.png
END:VEVENT
BEGIN:VEVENT
DTSTART;TZID=America/New_York:20230304T160000
DTEND;TZID=America/New_York:20230304T220000
DTSTAMP:20260424T113605
CREATED:20210731T175302Z
LAST-MODIFIED:20240410T175759Z
UID:10000811-1677945600-1677967200@staging.tatesgaming.com
SUMMARY:Digimon TCG Tournament
DESCRIPTION:Digimon players\, join us for our weekly Digimon TCG tournaments! \n• Dates: Every Saturday\n• Start Time: 4:00 pm\n• Registration ends @ 3:50 pm\n• Entry: $10\n• Format: Standard\, Swiss\, Best of 3\, 50 minute rounds \nPrize support is based on the number of entrants.
URL:https://staging.tatesgaming.com/event/digimon-tcg-tournament/2023-03-04/
CATEGORIES:Digimon
ATTACH;FMTTYPE=image/png:https://staging.tatesgaming.com/wp-content/uploads/2021/07/digimon_website_slider.png
END:VEVENT
BEGIN:VEVENT
DTSTART;TZID=America/New_York:20230225T160000
DTEND;TZID=America/New_York:20230225T220000
DTSTAMP:20260424T113605
CREATED:20210731T175302Z
LAST-MODIFIED:20240410T175759Z
UID:10000810-1677340800-1677362400@staging.tatesgaming.com
SUMMARY:Digimon TCG Tournament
DESCRIPTION:Digimon players\, join us for our weekly Digimon TCG tournaments! \n• Dates: Every Saturday\n• Start Time: 4:00 pm\n• Registration ends @ 3:50 pm\n• Entry: $10\n• Format: Standard\, Swiss\, Best of 3\, 50 minute rounds \nPrize support is based on the number of entrants.
URL:https://staging.tatesgaming.com/event/digimon-tcg-tournament/2023-02-25/
CATEGORIES:Digimon
ATTACH;FMTTYPE=image/png:https://staging.tatesgaming.com/wp-content/uploads/2021/07/digimon_website_slider.png
END:VEVENT
BEGIN:VEVENT
DTSTART;TZID=America/New_York:20230218T160000
DTEND;TZID=America/New_York:20230218T220000
DTSTAMP:20260424T113605
CREATED:20210731T175302Z
LAST-MODIFIED:20240410T175759Z
UID:10000809-1676736000-1676757600@staging.tatesgaming.com
SUMMARY:Digimon TCG Tournament
DESCRIPTION:Digimon players\, join us for our weekly Digimon TCG tournaments! \n• Dates: Every Saturday\n• Start Time: 4:00 pm\n• Registration ends @ 3:50 pm\n• Entry: $10\n• Format: Standard\, Swiss\, Best of 3\, 50 minute rounds \nPrize support is based on the number of entrants.
URL:https://staging.tatesgaming.com/event/digimon-tcg-tournament/2023-02-18/
CATEGORIES:Digimon
ATTACH;FMTTYPE=image/png:https://staging.tatesgaming.com/wp-content/uploads/2021/07/digimon_website_slider.png
END:VEVENT
BEGIN:VEVENT
DTSTART;TZID=America/New_York:20230211T160000
DTEND;TZID=America/New_York:20230211T220000
DTSTAMP:20260424T113605
CREATED:20210731T175302Z
LAST-MODIFIED:20240410T175759Z
UID:10000808-1676131200-1676152800@staging.tatesgaming.com
SUMMARY:Digimon TCG Tournament
DESCRIPTION:Digimon players\, join us for our weekly Digimon TCG tournaments! \n• Dates: Every Saturday\n• Start Time: 4:00 pm\n• Registration ends @ 3:50 pm\n• Entry: $10\n• Format: Standard\, Swiss\, Best of 3\, 50 minute rounds \nPrize support is based on the number of entrants.
URL:https://staging.tatesgaming.com/event/digimon-tcg-tournament/2023-02-11/
CATEGORIES:Digimon
ATTACH;FMTTYPE=image/png:https://staging.tatesgaming.com/wp-content/uploads/2021/07/digimon_website_slider.png
END:VEVENT
BEGIN:VEVENT
DTSTART;TZID=America/New_York:20230204T160000
DTEND;TZID=America/New_York:20230204T220000
DTSTAMP:20260424T113605
CREATED:20210731T175302Z
LAST-MODIFIED:20240410T175759Z
UID:10000807-1675526400-1675548000@staging.tatesgaming.com
SUMMARY:Digimon TCG Tournament
DESCRIPTION:Digimon players\, join us for our weekly Digimon TCG tournaments! \n• Dates: Every Saturday\n• Start Time: 4:00 pm\n• Registration ends @ 3:50 pm\n• Entry: $10\n• Format: Standard\, Swiss\, Best of 3\, 50 minute rounds \nPrize support is based on the number of entrants.
URL:https://staging.tatesgaming.com/event/digimon-tcg-tournament/2023-02-04/
CATEGORIES:Digimon
ATTACH;FMTTYPE=image/png:https://staging.tatesgaming.com/wp-content/uploads/2021/07/digimon_website_slider.png
END:VEVENT
BEGIN:VEVENT
DTSTART;TZID=America/New_York:20230128T160000
DTEND;TZID=America/New_York:20230128T220000
DTSTAMP:20260424T113605
CREATED:20210731T175302Z
LAST-MODIFIED:20240410T175759Z
UID:10000806-1674921600-1674943200@staging.tatesgaming.com
SUMMARY:Digimon TCG Tournament
DESCRIPTION:Digimon players\, join us for our weekly Digimon TCG tournaments! \n• Dates: Every Saturday\n• Start Time: 4:00 pm\n• Registration ends @ 3:50 pm\n• Entry: $10\n• Format: Standard\, Swiss\, Best of 3\, 50 minute rounds \nPrize support is based on the number of entrants.
URL:https://staging.tatesgaming.com/event/digimon-tcg-tournament/2023-01-28/
CATEGORIES:Digimon
ATTACH;FMTTYPE=image/png:https://staging.tatesgaming.com/wp-content/uploads/2021/07/digimon_website_slider.png
END:VEVENT
BEGIN:VEVENT
DTSTART;TZID=America/New_York:20230121T160000
DTEND;TZID=America/New_York:20230121T220000
DTSTAMP:20260424T113605
CREATED:20210731T175302Z
LAST-MODIFIED:20240410T175759Z
UID:10000805-1674316800-1674338400@staging.tatesgaming.com
SUMMARY:Digimon TCG Tournament
DESCRIPTION:Digimon players\, join us for our weekly Digimon TCG tournaments! \n• Dates: Every Saturday\n• Start Time: 4:00 pm\n• Registration ends @ 3:50 pm\n• Entry: $10\n• Format: Standard\, Swiss\, Best of 3\, 50 minute rounds \nPrize support is based on the number of entrants.
URL:https://staging.tatesgaming.com/event/digimon-tcg-tournament/2023-01-21/
CATEGORIES:Digimon
ATTACH;FMTTYPE=image/png:https://staging.tatesgaming.com/wp-content/uploads/2021/07/digimon_website_slider.png
END:VEVENT
BEGIN:VEVENT
DTSTART;TZID=America/New_York:20230114T160000
DTEND;TZID=America/New_York:20230114T220000
DTSTAMP:20260424T113605
CREATED:20210731T175302Z
LAST-MODIFIED:20240410T175759Z
UID:10000804-1673712000-1673733600@staging.tatesgaming.com
SUMMARY:Digimon TCG Tournament
DESCRIPTION:Digimon players\, join us for our weekly Digimon TCG tournaments! \n• Dates: Every Saturday\n• Start Time: 4:00 pm\n• Registration ends @ 3:50 pm\n• Entry: $10\n• Format: Standard\, Swiss\, Best of 3\, 50 minute rounds \nPrize support is based on the number of entrants.
URL:https://staging.tatesgaming.com/event/digimon-tcg-tournament/2023-01-14/
CATEGORIES:Digimon
ATTACH;FMTTYPE=image/png:https://staging.tatesgaming.com/wp-content/uploads/2021/07/digimon_website_slider.png
END:VEVENT
BEGIN:VEVENT
DTSTART;TZID=America/New_York:20230107T160000
DTEND;TZID=America/New_York:20230107T220000
DTSTAMP:20260424T113605
CREATED:20210731T175302Z
LAST-MODIFIED:20240410T175759Z
UID:10000803-1673107200-1673128800@staging.tatesgaming.com
SUMMARY:Digimon TCG Tournament
DESCRIPTION:Digimon players\, join us for our weekly Digimon TCG tournaments! \n• Dates: Every Saturday\n• Start Time: 4:00 pm\n• Registration ends @ 3:50 pm\n• Entry: $10\n• Format: Standard\, Swiss\, Best of 3\, 50 minute rounds \nPrize support is based on the number of entrants.
URL:https://staging.tatesgaming.com/event/digimon-tcg-tournament/2023-01-07/
CATEGORIES:Digimon
ATTACH;FMTTYPE=image/png:https://staging.tatesgaming.com/wp-content/uploads/2021/07/digimon_website_slider.png
END:VEVENT
BEGIN:VEVENT
DTSTART;TZID=America/New_York:20221217T160000
DTEND;TZID=America/New_York:20221217T220000
DTSTAMP:20260424T113605
CREATED:20210731T175302Z
LAST-MODIFIED:20240410T175759Z
UID:10000802-1671292800-1671314400@staging.tatesgaming.com
SUMMARY:Digimon TCG Tournament
DESCRIPTION:Digimon players\, join us for our weekly Digimon TCG tournaments! \n• Dates: Every Saturday\n• Start Time: 4:00 pm\n• Registration ends @ 3:50 pm\n• Entry: $10\n• Format: Standard\, Swiss\, Best of 3\, 50 minute rounds \nPrize support is based on the number of entrants.
URL:https://staging.tatesgaming.com/event/digimon-tcg-tournament/2022-12-17/
CATEGORIES:Digimon
ATTACH;FMTTYPE=image/png:https://staging.tatesgaming.com/wp-content/uploads/2021/07/digimon_website_slider.png
END:VEVENT
BEGIN:VEVENT
DTSTART;TZID=America/New_York:20221210T160000
DTEND;TZID=America/New_York:20221210T220000
DTSTAMP:20260424T113605
CREATED:20210731T175302Z
LAST-MODIFIED:20240410T175759Z
UID:10000801-1670688000-1670709600@staging.tatesgaming.com
SUMMARY:Digimon TCG Tournament
DESCRIPTION:Digimon players\, join us for our weekly Digimon TCG tournaments! \n• Dates: Every Saturday\n• Start Time: 4:00 pm\n• Registration ends @ 3:50 pm\n• Entry: $10\n• Format: Standard\, Swiss\, Best of 3\, 50 minute rounds \nPrize support is based on the number of entrants.
URL:https://staging.tatesgaming.com/event/digimon-tcg-tournament/2022-12-10/
CATEGORIES:Digimon
ATTACH;FMTTYPE=image/png:https://staging.tatesgaming.com/wp-content/uploads/2021/07/digimon_website_slider.png
END:VEVENT
BEGIN:VEVENT
DTSTART;TZID=America/New_York:20221203T160000
DTEND;TZID=America/New_York:20221203T220000
DTSTAMP:20260424T113605
CREATED:20210731T175302Z
LAST-MODIFIED:20240410T175759Z
UID:10000800-1670083200-1670104800@staging.tatesgaming.com
SUMMARY:Digimon TCG Tournament
DESCRIPTION:Digimon players\, join us for our weekly Digimon TCG tournaments! \n• Dates: Every Saturday\n• Start Time: 4:00 pm\n• Registration ends @ 3:50 pm\n• Entry: $10\n• Format: Standard\, Swiss\, Best of 3\, 50 minute rounds \nPrize support is based on the number of entrants.
URL:https://staging.tatesgaming.com/event/digimon-tcg-tournament/2022-12-03/
CATEGORIES:Digimon
ATTACH;FMTTYPE=image/png:https://staging.tatesgaming.com/wp-content/uploads/2021/07/digimon_website_slider.png
END:VEVENT
BEGIN:VEVENT
DTSTART;TZID=America/New_York:20221126T160000
DTEND;TZID=America/New_York:20221126T220000
DTSTAMP:20260424T113605
CREATED:20210731T175302Z
LAST-MODIFIED:20240410T175759Z
UID:10000799-1669478400-1669500000@staging.tatesgaming.com
SUMMARY:Digimon TCG Tournament
DESCRIPTION:Digimon players\, join us for our weekly Digimon TCG tournaments! \n• Dates: Every Saturday\n• Start Time: 4:00 pm\n• Registration ends @ 3:50 pm\n• Entry: $10\n• Format: Standard\, Swiss\, Best of 3\, 50 minute rounds \nPrize support is based on the number of entrants.
URL:https://staging.tatesgaming.com/event/digimon-tcg-tournament/2022-11-26/
CATEGORIES:Digimon
ATTACH;FMTTYPE=image/png:https://staging.tatesgaming.com/wp-content/uploads/2021/07/digimon_website_slider.png
END:VEVENT
BEGIN:VEVENT
DTSTART;TZID=America/New_York:20221119T160000
DTEND;TZID=America/New_York:20221119T220000
DTSTAMP:20260424T113605
CREATED:20210731T175302Z
LAST-MODIFIED:20240410T175759Z
UID:10000798-1668873600-1668895200@staging.tatesgaming.com
SUMMARY:Digimon TCG Tournament
DESCRIPTION:Digimon players\, join us for our weekly Digimon TCG tournaments! \n• Dates: Every Saturday\n• Start Time: 4:00 pm\n• Registration ends @ 3:50 pm\n• Entry: $10\n• Format: Standard\, Swiss\, Best of 3\, 50 minute rounds \nPrize support is based on the number of entrants.
URL:https://staging.tatesgaming.com/event/digimon-tcg-tournament/2022-11-19/
CATEGORIES:Digimon
ATTACH;FMTTYPE=image/png:https://staging.tatesgaming.com/wp-content/uploads/2021/07/digimon_website_slider.png
END:VEVENT
BEGIN:VEVENT
DTSTART;TZID=America/New_York:20221112T160000
DTEND;TZID=America/New_York:20221112T220000
DTSTAMP:20260424T113605
CREATED:20210731T175302Z
LAST-MODIFIED:20240410T175759Z
UID:10000797-1668268800-1668290400@staging.tatesgaming.com
SUMMARY:Digimon TCG Tournament
DESCRIPTION:Digimon players\, join us for our weekly Digimon TCG tournaments! \n• Dates: Every Saturday\n• Start Time: 4:00 pm\n• Registration ends @ 3:50 pm\n• Entry: $10\n• Format: Standard\, Swiss\, Best of 3\, 50 minute rounds \nPrize support is based on the number of entrants.
URL:https://staging.tatesgaming.com/event/digimon-tcg-tournament/2022-11-12/
CATEGORIES:Digimon
ATTACH;FMTTYPE=image/png:https://staging.tatesgaming.com/wp-content/uploads/2021/07/digimon_website_slider.png
END:VEVENT
BEGIN:VEVENT
DTSTART;TZID=America/New_York:20221105T160000
DTEND;TZID=America/New_York:20221105T220000
DTSTAMP:20260424T113605
CREATED:20210731T175302Z
LAST-MODIFIED:20240410T175759Z
UID:10000796-1667664000-1667685600@staging.tatesgaming.com
SUMMARY:Digimon TCG Tournament
DESCRIPTION:Digimon players\, join us for our weekly Digimon TCG tournaments! \n• Dates: Every Saturday\n• Start Time: 4:00 pm\n• Registration ends @ 3:50 pm\n• Entry: $10\n• Format: Standard\, Swiss\, Best of 3\, 50 minute rounds \nPrize support is based on the number of entrants.
URL:https://staging.tatesgaming.com/event/digimon-tcg-tournament/2022-11-05/
CATEGORIES:Digimon
ATTACH;FMTTYPE=image/png:https://staging.tatesgaming.com/wp-content/uploads/2021/07/digimon_website_slider.png
END:VEVENT
BEGIN:VEVENT
DTSTART;TZID=America/New_York:20221029T160000
DTEND;TZID=America/New_York:20221029T220000
DTSTAMP:20260424T113605
CREATED:20210731T175302Z
LAST-MODIFIED:20240410T175759Z
UID:10000795-1667059200-1667080800@staging.tatesgaming.com
SUMMARY:Digimon TCG Tournament
DESCRIPTION:Digimon players\, join us for our weekly Digimon TCG tournaments! \n• Dates: Every Saturday\n• Start Time: 4:00 pm\n• Registration ends @ 3:50 pm\n• Entry: $10\n• Format: Standard\, Swiss\, Best of 3\, 50 minute rounds \nPrize support is based on the number of entrants.
URL:https://staging.tatesgaming.com/event/digimon-tcg-tournament/2022-10-29/
CATEGORIES:Digimon
ATTACH;FMTTYPE=image/png:https://staging.tatesgaming.com/wp-content/uploads/2021/07/digimon_website_slider.png
END:VEVENT
BEGIN:VEVENT
DTSTART;TZID=America/New_York:20221022T160000
DTEND;TZID=America/New_York:20221022T220000
DTSTAMP:20260424T113605
CREATED:20210731T175302Z
LAST-MODIFIED:20240410T175759Z
UID:10000794-1666454400-1666476000@staging.tatesgaming.com
SUMMARY:Digimon TCG Tournament
DESCRIPTION:Digimon players\, join us for our weekly Digimon TCG tournaments! \n• Dates: Every Saturday\n• Start Time: 4:00 pm\n• Registration ends @ 3:50 pm\n• Entry: $10\n• Format: Standard\, Swiss\, Best of 3\, 50 minute rounds \nPrize support is based on the number of entrants.
URL:https://staging.tatesgaming.com/event/digimon-tcg-tournament/2022-10-22/
CATEGORIES:Digimon
ATTACH;FMTTYPE=image/png:https://staging.tatesgaming.com/wp-content/uploads/2021/07/digimon_website_slider.png
END:VEVENT
BEGIN:VEVENT
DTSTART;TZID=America/New_York:20221015T160000
DTEND;TZID=America/New_York:20221015T220000
DTSTAMP:20260424T113605
CREATED:20210731T175302Z
LAST-MODIFIED:20240410T175759Z
UID:10000793-1665849600-1665871200@staging.tatesgaming.com
SUMMARY:Digimon TCG Tournament
DESCRIPTION:Digimon players\, join us for our weekly Digimon TCG tournaments! \n• Dates: Every Saturday\n• Start Time: 4:00 pm\n• Registration ends @ 3:50 pm\n• Entry: $10\n• Format: Standard\, Swiss\, Best of 3\, 50 minute rounds \nPrize support is based on the number of entrants.
URL:https://staging.tatesgaming.com/event/digimon-tcg-tournament/2022-10-15/
CATEGORIES:Digimon
ATTACH;FMTTYPE=image/png:https://staging.tatesgaming.com/wp-content/uploads/2021/07/digimon_website_slider.png
END:VEVENT
BEGIN:VEVENT
DTSTART;VALUE=DATE:20221014
DTEND;VALUE=DATE:20221015
DTSTAMP:20260424T113605
CREATED:20221010T194810Z
LAST-MODIFIED:20221010T194811Z
UID:10000854-1665705600-1665791999@staging.tatesgaming.com
SUMMARY:Digimon TCG Prerelease - Xros Encounter [BT-10]
DESCRIPTION:Digimon players! Join us for our BT-10 Xros Encounter Prerelease! Here are the details: \n• Date: Friday\, October 14th\, 2022\n• Time: 11am – 11pm*\n• Price: Booster Box – $90\n• Power Up Pack with each box purchase \n*While supplies last
URL:https://staging.tatesgaming.com/event/digimon-tcg-prerelease-xros-encounter-bt-10/
LOCATION:TATE’S Gaming Satellite\, 4580 N. University Drive\, Lauderhill\, FL\, 33351\, United States
CATEGORIES:Digimon,Slider Feature
ATTACH;FMTTYPE=image/png:https://staging.tatesgaming.com/wp-content/uploads/2022/10/bt10-prerelease-slider.png
GEO:26.1823829;-80.2509514
X-APPLE-STRUCTURED-LOCATION;VALUE=URI;X-ADDRESS=TATE’S Gaming Satellite 4580 N. University Drive Lauderhill FL 33351 United States;X-APPLE-RADIUS=500;X-TITLE=4580 N. University Drive:geo:-80.2509514,26.1823829
END:VEVENT
END:VCALENDAR