BEGIN:VCALENDAR
VERSION:2.0
PRODID:-//Tate&#039;s Gaming Satellite - ECPv6.15.20//NONSGML v1.0//EN
CALSCALE:GREGORIAN
METHOD:PUBLISH
X-WR-CALNAME:Tate&#039;s Gaming Satellite
X-ORIGINAL-URL:https://staging.tatesgaming.com
X-WR-CALDESC:Events for Tate&#039;s Gaming Satellite
REFRESH-INTERVAL;VALUE=DURATION:PT1H
X-Robots-Tag:noindex
X-PUBLISHED-TTL:PT1H
BEGIN:VTIMEZONE
TZID:America/New_York
BEGIN:DAYLIGHT
TZOFFSETFROM:-0500
TZOFFSETTO:-0400
TZNAME:EDT
DTSTART:20210314T070000
END:DAYLIGHT
BEGIN:STANDARD
TZOFFSETFROM:-0400
TZOFFSETTO:-0500
TZNAME:EST
DTSTART:20211107T060000
END:STANDARD
BEGIN:DAYLIGHT
TZOFFSETFROM:-0500
TZOFFSETTO:-0400
TZNAME:EDT
DTSTART:20220313T070000
END:DAYLIGHT
BEGIN:STANDARD
TZOFFSETFROM:-0400
TZOFFSETTO:-0500
TZNAME:EST
DTSTART:20221106T060000
END:STANDARD
BEGIN:DAYLIGHT
TZOFFSETFROM:-0500
TZOFFSETTO:-0400
TZNAME:EDT
DTSTART:20230312T070000
END:DAYLIGHT
BEGIN:STANDARD
TZOFFSETFROM:-0400
TZOFFSETTO:-0500
TZNAME:EST
DTSTART:20231105T060000
END:STANDARD
END:VTIMEZONE
BEGIN:VEVENT
DTSTART;TZID=America/New_York:20221008T160000
DTEND;TZID=America/New_York:20221008T220000
DTSTAMP:20260424T154634
CREATED:20210731T175302Z
LAST-MODIFIED:20240410T175759Z
UID:10000792-1665244800-1665266400@staging.tatesgaming.com
SUMMARY:Digimon TCG Tournament
DESCRIPTION:Digimon players\, join us for our weekly Digimon TCG tournaments! \n• Dates: Every Saturday\n• Start Time: 4:00 pm\n• Registration ends @ 3:50 pm\n• Entry: $10\n• Format: Standard\, Swiss\, Best of 3\, 50 minute rounds \nPrize support is based on the number of entrants.
URL:https://staging.tatesgaming.com/event/digimon-tcg-tournament/2022-10-08/
CATEGORIES:Digimon
ATTACH;FMTTYPE=image/png:https://staging.tatesgaming.com/wp-content/uploads/2021/07/digimon_website_slider.png
END:VEVENT
BEGIN:VEVENT
DTSTART;TZID=America/New_York:20221001T160000
DTEND;TZID=America/New_York:20221001T220000
DTSTAMP:20260424T154634
CREATED:20210731T175302Z
LAST-MODIFIED:20240410T175759Z
UID:10000791-1664640000-1664661600@staging.tatesgaming.com
SUMMARY:Digimon TCG Tournament
DESCRIPTION:Digimon players\, join us for our weekly Digimon TCG tournaments! \n• Dates: Every Saturday\n• Start Time: 4:00 pm\n• Registration ends @ 3:50 pm\n• Entry: $10\n• Format: Standard\, Swiss\, Best of 3\, 50 minute rounds \nPrize support is based on the number of entrants.
URL:https://staging.tatesgaming.com/event/digimon-tcg-tournament/2022-10-01/
CATEGORIES:Digimon
ATTACH;FMTTYPE=image/png:https://staging.tatesgaming.com/wp-content/uploads/2021/07/digimon_website_slider.png
END:VEVENT
BEGIN:VEVENT
DTSTART;TZID=America/New_York:20220924T160000
DTEND;TZID=America/New_York:20220924T220000
DTSTAMP:20260424T154634
CREATED:20210731T175302Z
LAST-MODIFIED:20240410T175759Z
UID:10000790-1664035200-1664056800@staging.tatesgaming.com
SUMMARY:Digimon TCG Tournament
DESCRIPTION:Digimon players\, join us for our weekly Digimon TCG tournaments! \n• Dates: Every Saturday\n• Start Time: 4:00 pm\n• Registration ends @ 3:50 pm\n• Entry: $10\n• Format: Standard\, Swiss\, Best of 3\, 50 minute rounds \nPrize support is based on the number of entrants.
URL:https://staging.tatesgaming.com/event/digimon-tcg-tournament/2022-09-24/
CATEGORIES:Digimon
ATTACH;FMTTYPE=image/png:https://staging.tatesgaming.com/wp-content/uploads/2021/07/digimon_website_slider.png
END:VEVENT
BEGIN:VEVENT
DTSTART;TZID=America/New_York:20220917T160000
DTEND;TZID=America/New_York:20220917T220000
DTSTAMP:20260424T154634
CREATED:20210731T175302Z
LAST-MODIFIED:20240410T175759Z
UID:10000789-1663430400-1663452000@staging.tatesgaming.com
SUMMARY:Digimon TCG Tournament
DESCRIPTION:Digimon players\, join us for our weekly Digimon TCG tournaments! \n• Dates: Every Saturday\n• Start Time: 4:00 pm\n• Registration ends @ 3:50 pm\n• Entry: $10\n• Format: Standard\, Swiss\, Best of 3\, 50 minute rounds \nPrize support is based on the number of entrants.
URL:https://staging.tatesgaming.com/event/digimon-tcg-tournament/2022-09-17/
CATEGORIES:Digimon
ATTACH;FMTTYPE=image/png:https://staging.tatesgaming.com/wp-content/uploads/2021/07/digimon_website_slider.png
END:VEVENT
BEGIN:VEVENT
DTSTART;TZID=America/New_York:20220910T160000
DTEND;TZID=America/New_York:20220910T220000
DTSTAMP:20260424T154634
CREATED:20210731T175302Z
LAST-MODIFIED:20240410T175759Z
UID:10000788-1662825600-1662847200@staging.tatesgaming.com
SUMMARY:Digimon TCG Tournament
DESCRIPTION:Digimon players\, join us for our weekly Digimon TCG tournaments! \n• Dates: Every Saturday\n• Start Time: 4:00 pm\n• Registration ends @ 3:50 pm\n• Entry: $10\n• Format: Standard\, Swiss\, Best of 3\, 50 minute rounds \nPrize support is based on the number of entrants.
URL:https://staging.tatesgaming.com/event/digimon-tcg-tournament/2022-09-10/
CATEGORIES:Digimon
ATTACH;FMTTYPE=image/png:https://staging.tatesgaming.com/wp-content/uploads/2021/07/digimon_website_slider.png
END:VEVENT
BEGIN:VEVENT
DTSTART;TZID=America/New_York:20220903T160000
DTEND;TZID=America/New_York:20220903T220000
DTSTAMP:20260424T154634
CREATED:20210731T175302Z
LAST-MODIFIED:20240410T175759Z
UID:10000787-1662220800-1662242400@staging.tatesgaming.com
SUMMARY:Digimon TCG Tournament
DESCRIPTION:Digimon players\, join us for our weekly Digimon TCG tournaments! \n• Dates: Every Saturday\n• Start Time: 4:00 pm\n• Registration ends @ 3:50 pm\n• Entry: $10\n• Format: Standard\, Swiss\, Best of 3\, 50 minute rounds \nPrize support is based on the number of entrants.
URL:https://staging.tatesgaming.com/event/digimon-tcg-tournament/2022-09-03/
CATEGORIES:Digimon
ATTACH;FMTTYPE=image/png:https://staging.tatesgaming.com/wp-content/uploads/2021/07/digimon_website_slider.png
END:VEVENT
BEGIN:VEVENT
DTSTART;TZID=America/New_York:20220827T160000
DTEND;TZID=America/New_York:20220827T220000
DTSTAMP:20260424T154634
CREATED:20210731T175302Z
LAST-MODIFIED:20240410T175759Z
UID:10000786-1661616000-1661637600@staging.tatesgaming.com
SUMMARY:Digimon TCG Tournament
DESCRIPTION:Digimon players\, join us for our weekly Digimon TCG tournaments! \n• Dates: Every Saturday\n• Start Time: 4:00 pm\n• Registration ends @ 3:50 pm\n• Entry: $10\n• Format: Standard\, Swiss\, Best of 3\, 50 minute rounds \nPrize support is based on the number of entrants.
URL:https://staging.tatesgaming.com/event/digimon-tcg-tournament/2022-08-27/
CATEGORIES:Digimon
ATTACH;FMTTYPE=image/png:https://staging.tatesgaming.com/wp-content/uploads/2021/07/digimon_website_slider.png
END:VEVENT
BEGIN:VEVENT
DTSTART;TZID=America/New_York:20220820T160000
DTEND;TZID=America/New_York:20220820T220000
DTSTAMP:20260424T154634
CREATED:20210731T175302Z
LAST-MODIFIED:20240410T175759Z
UID:10000785-1661011200-1661032800@staging.tatesgaming.com
SUMMARY:Digimon TCG Tournament
DESCRIPTION:Digimon players\, join us for our weekly Digimon TCG tournaments! \n• Dates: Every Saturday\n• Start Time: 4:00 pm\n• Registration ends @ 3:50 pm\n• Entry: $10\n• Format: Standard\, Swiss\, Best of 3\, 50 minute rounds \nPrize support is based on the number of entrants.
URL:https://staging.tatesgaming.com/event/digimon-tcg-tournament/2022-08-20/
CATEGORIES:Digimon
ATTACH;FMTTYPE=image/png:https://staging.tatesgaming.com/wp-content/uploads/2021/07/digimon_website_slider.png
END:VEVENT
BEGIN:VEVENT
DTSTART;TZID=America/New_York:20220813T160000
DTEND;TZID=America/New_York:20220813T220000
DTSTAMP:20260424T154634
CREATED:20210731T175302Z
LAST-MODIFIED:20240410T175759Z
UID:10000784-1660406400-1660428000@staging.tatesgaming.com
SUMMARY:Digimon TCG Tournament
DESCRIPTION:Digimon players\, join us for our weekly Digimon TCG tournaments! \n• Dates: Every Saturday\n• Start Time: 4:00 pm\n• Registration ends @ 3:50 pm\n• Entry: $10\n• Format: Standard\, Swiss\, Best of 3\, 50 minute rounds \nPrize support is based on the number of entrants.
URL:https://staging.tatesgaming.com/event/digimon-tcg-tournament/2022-08-13/
CATEGORIES:Digimon
ATTACH;FMTTYPE=image/png:https://staging.tatesgaming.com/wp-content/uploads/2021/07/digimon_website_slider.png
END:VEVENT
BEGIN:VEVENT
DTSTART;TZID=America/New_York:20220806T160000
DTEND;TZID=America/New_York:20220806T220000
DTSTAMP:20260424T154634
CREATED:20210731T175302Z
LAST-MODIFIED:20240410T175759Z
UID:10000783-1659801600-1659823200@staging.tatesgaming.com
SUMMARY:Digimon TCG Tournament
DESCRIPTION:Digimon players\, join us for our weekly Digimon TCG tournaments! \n• Dates: Every Saturday\n• Start Time: 4:00 pm\n• Registration ends @ 3:50 pm\n• Entry: $10\n• Format: Standard\, Swiss\, Best of 3\, 50 minute rounds \nPrize support is based on the number of entrants.
URL:https://staging.tatesgaming.com/event/digimon-tcg-tournament/2022-08-06/
CATEGORIES:Digimon
ATTACH;FMTTYPE=image/png:https://staging.tatesgaming.com/wp-content/uploads/2021/07/digimon_website_slider.png
END:VEVENT
BEGIN:VEVENT
DTSTART;TZID=America/New_York:20220730T160000
DTEND;TZID=America/New_York:20220730T220000
DTSTAMP:20260424T154634
CREATED:20210731T175302Z
LAST-MODIFIED:20240410T175759Z
UID:10000782-1659196800-1659218400@staging.tatesgaming.com
SUMMARY:Digimon TCG Tournament
DESCRIPTION:Digimon players\, join us for our weekly Digimon TCG tournaments! \n• Dates: Every Saturday\n• Start Time: 4:00 pm\n• Registration ends @ 3:50 pm\n• Entry: $10\n• Format: Standard\, Swiss\, Best of 3\, 50 minute rounds \nPrize support is based on the number of entrants.
URL:https://staging.tatesgaming.com/event/digimon-tcg-tournament/2022-07-30/
CATEGORIES:Digimon
ATTACH;FMTTYPE=image/png:https://staging.tatesgaming.com/wp-content/uploads/2021/07/digimon_website_slider.png
END:VEVENT
BEGIN:VEVENT
DTSTART;TZID=America/New_York:20220723T160000
DTEND;TZID=America/New_York:20220723T220000
DTSTAMP:20260424T154634
CREATED:20210731T175302Z
LAST-MODIFIED:20240410T175759Z
UID:10000781-1658592000-1658613600@staging.tatesgaming.com
SUMMARY:Digimon TCG Tournament
DESCRIPTION:Digimon players\, join us for our weekly Digimon TCG tournaments! \n• Dates: Every Saturday\n• Start Time: 4:00 pm\n• Registration ends @ 3:50 pm\n• Entry: $10\n• Format: Standard\, Swiss\, Best of 3\, 50 minute rounds \nPrize support is based on the number of entrants.
URL:https://staging.tatesgaming.com/event/digimon-tcg-tournament/2022-07-23/
CATEGORIES:Digimon
ATTACH;FMTTYPE=image/png:https://staging.tatesgaming.com/wp-content/uploads/2021/07/digimon_website_slider.png
END:VEVENT
BEGIN:VEVENT
DTSTART;TZID=America/New_York:20220716T160000
DTEND;TZID=America/New_York:20220716T220000
DTSTAMP:20260424T154634
CREATED:20210731T175302Z
LAST-MODIFIED:20240410T175759Z
UID:10000780-1657987200-1658008800@staging.tatesgaming.com
SUMMARY:Digimon TCG Tournament
DESCRIPTION:Digimon players\, join us for our weekly Digimon TCG tournaments! \n• Dates: Every Saturday\n• Start Time: 4:00 pm\n• Registration ends @ 3:50 pm\n• Entry: $10\n• Format: Standard\, Swiss\, Best of 3\, 50 minute rounds \nPrize support is based on the number of entrants.
URL:https://staging.tatesgaming.com/event/digimon-tcg-tournament/2022-07-16/
CATEGORIES:Digimon
ATTACH;FMTTYPE=image/png:https://staging.tatesgaming.com/wp-content/uploads/2021/07/digimon_website_slider.png
END:VEVENT
BEGIN:VEVENT
DTSTART;TZID=America/New_York:20220709T160000
DTEND;TZID=America/New_York:20220709T220000
DTSTAMP:20260424T154634
CREATED:20210731T175302Z
LAST-MODIFIED:20240410T175759Z
UID:10000779-1657382400-1657404000@staging.tatesgaming.com
SUMMARY:Digimon TCG Tournament
DESCRIPTION:Digimon players\, join us for our weekly Digimon TCG tournaments! \n• Dates: Every Saturday\n• Start Time: 4:00 pm\n• Registration ends @ 3:50 pm\n• Entry: $10\n• Format: Standard\, Swiss\, Best of 3\, 50 minute rounds \nPrize support is based on the number of entrants.
URL:https://staging.tatesgaming.com/event/digimon-tcg-tournament/2022-07-09/
CATEGORIES:Digimon
ATTACH;FMTTYPE=image/png:https://staging.tatesgaming.com/wp-content/uploads/2021/07/digimon_website_slider.png
END:VEVENT
BEGIN:VEVENT
DTSTART;TZID=America/New_York:20220702T160000
DTEND;TZID=America/New_York:20220702T220000
DTSTAMP:20260424T154634
CREATED:20210731T175302Z
LAST-MODIFIED:20240410T175759Z
UID:10000778-1656777600-1656799200@staging.tatesgaming.com
SUMMARY:Digimon TCG Tournament
DESCRIPTION:Digimon players\, join us for our weekly Digimon TCG tournaments! \n• Dates: Every Saturday\n• Start Time: 4:00 pm\n• Registration ends @ 3:50 pm\n• Entry: $10\n• Format: Standard\, Swiss\, Best of 3\, 50 minute rounds \nPrize support is based on the number of entrants.
URL:https://staging.tatesgaming.com/event/digimon-tcg-tournament/2022-07-02/
CATEGORIES:Digimon
ATTACH;FMTTYPE=image/png:https://staging.tatesgaming.com/wp-content/uploads/2021/07/digimon_website_slider.png
END:VEVENT
BEGIN:VEVENT
DTSTART;TZID=America/New_York:20220625T160000
DTEND;TZID=America/New_York:20220625T220000
DTSTAMP:20260424T154634
CREATED:20210731T175302Z
LAST-MODIFIED:20240410T175759Z
UID:10000777-1656172800-1656194400@staging.tatesgaming.com
SUMMARY:Digimon TCG Tournament
DESCRIPTION:Digimon players\, join us for our weekly Digimon TCG tournaments! \n• Dates: Every Saturday\n• Start Time: 4:00 pm\n• Registration ends @ 3:50 pm\n• Entry: $10\n• Format: Standard\, Swiss\, Best of 3\, 50 minute rounds \nPrize support is based on the number of entrants.
URL:https://staging.tatesgaming.com/event/digimon-tcg-tournament/2022-06-25/
CATEGORIES:Digimon
ATTACH;FMTTYPE=image/png:https://staging.tatesgaming.com/wp-content/uploads/2021/07/digimon_website_slider.png
END:VEVENT
BEGIN:VEVENT
DTSTART;TZID=America/New_York:20220618T160000
DTEND;TZID=America/New_York:20220618T220000
DTSTAMP:20260424T154634
CREATED:20210731T175302Z
LAST-MODIFIED:20240410T175759Z
UID:10000776-1655568000-1655589600@staging.tatesgaming.com
SUMMARY:Digimon TCG Tournament
DESCRIPTION:Digimon players\, join us for our weekly Digimon TCG tournaments! \n• Dates: Every Saturday\n• Start Time: 4:00 pm\n• Registration ends @ 3:50 pm\n• Entry: $10\n• Format: Standard\, Swiss\, Best of 3\, 50 minute rounds \nPrize support is based on the number of entrants.
URL:https://staging.tatesgaming.com/event/digimon-tcg-tournament/2022-06-18/
CATEGORIES:Digimon
ATTACH;FMTTYPE=image/png:https://staging.tatesgaming.com/wp-content/uploads/2021/07/digimon_website_slider.png
END:VEVENT
BEGIN:VEVENT
DTSTART;TZID=America/New_York:20220611T160000
DTEND;TZID=America/New_York:20220611T220000
DTSTAMP:20260424T154634
CREATED:20210731T175302Z
LAST-MODIFIED:20240410T175759Z
UID:10000775-1654963200-1654984800@staging.tatesgaming.com
SUMMARY:Digimon TCG Tournament
DESCRIPTION:Digimon players\, join us for our weekly Digimon TCG tournaments! \n• Dates: Every Saturday\n• Start Time: 4:00 pm\n• Registration ends @ 3:50 pm\n• Entry: $10\n• Format: Standard\, Swiss\, Best of 3\, 50 minute rounds \nPrize support is based on the number of entrants.
URL:https://staging.tatesgaming.com/event/digimon-tcg-tournament/2022-06-11/
CATEGORIES:Digimon
ATTACH;FMTTYPE=image/png:https://staging.tatesgaming.com/wp-content/uploads/2021/07/digimon_website_slider.png
END:VEVENT
BEGIN:VEVENT
DTSTART;TZID=America/New_York:20220604T160000
DTEND;TZID=America/New_York:20220604T220000
DTSTAMP:20260424T154634
CREATED:20210731T175302Z
LAST-MODIFIED:20240410T175759Z
UID:10000774-1654358400-1654380000@staging.tatesgaming.com
SUMMARY:Digimon TCG Tournament
DESCRIPTION:Digimon players\, join us for our weekly Digimon TCG tournaments! \n• Dates: Every Saturday\n• Start Time: 4:00 pm\n• Registration ends @ 3:50 pm\n• Entry: $10\n• Format: Standard\, Swiss\, Best of 3\, 50 minute rounds \nPrize support is based on the number of entrants.
URL:https://staging.tatesgaming.com/event/digimon-tcg-tournament/2022-06-04/
CATEGORIES:Digimon
ATTACH;FMTTYPE=image/png:https://staging.tatesgaming.com/wp-content/uploads/2021/07/digimon_website_slider.png
END:VEVENT
BEGIN:VEVENT
DTSTART;TZID=America/New_York:20220528T160000
DTEND;TZID=America/New_York:20220528T220000
DTSTAMP:20260424T154634
CREATED:20210731T175302Z
LAST-MODIFIED:20240410T175759Z
UID:10000773-1653753600-1653775200@staging.tatesgaming.com
SUMMARY:Digimon TCG Tournament
DESCRIPTION:Digimon players\, join us for our weekly Digimon TCG tournaments! \n• Dates: Every Saturday\n• Start Time: 4:00 pm\n• Registration ends @ 3:50 pm\n• Entry: $10\n• Format: Standard\, Swiss\, Best of 3\, 50 minute rounds \nPrize support is based on the number of entrants.
URL:https://staging.tatesgaming.com/event/digimon-tcg-tournament/2022-05-28/
CATEGORIES:Digimon
ATTACH;FMTTYPE=image/png:https://staging.tatesgaming.com/wp-content/uploads/2021/07/digimon_website_slider.png
END:VEVENT
BEGIN:VEVENT
DTSTART;TZID=America/New_York:20220521T160000
DTEND;TZID=America/New_York:20220521T220000
DTSTAMP:20260424T154634
CREATED:20210731T175302Z
LAST-MODIFIED:20240410T175759Z
UID:10000772-1653148800-1653170400@staging.tatesgaming.com
SUMMARY:Digimon TCG Tournament
DESCRIPTION:Digimon players\, join us for our weekly Digimon TCG tournaments! \n• Dates: Every Saturday\n• Start Time: 4:00 pm\n• Registration ends @ 3:50 pm\n• Entry: $10\n• Format: Standard\, Swiss\, Best of 3\, 50 minute rounds \nPrize support is based on the number of entrants.
URL:https://staging.tatesgaming.com/event/digimon-tcg-tournament/2022-05-21/
CATEGORIES:Digimon
ATTACH;FMTTYPE=image/png:https://staging.tatesgaming.com/wp-content/uploads/2021/07/digimon_website_slider.png
END:VEVENT
BEGIN:VEVENT
DTSTART;TZID=America/New_York:20220514T160000
DTEND;TZID=America/New_York:20220514T220000
DTSTAMP:20260424T154634
CREATED:20210731T175302Z
LAST-MODIFIED:20240410T175759Z
UID:10000771-1652544000-1652565600@staging.tatesgaming.com
SUMMARY:Digimon TCG Tournament
DESCRIPTION:Digimon players\, join us for our weekly Digimon TCG tournaments! \n• Dates: Every Saturday\n• Start Time: 4:00 pm\n• Registration ends @ 3:50 pm\n• Entry: $10\n• Format: Standard\, Swiss\, Best of 3\, 50 minute rounds \nPrize support is based on the number of entrants.
URL:https://staging.tatesgaming.com/event/digimon-tcg-tournament/2022-05-14/
CATEGORIES:Digimon
ATTACH;FMTTYPE=image/png:https://staging.tatesgaming.com/wp-content/uploads/2021/07/digimon_website_slider.png
END:VEVENT
BEGIN:VEVENT
DTSTART;TZID=America/New_York:20220507T160000
DTEND;TZID=America/New_York:20220507T220000
DTSTAMP:20260424T154634
CREATED:20210731T175302Z
LAST-MODIFIED:20240410T175759Z
UID:10000770-1651939200-1651960800@staging.tatesgaming.com
SUMMARY:Digimon TCG Tournament
DESCRIPTION:Digimon players\, join us for our weekly Digimon TCG tournaments! \n• Dates: Every Saturday\n• Start Time: 4:00 pm\n• Registration ends @ 3:50 pm\n• Entry: $10\n• Format: Standard\, Swiss\, Best of 3\, 50 minute rounds \nPrize support is based on the number of entrants.
URL:https://staging.tatesgaming.com/event/digimon-tcg-tournament/2022-05-07/
CATEGORIES:Digimon
ATTACH;FMTTYPE=image/png:https://staging.tatesgaming.com/wp-content/uploads/2021/07/digimon_website_slider.png
END:VEVENT
BEGIN:VEVENT
DTSTART;TZID=America/New_York:20220430T160000
DTEND;TZID=America/New_York:20220430T220000
DTSTAMP:20260424T154634
CREATED:20210731T175302Z
LAST-MODIFIED:20240410T175759Z
UID:10000769-1651334400-1651356000@staging.tatesgaming.com
SUMMARY:Digimon TCG Tournament
DESCRIPTION:Digimon players\, join us for our weekly Digimon TCG tournaments! \n• Dates: Every Saturday\n• Start Time: 4:00 pm\n• Registration ends @ 3:50 pm\n• Entry: $10\n• Format: Standard\, Swiss\, Best of 3\, 50 minute rounds \nPrize support is based on the number of entrants.
URL:https://staging.tatesgaming.com/event/digimon-tcg-tournament/2022-04-30/
CATEGORIES:Digimon
ATTACH;FMTTYPE=image/png:https://staging.tatesgaming.com/wp-content/uploads/2021/07/digimon_website_slider.png
END:VEVENT
BEGIN:VEVENT
DTSTART;TZID=America/New_York:20220423T160000
DTEND;TZID=America/New_York:20220423T220000
DTSTAMP:20260424T154634
CREATED:20210731T175302Z
LAST-MODIFIED:20240410T175759Z
UID:10000768-1650729600-1650751200@staging.tatesgaming.com
SUMMARY:Digimon TCG Tournament
DESCRIPTION:Digimon players\, join us for our weekly Digimon TCG tournaments! \n• Dates: Every Saturday\n• Start Time: 4:00 pm\n• Registration ends @ 3:50 pm\n• Entry: $10\n• Format: Standard\, Swiss\, Best of 3\, 50 minute rounds \nPrize support is based on the number of entrants.
URL:https://staging.tatesgaming.com/event/digimon-tcg-tournament/2022-04-23/
CATEGORIES:Digimon
ATTACH;FMTTYPE=image/png:https://staging.tatesgaming.com/wp-content/uploads/2021/07/digimon_website_slider.png
END:VEVENT
BEGIN:VEVENT
DTSTART;TZID=America/New_York:20220416T160000
DTEND;TZID=America/New_York:20220416T220000
DTSTAMP:20260424T154634
CREATED:20210731T175302Z
LAST-MODIFIED:20240410T175759Z
UID:10000767-1650124800-1650146400@staging.tatesgaming.com
SUMMARY:Digimon TCG Tournament
DESCRIPTION:Digimon players\, join us for our weekly Digimon TCG tournaments! \n• Dates: Every Saturday\n• Start Time: 4:00 pm\n• Registration ends @ 3:50 pm\n• Entry: $10\n• Format: Standard\, Swiss\, Best of 3\, 50 minute rounds \nPrize support is based on the number of entrants.
URL:https://staging.tatesgaming.com/event/digimon-tcg-tournament/2022-04-16/
CATEGORIES:Digimon
ATTACH;FMTTYPE=image/png:https://staging.tatesgaming.com/wp-content/uploads/2021/07/digimon_website_slider.png
END:VEVENT
BEGIN:VEVENT
DTSTART;TZID=America/New_York:20220409T160000
DTEND;TZID=America/New_York:20220409T220000
DTSTAMP:20260424T154634
CREATED:20210731T175302Z
LAST-MODIFIED:20240410T175759Z
UID:10000766-1649520000-1649541600@staging.tatesgaming.com
SUMMARY:Digimon TCG Tournament
DESCRIPTION:Digimon players\, join us for our weekly Digimon TCG tournaments! \n• Dates: Every Saturday\n• Start Time: 4:00 pm\n• Registration ends @ 3:50 pm\n• Entry: $10\n• Format: Standard\, Swiss\, Best of 3\, 50 minute rounds \nPrize support is based on the number of entrants.
URL:https://staging.tatesgaming.com/event/digimon-tcg-tournament/2022-04-09/
CATEGORIES:Digimon
ATTACH;FMTTYPE=image/png:https://staging.tatesgaming.com/wp-content/uploads/2021/07/digimon_website_slider.png
END:VEVENT
BEGIN:VEVENT
DTSTART;TZID=America/New_York:20220402T160000
DTEND;TZID=America/New_York:20220402T220000
DTSTAMP:20260424T154634
CREATED:20210731T175302Z
LAST-MODIFIED:20240410T175759Z
UID:10000765-1648915200-1648936800@staging.tatesgaming.com
SUMMARY:Digimon TCG Tournament
DESCRIPTION:Digimon players\, join us for our weekly Digimon TCG tournaments! \n• Dates: Every Saturday\n• Start Time: 4:00 pm\n• Registration ends @ 3:50 pm\n• Entry: $10\n• Format: Standard\, Swiss\, Best of 3\, 50 minute rounds \nPrize support is based on the number of entrants.
URL:https://staging.tatesgaming.com/event/digimon-tcg-tournament/2022-04-02/
CATEGORIES:Digimon
ATTACH;FMTTYPE=image/png:https://staging.tatesgaming.com/wp-content/uploads/2021/07/digimon_website_slider.png
END:VEVENT
BEGIN:VEVENT
DTSTART;TZID=America/New_York:20220326T160000
DTEND;TZID=America/New_York:20220326T220000
DTSTAMP:20260424T154634
CREATED:20210731T175302Z
LAST-MODIFIED:20240410T175759Z
UID:10000764-1648310400-1648332000@staging.tatesgaming.com
SUMMARY:Digimon TCG Tournament
DESCRIPTION:Digimon players\, join us for our weekly Digimon TCG tournaments! \n• Dates: Every Saturday\n• Start Time: 4:00 pm\n• Registration ends @ 3:50 pm\n• Entry: $10\n• Format: Standard\, Swiss\, Best of 3\, 50 minute rounds \nPrize support is based on the number of entrants.
URL:https://staging.tatesgaming.com/event/digimon-tcg-tournament/2022-03-26/
CATEGORIES:Digimon
ATTACH;FMTTYPE=image/png:https://staging.tatesgaming.com/wp-content/uploads/2021/07/digimon_website_slider.png
END:VEVENT
BEGIN:VEVENT
DTSTART;TZID=America/New_York:20220319T160000
DTEND;TZID=America/New_York:20220319T220000
DTSTAMP:20260424T154634
CREATED:20210731T175302Z
LAST-MODIFIED:20240410T175759Z
UID:10000763-1647705600-1647727200@staging.tatesgaming.com
SUMMARY:Digimon TCG Tournament
DESCRIPTION:Digimon players\, join us for our weekly Digimon TCG tournaments! \n• Dates: Every Saturday\n• Start Time: 4:00 pm\n• Registration ends @ 3:50 pm\n• Entry: $10\n• Format: Standard\, Swiss\, Best of 3\, 50 minute rounds \nPrize support is based on the number of entrants.
URL:https://staging.tatesgaming.com/event/digimon-tcg-tournament/2022-03-19/
CATEGORIES:Digimon
ATTACH;FMTTYPE=image/png:https://staging.tatesgaming.com/wp-content/uploads/2021/07/digimon_website_slider.png
END:VEVENT
END:VCALENDAR