BEGIN:VCALENDAR
VERSION:2.0
PRODID:-//Tate&#039;s Gaming Satellite - ECPv6.15.20//NONSGML v1.0//EN
CALSCALE:GREGORIAN
METHOD:PUBLISH
X-WR-CALNAME:Tate&#039;s Gaming Satellite
X-ORIGINAL-URL:https://staging.tatesgaming.com
X-WR-CALDESC:Events for Tate&#039;s Gaming Satellite
REFRESH-INTERVAL;VALUE=DURATION:PT1H
X-Robots-Tag:noindex
X-PUBLISHED-TTL:PT1H
BEGIN:VTIMEZONE
TZID:America/New_York
BEGIN:DAYLIGHT
TZOFFSETFROM:-0500
TZOFFSETTO:-0400
TZNAME:EDT
DTSTART:20180311T070000
END:DAYLIGHT
BEGIN:STANDARD
TZOFFSETFROM:-0400
TZOFFSETTO:-0500
TZNAME:EST
DTSTART:20181104T060000
END:STANDARD
BEGIN:DAYLIGHT
TZOFFSETFROM:-0500
TZOFFSETTO:-0400
TZNAME:EDT
DTSTART:20190310T070000
END:DAYLIGHT
BEGIN:STANDARD
TZOFFSETFROM:-0400
TZOFFSETTO:-0500
TZNAME:EST
DTSTART:20191103T060000
END:STANDARD
BEGIN:DAYLIGHT
TZOFFSETFROM:-0500
TZOFFSETTO:-0400
TZNAME:EDT
DTSTART:20200308T070000
END:DAYLIGHT
BEGIN:STANDARD
TZOFFSETFROM:-0400
TZOFFSETTO:-0500
TZNAME:EST
DTSTART:20201101T060000
END:STANDARD
BEGIN:DAYLIGHT
TZOFFSETFROM:-0500
TZOFFSETTO:-0400
TZNAME:EDT
DTSTART:20210314T070000
END:DAYLIGHT
BEGIN:STANDARD
TZOFFSETFROM:-0400
TZOFFSETTO:-0500
TZNAME:EST
DTSTART:20211107T060000
END:STANDARD
END:VTIMEZONE
BEGIN:VEVENT
DTSTART;TZID=America/New_York:20200329T100000
DTEND;TZID=America/New_York:20200329T170000
DTSTAMP:20260422T142235
CREATED:20200229T160706Z
LAST-MODIFIED:20200229T160758Z
UID:10000677-1585476000-1585501200@staging.tatesgaming.com
SUMMARY:27th Anniversary TATE'S Tent Sale
DESCRIPTION:Join us for the 27th Anniversary TATE’S Sale! \nSaturday\, March 28\, 2020; 10am-8pm\nSunday\, March 29\, 2020; 10am-5pm \nExtra special tent sale savings!\nYou will only find these deals outside our Lauderhill location in the huge tent!\nvvvvvvvvvvvvvvvvvvvvvvvvvvv\nComics 2 for $1 or 75¢ each\nFill up an entire longbox with comics for only $55!\nFill a shortbox for $45!\nGraphic Novels & Books 50% OFF\nManga 3 for $10 or $5 each\nMagazines 3 for $1 or 50¢ each\nToys and Action Figures 2 for $10 or $6 each\nT-Shirts 3 for $25 or $10 each\nDVDs 3 for $10 or $5 each\n+ huge discounts on high-ticket statues\, vinyl toys & more!! \nInside the store!\nThese offers are valid on stuff inside at both the Lauderhill & Boynton locations.\nvvvvvvvvvvvvvvvvvvvvvvvvvvv\nAll our back issue comics 50% OFF\nEverything else inside the store 10% OFF \nAt the Lauderhill location only!\nvvvvvvvvvvvvvvvvvvvvvvvvvvv\nSaturday and Sunday 11am-4pm:\nEnjoy FREE shirt printing* of our exclusive commemorative designs by The Fine Print Shoppe!\n*The printing is totally FREE on your own blank shirts! Bring ‘em! We will also have a limited supply of blanks for sale cheap!
URL:https://staging.tatesgaming.com/event/27th-anniversary-tates-tent-sale/2020-03-29/
CATEGORIES:Family Saturdays,TATE'S Comics
ATTACH;FMTTYPE=image/jpeg:https://staging.tatesgaming.com/wp-content/uploads/2020/02/27AniSale_MainSlider_1000x400.jpg
END:VEVENT
BEGIN:VEVENT
DTSTART;TZID=America/New_York:20200328T100000
DTEND;TZID=America/New_York:20200328T200000
DTSTAMP:20260422T142235
CREATED:20200229T160706Z
LAST-MODIFIED:20200229T160758Z
UID:10000676-1585389600-1585425600@staging.tatesgaming.com
SUMMARY:27th Anniversary TATE'S Tent Sale
DESCRIPTION:Join us for the 27th Anniversary TATE’S Sale! \nSaturday\, March 28\, 2020; 10am-8pm\nSunday\, March 29\, 2020; 10am-5pm \nExtra special tent sale savings!\nYou will only find these deals outside our Lauderhill location in the huge tent!\nvvvvvvvvvvvvvvvvvvvvvvvvvvv\nComics 2 for $1 or 75¢ each\nFill up an entire longbox with comics for only $55!\nFill a shortbox for $45!\nGraphic Novels & Books 50% OFF\nManga 3 for $10 or $5 each\nMagazines 3 for $1 or 50¢ each\nToys and Action Figures 2 for $10 or $6 each\nT-Shirts 3 for $25 or $10 each\nDVDs 3 for $10 or $5 each\n+ huge discounts on high-ticket statues\, vinyl toys & more!! \nInside the store!\nThese offers are valid on stuff inside at both the Lauderhill & Boynton locations.\nvvvvvvvvvvvvvvvvvvvvvvvvvvv\nAll our back issue comics 50% OFF\nEverything else inside the store 10% OFF \nAt the Lauderhill location only!\nvvvvvvvvvvvvvvvvvvvvvvvvvvv\nSaturday and Sunday 11am-4pm:\nEnjoy FREE shirt printing* of our exclusive commemorative designs by The Fine Print Shoppe!\n*The printing is totally FREE on your own blank shirts! Bring ‘em! We will also have a limited supply of blanks for sale cheap!
URL:https://staging.tatesgaming.com/event/27th-anniversary-tates-tent-sale/2020-03-28/
CATEGORIES:Family Saturdays,TATE'S Comics
ATTACH;FMTTYPE=image/jpeg:https://staging.tatesgaming.com/wp-content/uploads/2020/02/27AniSale_MainSlider_1000x400.jpg
END:VEVENT
BEGIN:VEVENT
DTSTART;TZID=America/New_York:20191020T100000
DTEND;TZID=America/New_York:20191020T170000
DTSTAMP:20260422T142235
CREATED:20190903T161353Z
LAST-MODIFIED:20190903T161354Z
UID:10000630-1571565600-1571590800@staging.tatesgaming.com
SUMMARY:Neo-TATE'S Tent Sale
DESCRIPTION:OUTSIDE UNDER THE TENT (Lauderhill Only)\nComics 3 for $1 or 50¢ each\nFill up an entire longbox with comics for only $45!\nFill a shortbox for $30!\nComic Book Bundles 50% OFF\nGraphic Novels & Books 50% OFF\nManga $3 each\nMagazines 3 for $1 or 50¢ each\nToys and Action Figures 2 for $10 or $6 each\nT-Shirts 3 for $25 or $10 each\nDVDs 3 for $10 or $5 each \n+ huge discounts on high-ticket statues\, vinyl toys & more!! \nINSIDE THE STORE (Lauderhill & Boynton Beach)\nAll our back issue comics 50% OFF\nEverything else inside the store 10% OFF \nExtra fun stuff!  (Lauderhill Only)\nAll weekend:\nRule over Neo-Tate’s and sit upon Akira’s throne!\nCount the Capsules! Guess the number in the jar and win $$!\nBounce House! Bounce House!\nGrab a snack at 3KB’s Harukiya Café! \nAnd as always… FREE Souvenir Buttons while they last! \nAll weekend 11am-4pm: Enjoy FREE shirt printing* of our exclusive commemorative designs by The Fine Print Shoppe!\nThe exclusive designs will be posted the week before the event.\n*The printing is totally FREE on your own blank shirts! Bring ‘em! We will also have a limited supply of blanks for sale cheap!
URL:https://staging.tatesgaming.com/event/neo-tates-tent-sale/2019-10-20/
LOCATION:TATE’S Gaming Satellite\, 4580 N. University Drive\, Lauderhill\, FL\, 33351\, United States
CATEGORIES:Family Saturdays,Slider Feature,TATE'S Comics
ATTACH;FMTTYPE=image/jpeg:https://staging.tatesgaming.com/wp-content/uploads/2019/09/1019_NeoTatesSale_1000x400.jpg
GEO:26.1823829;-80.2509514
X-APPLE-STRUCTURED-LOCATION;VALUE=URI;X-ADDRESS=TATE’S Gaming Satellite 4580 N. University Drive Lauderhill FL 33351 United States;X-APPLE-RADIUS=500;X-TITLE=4580 N. University Drive:geo:-80.2509514,26.1823829
END:VEVENT
BEGIN:VEVENT
DTSTART;TZID=America/New_York:20191019T100000
DTEND;TZID=America/New_York:20191019T200000
DTSTAMP:20260422T142235
CREATED:20190903T161353Z
LAST-MODIFIED:20190903T161354Z
UID:10000629-1571479200-1571515200@staging.tatesgaming.com
SUMMARY:Neo-TATE'S Tent Sale
DESCRIPTION:OUTSIDE UNDER THE TENT (Lauderhill Only)\nComics 3 for $1 or 50¢ each\nFill up an entire longbox with comics for only $45!\nFill a shortbox for $30!\nComic Book Bundles 50% OFF\nGraphic Novels & Books 50% OFF\nManga $3 each\nMagazines 3 for $1 or 50¢ each\nToys and Action Figures 2 for $10 or $6 each\nT-Shirts 3 for $25 or $10 each\nDVDs 3 for $10 or $5 each \n+ huge discounts on high-ticket statues\, vinyl toys & more!! \nINSIDE THE STORE (Lauderhill & Boynton Beach)\nAll our back issue comics 50% OFF\nEverything else inside the store 10% OFF \nExtra fun stuff!  (Lauderhill Only)\nAll weekend:\nRule over Neo-Tate’s and sit upon Akira’s throne!\nCount the Capsules! Guess the number in the jar and win $$!\nBounce House! Bounce House!\nGrab a snack at 3KB’s Harukiya Café! \nAnd as always… FREE Souvenir Buttons while they last! \nAll weekend 11am-4pm: Enjoy FREE shirt printing* of our exclusive commemorative designs by The Fine Print Shoppe!\nThe exclusive designs will be posted the week before the event.\n*The printing is totally FREE on your own blank shirts! Bring ‘em! We will also have a limited supply of blanks for sale cheap!
URL:https://staging.tatesgaming.com/event/neo-tates-tent-sale/2019-10-19/
LOCATION:TATE’S Gaming Satellite\, 4580 N. University Drive\, Lauderhill\, FL\, 33351\, United States
CATEGORIES:Family Saturdays,Slider Feature,TATE'S Comics
ATTACH;FMTTYPE=image/jpeg:https://staging.tatesgaming.com/wp-content/uploads/2019/09/1019_NeoTatesSale_1000x400.jpg
GEO:26.1823829;-80.2509514
X-APPLE-STRUCTURED-LOCATION;VALUE=URI;X-ADDRESS=TATE’S Gaming Satellite 4580 N. University Drive Lauderhill FL 33351 United States;X-APPLE-RADIUS=500;X-TITLE=4580 N. University Drive:geo:-80.2509514,26.1823829
END:VEVENT
BEGIN:VEVENT
DTSTART;TZID=America/New_York:20190811T110000
DTEND;TZID=America/New_York:20190811T150000
DTSTAMP:20260422T142235
CREATED:20190802T170959Z
LAST-MODIFIED:20190802T170959Z
UID:10000074-1565521200-1565535600@staging.tatesgaming.com
SUMMARY:Star Wars Family Fun Day
DESCRIPTION:• 10% Off all Star Wars merchandise! \n• Meet Darth Vader! (12noon-2pm) \n• Full-Contact Lightsaber Combat Exhibition and Q&A by The Saber Legion’s Florida Charter (2pm) \n• Lando’s Xtreme Trivia Contest with Prizes 2:45pm \n• Star Wars coloring stations for the kids! \n• Make your own toy Lightsaber!
URL:https://staging.tatesgaming.com/event/star-wars-family-fun-day-2/
LOCATION:TATE’S Gaming Satellite\, 4580 N. University Drive\, Lauderhill\, FL\, 33351\, United States
CATEGORIES:Family Saturdays,Slider Feature,Star Wars
ATTACH;FMTTYPE=image/jpeg:https://staging.tatesgaming.com/wp-content/uploads/2019/08/0819_StarWarsDay_1000x400.jpg
GEO:26.1823829;-80.2509514
X-APPLE-STRUCTURED-LOCATION;VALUE=URI;X-ADDRESS=TATE’S Gaming Satellite 4580 N. University Drive Lauderhill FL 33351 United States;X-APPLE-RADIUS=500;X-TITLE=4580 N. University Drive:geo:-80.2509514,26.1823829
END:VEVENT
BEGIN:VEVENT
DTSTART;VALUE=DATE:20190601
DTEND;VALUE=DATE:20190602
DTSTAMP:20260422T142235
CREATED:20190502T031553Z
LAST-MODIFIED:20190502T031554Z
UID:10000618-1559347200-1559433599@staging.tatesgaming.com
SUMMARY:International Tabletop Day 2019 at TATE'S
DESCRIPTION:Don’t miss the 7th Annual International Tabletop Day celebration at TATE’S! \nJoin us for a day of fun\, games and prizes on International Tabletop Day! \nThe mission of this special day is to play more games! \n• 10% off everything in the Gaming Satellite ALL DAY!\n• Tabletop Game Demos from 11am-5pm\n• Fun for all ages! Free!\n• Open tabletop game play all day long!\n• Prizes and giveaways all day long! \nOur 2019 Tabletop Game Day Demos are:\n• Sheriff of Nottingham\n• DC Spyfall\n• One Night Ultimate Werewolf\n• Decrypto\n• Tsuro\n• Sagrada \nPlus\, Dungeons and Dragons intro demos starting at Noon! \nLearn more about this international day of games at: tabletopday.com and be sure to hashtag #tabletopday on all the socials!
URL:https://staging.tatesgaming.com/event/international-tabletop-day-2019-at-tates/
LOCATION:TATE’S Gaming Satellite\, 4580 N. University Drive\, Lauderhill\, FL\, 33351\, United States
CATEGORIES:Demo Games,Family Saturdays,Slider Feature
ATTACH;FMTTYPE=image/jpeg:https://staging.tatesgaming.com/wp-content/uploads/2019/05/TabletopDayFlyer_0619_1000x500.jpg
GEO:26.1823829;-80.2509514
X-APPLE-STRUCTURED-LOCATION;VALUE=URI;X-ADDRESS=TATE’S Gaming Satellite 4580 N. University Drive Lauderhill FL 33351 United States;X-APPLE-RADIUS=500;X-TITLE=4580 N. University Drive:geo:-80.2509514,26.1823829
END:VEVENT
END:VCALENDAR