BEGIN:VCALENDAR
VERSION:2.0
PRODID:-//Tate&#039;s Gaming Satellite - ECPv6.15.20//NONSGML v1.0//EN
CALSCALE:GREGORIAN
METHOD:PUBLISH
X-ORIGINAL-URL:https://staging.tatesgaming.com
X-WR-CALDESC:Events for Tate&#039;s Gaming Satellite
REFRESH-INTERVAL;VALUE=DURATION:PT1H
X-Robots-Tag:noindex
X-PUBLISHED-TTL:PT1H
BEGIN:VTIMEZONE
TZID:America/New_York
BEGIN:DAYLIGHT
TZOFFSETFROM:-0500
TZOFFSETTO:-0400
TZNAME:EDT
DTSTART:20230312T070000
END:DAYLIGHT
BEGIN:STANDARD
TZOFFSETFROM:-0400
TZOFFSETTO:-0500
TZNAME:EST
DTSTART:20231105T060000
END:STANDARD
BEGIN:DAYLIGHT
TZOFFSETFROM:-0500
TZOFFSETTO:-0400
TZNAME:EDT
DTSTART:20240310T070000
END:DAYLIGHT
BEGIN:STANDARD
TZOFFSETFROM:-0400
TZOFFSETTO:-0500
TZNAME:EST
DTSTART:20241103T060000
END:STANDARD
BEGIN:DAYLIGHT
TZOFFSETFROM:-0500
TZOFFSETTO:-0400
TZNAME:EDT
DTSTART:20250309T070000
END:DAYLIGHT
BEGIN:STANDARD
TZOFFSETFROM:-0400
TZOFFSETTO:-0500
TZNAME:EST
DTSTART:20251102T060000
END:STANDARD
END:VTIMEZONE
BEGIN:VEVENT
DTSTART;TZID=America/New_York:20241102T200000
DTEND;TZID=America/New_York:20241102T230000
DTSTAMP:20260423T075451
CREATED:20240706T211703Z
LAST-MODIFIED:20240706T211703Z
UID:10003619-1730577600-1730588400@staging.tatesgaming.com
SUMMARY:Final Fantasy TCG
DESCRIPTION:Join us on Saturdays at 8pm for our weekly Final Fantasy TCG tournaments!
URL:https://staging.tatesgaming.com/event/final-fantasy-tcg/2024-11-02/
LOCATION:TATE’S Gaming Satellite\, 4580 N. University Drive\, Lauderhill\, FL\, 33351\, United States
CATEGORIES:Final Fantasy
ATTACH;FMTTYPE=image/jpeg:https://staging.tatesgaming.com/wp-content/uploads/2018/07/Final-Fantasy-TCG.jpg
GEO:26.1823829;-80.2509514
X-APPLE-STRUCTURED-LOCATION;VALUE=URI;X-ADDRESS=TATE’S Gaming Satellite 4580 N. University Drive Lauderhill FL 33351 United States;X-APPLE-RADIUS=500;X-TITLE=4580 N. University Drive:geo:-80.2509514,26.1823829
END:VEVENT
BEGIN:VEVENT
DTSTART;TZID=America/New_York:20241109T200000
DTEND;TZID=America/New_York:20241109T230000
DTSTAMP:20260423T075451
CREATED:20240706T211703Z
LAST-MODIFIED:20240706T211703Z
UID:10003620-1731182400-1731193200@staging.tatesgaming.com
SUMMARY:Final Fantasy TCG
DESCRIPTION:Join us on Saturdays at 8pm for our weekly Final Fantasy TCG tournaments!
URL:https://staging.tatesgaming.com/event/final-fantasy-tcg/2024-11-09/
LOCATION:TATE’S Gaming Satellite\, 4580 N. University Drive\, Lauderhill\, FL\, 33351\, United States
CATEGORIES:Final Fantasy
ATTACH;FMTTYPE=image/jpeg:https://staging.tatesgaming.com/wp-content/uploads/2018/07/Final-Fantasy-TCG.jpg
GEO:26.1823829;-80.2509514
X-APPLE-STRUCTURED-LOCATION;VALUE=URI;X-ADDRESS=TATE’S Gaming Satellite 4580 N. University Drive Lauderhill FL 33351 United States;X-APPLE-RADIUS=500;X-TITLE=4580 N. University Drive:geo:-80.2509514,26.1823829
END:VEVENT
BEGIN:VEVENT
DTSTART;TZID=America/New_York:20241116T200000
DTEND;TZID=America/New_York:20241116T230000
DTSTAMP:20260423T075451
CREATED:20240706T211703Z
LAST-MODIFIED:20240706T211703Z
UID:10003621-1731787200-1731798000@staging.tatesgaming.com
SUMMARY:Final Fantasy TCG
DESCRIPTION:Join us on Saturdays at 8pm for our weekly Final Fantasy TCG tournaments!
URL:https://staging.tatesgaming.com/event/final-fantasy-tcg/2024-11-16/
LOCATION:TATE’S Gaming Satellite\, 4580 N. University Drive\, Lauderhill\, FL\, 33351\, United States
CATEGORIES:Final Fantasy
ATTACH;FMTTYPE=image/jpeg:https://staging.tatesgaming.com/wp-content/uploads/2018/07/Final-Fantasy-TCG.jpg
GEO:26.1823829;-80.2509514
X-APPLE-STRUCTURED-LOCATION;VALUE=URI;X-ADDRESS=TATE’S Gaming Satellite 4580 N. University Drive Lauderhill FL 33351 United States;X-APPLE-RADIUS=500;X-TITLE=4580 N. University Drive:geo:-80.2509514,26.1823829
END:VEVENT
BEGIN:VEVENT
DTSTART;TZID=America/New_York:20241123T200000
DTEND;TZID=America/New_York:20241123T230000
DTSTAMP:20260423T075451
CREATED:20240706T211703Z
LAST-MODIFIED:20240706T211703Z
UID:10003622-1732392000-1732402800@staging.tatesgaming.com
SUMMARY:Final Fantasy TCG
DESCRIPTION:Join us on Saturdays at 8pm for our weekly Final Fantasy TCG tournaments!
URL:https://staging.tatesgaming.com/event/final-fantasy-tcg/2024-11-23/
LOCATION:TATE’S Gaming Satellite\, 4580 N. University Drive\, Lauderhill\, FL\, 33351\, United States
CATEGORIES:Final Fantasy
ATTACH;FMTTYPE=image/jpeg:https://staging.tatesgaming.com/wp-content/uploads/2018/07/Final-Fantasy-TCG.jpg
GEO:26.1823829;-80.2509514
X-APPLE-STRUCTURED-LOCATION;VALUE=URI;X-ADDRESS=TATE’S Gaming Satellite 4580 N. University Drive Lauderhill FL 33351 United States;X-APPLE-RADIUS=500;X-TITLE=4580 N. University Drive:geo:-80.2509514,26.1823829
END:VEVENT
BEGIN:VEVENT
DTSTART;TZID=America/New_York:20241130T200000
DTEND;TZID=America/New_York:20241130T230000
DTSTAMP:20260423T075451
CREATED:20240706T211703Z
LAST-MODIFIED:20240706T211703Z
UID:10003623-1732996800-1733007600@staging.tatesgaming.com
SUMMARY:Final Fantasy TCG
DESCRIPTION:Join us on Saturdays at 8pm for our weekly Final Fantasy TCG tournaments!
URL:https://staging.tatesgaming.com/event/final-fantasy-tcg/2024-11-30/
LOCATION:TATE’S Gaming Satellite\, 4580 N. University Drive\, Lauderhill\, FL\, 33351\, United States
CATEGORIES:Final Fantasy
ATTACH;FMTTYPE=image/jpeg:https://staging.tatesgaming.com/wp-content/uploads/2018/07/Final-Fantasy-TCG.jpg
GEO:26.1823829;-80.2509514
X-APPLE-STRUCTURED-LOCATION;VALUE=URI;X-ADDRESS=TATE’S Gaming Satellite 4580 N. University Drive Lauderhill FL 33351 United States;X-APPLE-RADIUS=500;X-TITLE=4580 N. University Drive:geo:-80.2509514,26.1823829
END:VEVENT
END:VCALENDAR