BEGIN:VCALENDAR
VERSION:2.0
PRODID:-//Tate&#039;s Gaming Satellite - ECPv6.15.20//NONSGML v1.0//EN
CALSCALE:GREGORIAN
METHOD:PUBLISH
X-ORIGINAL-URL:https://staging.tatesgaming.com
X-WR-CALDESC:Events for Tate&#039;s Gaming Satellite
REFRESH-INTERVAL;VALUE=DURATION:PT1H
X-Robots-Tag:noindex
X-PUBLISHED-TTL:PT1H
BEGIN:VTIMEZONE
TZID:America/New_York
BEGIN:DAYLIGHT
TZOFFSETFROM:-0500
TZOFFSETTO:-0400
TZNAME:EDT
DTSTART:20250309T070000
END:DAYLIGHT
BEGIN:STANDARD
TZOFFSETFROM:-0400
TZOFFSETTO:-0500
TZNAME:EST
DTSTART:20251102T060000
END:STANDARD
BEGIN:DAYLIGHT
TZOFFSETFROM:-0500
TZOFFSETTO:-0400
TZNAME:EDT
DTSTART:20260308T070000
END:DAYLIGHT
BEGIN:STANDARD
TZOFFSETFROM:-0400
TZOFFSETTO:-0500
TZNAME:EST
DTSTART:20261101T060000
END:STANDARD
BEGIN:DAYLIGHT
TZOFFSETFROM:-0500
TZOFFSETTO:-0400
TZNAME:EDT
DTSTART:20270314T070000
END:DAYLIGHT
BEGIN:STANDARD
TZOFFSETFROM:-0400
TZOFFSETTO:-0500
TZNAME:EST
DTSTART:20271107T060000
END:STANDARD
END:VTIMEZONE
BEGIN:VEVENT
DTSTART;TZID=America/New_York:20260801T200000
DTEND;TZID=America/New_York:20260801T230000
DTSTAMP:20260422T074910
CREATED:20240706T211703Z
LAST-MODIFIED:20240706T211703Z
UID:10003710-1785614400-1785625200@staging.tatesgaming.com
SUMMARY:Final Fantasy TCG
DESCRIPTION:Join us on Saturdays at 8pm for our weekly Final Fantasy TCG tournaments!
URL:https://staging.tatesgaming.com/event/final-fantasy-tcg/2026-08-01/
LOCATION:TATE’S Gaming Satellite\, 4580 N. University Drive\, Lauderhill\, FL\, 33351\, United States
CATEGORIES:Final Fantasy
ATTACH;FMTTYPE=image/jpeg:https://staging.tatesgaming.com/wp-content/uploads/2018/07/Final-Fantasy-TCG.jpg
GEO:26.1823829;-80.2509514
X-APPLE-STRUCTURED-LOCATION;VALUE=URI;X-ADDRESS=TATE’S Gaming Satellite 4580 N. University Drive Lauderhill FL 33351 United States;X-APPLE-RADIUS=500;X-TITLE=4580 N. University Drive:geo:-80.2509514,26.1823829
END:VEVENT
BEGIN:VEVENT
DTSTART;TZID=America/New_York:20260808T200000
DTEND;TZID=America/New_York:20260808T230000
DTSTAMP:20260422T074911
CREATED:20240706T211703Z
LAST-MODIFIED:20240706T211703Z
UID:10003711-1786219200-1786230000@staging.tatesgaming.com
SUMMARY:Final Fantasy TCG
DESCRIPTION:Join us on Saturdays at 8pm for our weekly Final Fantasy TCG tournaments!
URL:https://staging.tatesgaming.com/event/final-fantasy-tcg/2026-08-08/
LOCATION:TATE’S Gaming Satellite\, 4580 N. University Drive\, Lauderhill\, FL\, 33351\, United States
CATEGORIES:Final Fantasy
ATTACH;FMTTYPE=image/jpeg:https://staging.tatesgaming.com/wp-content/uploads/2018/07/Final-Fantasy-TCG.jpg
GEO:26.1823829;-80.2509514
X-APPLE-STRUCTURED-LOCATION;VALUE=URI;X-ADDRESS=TATE’S Gaming Satellite 4580 N. University Drive Lauderhill FL 33351 United States;X-APPLE-RADIUS=500;X-TITLE=4580 N. University Drive:geo:-80.2509514,26.1823829
END:VEVENT
BEGIN:VEVENT
DTSTART;TZID=America/New_York:20260815T200000
DTEND;TZID=America/New_York:20260815T230000
DTSTAMP:20260422T074911
CREATED:20240706T211703Z
LAST-MODIFIED:20240706T211703Z
UID:10003712-1786824000-1786834800@staging.tatesgaming.com
SUMMARY:Final Fantasy TCG
DESCRIPTION:Join us on Saturdays at 8pm for our weekly Final Fantasy TCG tournaments!
URL:https://staging.tatesgaming.com/event/final-fantasy-tcg/2026-08-15/
LOCATION:TATE’S Gaming Satellite\, 4580 N. University Drive\, Lauderhill\, FL\, 33351\, United States
CATEGORIES:Final Fantasy
ATTACH;FMTTYPE=image/jpeg:https://staging.tatesgaming.com/wp-content/uploads/2018/07/Final-Fantasy-TCG.jpg
GEO:26.1823829;-80.2509514
X-APPLE-STRUCTURED-LOCATION;VALUE=URI;X-ADDRESS=TATE’S Gaming Satellite 4580 N. University Drive Lauderhill FL 33351 United States;X-APPLE-RADIUS=500;X-TITLE=4580 N. University Drive:geo:-80.2509514,26.1823829
END:VEVENT
BEGIN:VEVENT
DTSTART;TZID=America/New_York:20260822T200000
DTEND;TZID=America/New_York:20260822T230000
DTSTAMP:20260422T074911
CREATED:20240706T211703Z
LAST-MODIFIED:20240706T211703Z
UID:10003713-1787428800-1787439600@staging.tatesgaming.com
SUMMARY:Final Fantasy TCG
DESCRIPTION:Join us on Saturdays at 8pm for our weekly Final Fantasy TCG tournaments!
URL:https://staging.tatesgaming.com/event/final-fantasy-tcg/2026-08-22/
LOCATION:TATE’S Gaming Satellite\, 4580 N. University Drive\, Lauderhill\, FL\, 33351\, United States
CATEGORIES:Final Fantasy
ATTACH;FMTTYPE=image/jpeg:https://staging.tatesgaming.com/wp-content/uploads/2018/07/Final-Fantasy-TCG.jpg
GEO:26.1823829;-80.2509514
X-APPLE-STRUCTURED-LOCATION;VALUE=URI;X-ADDRESS=TATE’S Gaming Satellite 4580 N. University Drive Lauderhill FL 33351 United States;X-APPLE-RADIUS=500;X-TITLE=4580 N. University Drive:geo:-80.2509514,26.1823829
END:VEVENT
BEGIN:VEVENT
DTSTART;TZID=America/New_York:20260829T200000
DTEND;TZID=America/New_York:20260829T230000
DTSTAMP:20260422T074911
CREATED:20240706T211703Z
LAST-MODIFIED:20240706T211703Z
UID:10003714-1788033600-1788044400@staging.tatesgaming.com
SUMMARY:Final Fantasy TCG
DESCRIPTION:Join us on Saturdays at 8pm for our weekly Final Fantasy TCG tournaments!
URL:https://staging.tatesgaming.com/event/final-fantasy-tcg/2026-08-29/
LOCATION:TATE’S Gaming Satellite\, 4580 N. University Drive\, Lauderhill\, FL\, 33351\, United States
CATEGORIES:Final Fantasy
ATTACH;FMTTYPE=image/jpeg:https://staging.tatesgaming.com/wp-content/uploads/2018/07/Final-Fantasy-TCG.jpg
GEO:26.1823829;-80.2509514
X-APPLE-STRUCTURED-LOCATION;VALUE=URI;X-ADDRESS=TATE’S Gaming Satellite 4580 N. University Drive Lauderhill FL 33351 United States;X-APPLE-RADIUS=500;X-TITLE=4580 N. University Drive:geo:-80.2509514,26.1823829
END:VEVENT
END:VCALENDAR