BEGIN:VCALENDAR
VERSION:2.0
PRODID:-//Tate&#039;s Gaming Satellite - ECPv6.15.20//NONSGML v1.0//EN
CALSCALE:GREGORIAN
METHOD:PUBLISH
X-WR-CALNAME:Tate&#039;s Gaming Satellite
X-ORIGINAL-URL:https://staging.tatesgaming.com
X-WR-CALDESC:Events for Tate&#039;s Gaming Satellite
REFRESH-INTERVAL;VALUE=DURATION:PT1H
X-Robots-Tag:noindex
X-PUBLISHED-TTL:PT1H
BEGIN:VTIMEZONE
TZID:America/New_York
BEGIN:DAYLIGHT
TZOFFSETFROM:-0500
TZOFFSETTO:-0400
TZNAME:EDT
DTSTART:20260308T070000
END:DAYLIGHT
BEGIN:STANDARD
TZOFFSETFROM:-0400
TZOFFSETTO:-0500
TZNAME:EST
DTSTART:20261101T060000
END:STANDARD
BEGIN:DAYLIGHT
TZOFFSETFROM:-0500
TZOFFSETTO:-0400
TZNAME:EDT
DTSTART:20270314T070000
END:DAYLIGHT
BEGIN:STANDARD
TZOFFSETFROM:-0400
TZOFFSETTO:-0500
TZNAME:EST
DTSTART:20271107T060000
END:STANDARD
BEGIN:DAYLIGHT
TZOFFSETFROM:-0500
TZOFFSETTO:-0400
TZNAME:EDT
DTSTART:20280312T070000
END:DAYLIGHT
BEGIN:STANDARD
TZOFFSETFROM:-0400
TZOFFSETTO:-0500
TZNAME:EST
DTSTART:20281105T060000
END:STANDARD
END:VTIMEZONE
BEGIN:VEVENT
DTSTART;TZID=America/New_York:20270306T200000
DTEND;TZID=America/New_York:20270306T230000
DTSTAMP:20260422T205625
CREATED:20240706T211703Z
LAST-MODIFIED:20240706T211703Z
UID:10003741-1804363200-1804374000@staging.tatesgaming.com
SUMMARY:Final Fantasy TCG
DESCRIPTION:Join us on Saturdays at 8pm for our weekly Final Fantasy TCG tournaments!
URL:https://staging.tatesgaming.com/event/final-fantasy-tcg/2027-03-06/
LOCATION:TATE’S Gaming Satellite\, 4580 N. University Drive\, Lauderhill\, FL\, 33351\, United States
CATEGORIES:Final Fantasy
ATTACH;FMTTYPE=image/jpeg:https://staging.tatesgaming.com/wp-content/uploads/2018/07/Final-Fantasy-TCG.jpg
GEO:26.1823829;-80.2509514
X-APPLE-STRUCTURED-LOCATION;VALUE=URI;X-ADDRESS=TATE’S Gaming Satellite 4580 N. University Drive Lauderhill FL 33351 United States;X-APPLE-RADIUS=500;X-TITLE=4580 N. University Drive:geo:-80.2509514,26.1823829
END:VEVENT
BEGIN:VEVENT
DTSTART;TZID=America/New_York:20270313T200000
DTEND;TZID=America/New_York:20270313T230000
DTSTAMP:20260422T205625
CREATED:20240706T211703Z
LAST-MODIFIED:20240706T211703Z
UID:10003742-1804968000-1804978800@staging.tatesgaming.com
SUMMARY:Final Fantasy TCG
DESCRIPTION:Join us on Saturdays at 8pm for our weekly Final Fantasy TCG tournaments!
URL:https://staging.tatesgaming.com/event/final-fantasy-tcg/2027-03-13/
LOCATION:TATE’S Gaming Satellite\, 4580 N. University Drive\, Lauderhill\, FL\, 33351\, United States
CATEGORIES:Final Fantasy
ATTACH;FMTTYPE=image/jpeg:https://staging.tatesgaming.com/wp-content/uploads/2018/07/Final-Fantasy-TCG.jpg
GEO:26.1823829;-80.2509514
X-APPLE-STRUCTURED-LOCATION;VALUE=URI;X-ADDRESS=TATE’S Gaming Satellite 4580 N. University Drive Lauderhill FL 33351 United States;X-APPLE-RADIUS=500;X-TITLE=4580 N. University Drive:geo:-80.2509514,26.1823829
END:VEVENT
BEGIN:VEVENT
DTSTART;TZID=America/New_York:20270320T200000
DTEND;TZID=America/New_York:20270320T230000
DTSTAMP:20260422T205625
CREATED:20240706T211703Z
LAST-MODIFIED:20240706T211703Z
UID:10003743-1805572800-1805583600@staging.tatesgaming.com
SUMMARY:Final Fantasy TCG
DESCRIPTION:Join us on Saturdays at 8pm for our weekly Final Fantasy TCG tournaments!
URL:https://staging.tatesgaming.com/event/final-fantasy-tcg/2027-03-20/
LOCATION:TATE’S Gaming Satellite\, 4580 N. University Drive\, Lauderhill\, FL\, 33351\, United States
CATEGORIES:Final Fantasy
ATTACH;FMTTYPE=image/jpeg:https://staging.tatesgaming.com/wp-content/uploads/2018/07/Final-Fantasy-TCG.jpg
GEO:26.1823829;-80.2509514
X-APPLE-STRUCTURED-LOCATION;VALUE=URI;X-ADDRESS=TATE’S Gaming Satellite 4580 N. University Drive Lauderhill FL 33351 United States;X-APPLE-RADIUS=500;X-TITLE=4580 N. University Drive:geo:-80.2509514,26.1823829
END:VEVENT
BEGIN:VEVENT
DTSTART;TZID=America/New_York:20270327T200000
DTEND;TZID=America/New_York:20270327T230000
DTSTAMP:20260422T205625
CREATED:20240706T211703Z
LAST-MODIFIED:20240706T211703Z
UID:10003744-1806177600-1806188400@staging.tatesgaming.com
SUMMARY:Final Fantasy TCG
DESCRIPTION:Join us on Saturdays at 8pm for our weekly Final Fantasy TCG tournaments!
URL:https://staging.tatesgaming.com/event/final-fantasy-tcg/2027-03-27/
LOCATION:TATE’S Gaming Satellite\, 4580 N. University Drive\, Lauderhill\, FL\, 33351\, United States
CATEGORIES:Final Fantasy
ATTACH;FMTTYPE=image/jpeg:https://staging.tatesgaming.com/wp-content/uploads/2018/07/Final-Fantasy-TCG.jpg
GEO:26.1823829;-80.2509514
X-APPLE-STRUCTURED-LOCATION;VALUE=URI;X-ADDRESS=TATE’S Gaming Satellite 4580 N. University Drive Lauderhill FL 33351 United States;X-APPLE-RADIUS=500;X-TITLE=4580 N. University Drive:geo:-80.2509514,26.1823829
END:VEVENT
END:VCALENDAR