BEGIN:VCALENDAR
VERSION:2.0
PRODID:-//Tate&#039;s Gaming Satellite - ECPv6.15.20//NONSGML v1.0//EN
CALSCALE:GREGORIAN
METHOD:PUBLISH
X-ORIGINAL-URL:https://staging.tatesgaming.com
X-WR-CALDESC:Events for Tate&#039;s Gaming Satellite
REFRESH-INTERVAL;VALUE=DURATION:PT1H
X-Robots-Tag:noindex
X-PUBLISHED-TTL:PT1H
BEGIN:VTIMEZONE
TZID:America/New_York
BEGIN:DAYLIGHT
TZOFFSETFROM:-0500
TZOFFSETTO:-0400
TZNAME:EDT
DTSTART:20260308T070000
END:DAYLIGHT
BEGIN:STANDARD
TZOFFSETFROM:-0400
TZOFFSETTO:-0500
TZNAME:EST
DTSTART:20261101T060000
END:STANDARD
BEGIN:DAYLIGHT
TZOFFSETFROM:-0500
TZOFFSETTO:-0400
TZNAME:EDT
DTSTART:20270314T070000
END:DAYLIGHT
BEGIN:STANDARD
TZOFFSETFROM:-0400
TZOFFSETTO:-0500
TZNAME:EST
DTSTART:20271107T060000
END:STANDARD
BEGIN:DAYLIGHT
TZOFFSETFROM:-0500
TZOFFSETTO:-0400
TZNAME:EDT
DTSTART:20280312T070000
END:DAYLIGHT
BEGIN:STANDARD
TZOFFSETFROM:-0400
TZOFFSETTO:-0500
TZNAME:EST
DTSTART:20281105T060000
END:STANDARD
END:VTIMEZONE
BEGIN:VEVENT
DTSTART;TZID=America/New_York:20270501T200000
DTEND;TZID=America/New_York:20270501T230000
DTSTAMP:20260423T000300
CREATED:20240706T211703Z
LAST-MODIFIED:20240706T211703Z
UID:10003749-1809201600-1809212400@staging.tatesgaming.com
SUMMARY:Final Fantasy TCG
DESCRIPTION:Join us on Saturdays at 8pm for our weekly Final Fantasy TCG tournaments!
URL:https://staging.tatesgaming.com/event/final-fantasy-tcg/2027-05-01/
LOCATION:TATE’S Gaming Satellite\, 4580 N. University Drive\, Lauderhill\, FL\, 33351\, United States
CATEGORIES:Final Fantasy
ATTACH;FMTTYPE=image/jpeg:https://staging.tatesgaming.com/wp-content/uploads/2018/07/Final-Fantasy-TCG.jpg
GEO:26.1823829;-80.2509514
X-APPLE-STRUCTURED-LOCATION;VALUE=URI;X-ADDRESS=TATE’S Gaming Satellite 4580 N. University Drive Lauderhill FL 33351 United States;X-APPLE-RADIUS=500;X-TITLE=4580 N. University Drive:geo:-80.2509514,26.1823829
END:VEVENT
BEGIN:VEVENT
DTSTART;TZID=America/New_York:20270508T200000
DTEND;TZID=America/New_York:20270508T230000
DTSTAMP:20260423T000300
CREATED:20240706T211703Z
LAST-MODIFIED:20240706T211703Z
UID:10003750-1809806400-1809817200@staging.tatesgaming.com
SUMMARY:Final Fantasy TCG
DESCRIPTION:Join us on Saturdays at 8pm for our weekly Final Fantasy TCG tournaments!
URL:https://staging.tatesgaming.com/event/final-fantasy-tcg/2027-05-08/
LOCATION:TATE’S Gaming Satellite\, 4580 N. University Drive\, Lauderhill\, FL\, 33351\, United States
CATEGORIES:Final Fantasy
ATTACH;FMTTYPE=image/jpeg:https://staging.tatesgaming.com/wp-content/uploads/2018/07/Final-Fantasy-TCG.jpg
GEO:26.1823829;-80.2509514
X-APPLE-STRUCTURED-LOCATION;VALUE=URI;X-ADDRESS=TATE’S Gaming Satellite 4580 N. University Drive Lauderhill FL 33351 United States;X-APPLE-RADIUS=500;X-TITLE=4580 N. University Drive:geo:-80.2509514,26.1823829
END:VEVENT
BEGIN:VEVENT
DTSTART;TZID=America/New_York:20270515T200000
DTEND;TZID=America/New_York:20270515T230000
DTSTAMP:20260423T000300
CREATED:20240706T211703Z
LAST-MODIFIED:20240706T211703Z
UID:10003751-1810411200-1810422000@staging.tatesgaming.com
SUMMARY:Final Fantasy TCG
DESCRIPTION:Join us on Saturdays at 8pm for our weekly Final Fantasy TCG tournaments!
URL:https://staging.tatesgaming.com/event/final-fantasy-tcg/2027-05-15/
LOCATION:TATE’S Gaming Satellite\, 4580 N. University Drive\, Lauderhill\, FL\, 33351\, United States
CATEGORIES:Final Fantasy
ATTACH;FMTTYPE=image/jpeg:https://staging.tatesgaming.com/wp-content/uploads/2018/07/Final-Fantasy-TCG.jpg
GEO:26.1823829;-80.2509514
X-APPLE-STRUCTURED-LOCATION;VALUE=URI;X-ADDRESS=TATE’S Gaming Satellite 4580 N. University Drive Lauderhill FL 33351 United States;X-APPLE-RADIUS=500;X-TITLE=4580 N. University Drive:geo:-80.2509514,26.1823829
END:VEVENT
BEGIN:VEVENT
DTSTART;TZID=America/New_York:20270522T200000
DTEND;TZID=America/New_York:20270522T230000
DTSTAMP:20260423T000300
CREATED:20240706T211703Z
LAST-MODIFIED:20240706T211703Z
UID:10003752-1811016000-1811026800@staging.tatesgaming.com
SUMMARY:Final Fantasy TCG
DESCRIPTION:Join us on Saturdays at 8pm for our weekly Final Fantasy TCG tournaments!
URL:https://staging.tatesgaming.com/event/final-fantasy-tcg/2027-05-22/
LOCATION:TATE’S Gaming Satellite\, 4580 N. University Drive\, Lauderhill\, FL\, 33351\, United States
CATEGORIES:Final Fantasy
ATTACH;FMTTYPE=image/jpeg:https://staging.tatesgaming.com/wp-content/uploads/2018/07/Final-Fantasy-TCG.jpg
GEO:26.1823829;-80.2509514
X-APPLE-STRUCTURED-LOCATION;VALUE=URI;X-ADDRESS=TATE’S Gaming Satellite 4580 N. University Drive Lauderhill FL 33351 United States;X-APPLE-RADIUS=500;X-TITLE=4580 N. University Drive:geo:-80.2509514,26.1823829
END:VEVENT
BEGIN:VEVENT
DTSTART;TZID=America/New_York:20270529T200000
DTEND;TZID=America/New_York:20270529T230000
DTSTAMP:20260423T000300
CREATED:20240706T211703Z
LAST-MODIFIED:20240706T211703Z
UID:10003753-1811620800-1811631600@staging.tatesgaming.com
SUMMARY:Final Fantasy TCG
DESCRIPTION:Join us on Saturdays at 8pm for our weekly Final Fantasy TCG tournaments!
URL:https://staging.tatesgaming.com/event/final-fantasy-tcg/2027-05-29/
LOCATION:TATE’S Gaming Satellite\, 4580 N. University Drive\, Lauderhill\, FL\, 33351\, United States
CATEGORIES:Final Fantasy
ATTACH;FMTTYPE=image/jpeg:https://staging.tatesgaming.com/wp-content/uploads/2018/07/Final-Fantasy-TCG.jpg
GEO:26.1823829;-80.2509514
X-APPLE-STRUCTURED-LOCATION;VALUE=URI;X-ADDRESS=TATE’S Gaming Satellite 4580 N. University Drive Lauderhill FL 33351 United States;X-APPLE-RADIUS=500;X-TITLE=4580 N. University Drive:geo:-80.2509514,26.1823829
END:VEVENT
END:VCALENDAR