BEGIN:VCALENDAR
VERSION:2.0
PRODID:-//Tate&#039;s Gaming Satellite - ECPv6.15.20//NONSGML v1.0//EN
CALSCALE:GREGORIAN
METHOD:PUBLISH
X-WR-CALNAME:Tate&#039;s Gaming Satellite
X-ORIGINAL-URL:https://staging.tatesgaming.com
X-WR-CALDESC:Events for Tate&#039;s Gaming Satellite
REFRESH-INTERVAL;VALUE=DURATION:PT1H
X-Robots-Tag:noindex
X-PUBLISHED-TTL:PT1H
BEGIN:VTIMEZONE
TZID:America/New_York
BEGIN:DAYLIGHT
TZOFFSETFROM:-0500
TZOFFSETTO:-0400
TZNAME:EDT
DTSTART:20230312T070000
END:DAYLIGHT
BEGIN:STANDARD
TZOFFSETFROM:-0400
TZOFFSETTO:-0500
TZNAME:EST
DTSTART:20231105T060000
END:STANDARD
BEGIN:DAYLIGHT
TZOFFSETFROM:-0500
TZOFFSETTO:-0400
TZNAME:EDT
DTSTART:20240310T070000
END:DAYLIGHT
BEGIN:STANDARD
TZOFFSETFROM:-0400
TZOFFSETTO:-0500
TZNAME:EST
DTSTART:20241103T060000
END:STANDARD
BEGIN:DAYLIGHT
TZOFFSETFROM:-0500
TZOFFSETTO:-0400
TZNAME:EDT
DTSTART:20250309T070000
END:DAYLIGHT
BEGIN:STANDARD
TZOFFSETFROM:-0400
TZOFFSETTO:-0500
TZNAME:EST
DTSTART:20251102T060000
END:STANDARD
BEGIN:DAYLIGHT
TZOFFSETFROM:-0500
TZOFFSETTO:-0400
TZNAME:EDT
DTSTART:20260308T070000
END:DAYLIGHT
BEGIN:STANDARD
TZOFFSETFROM:-0400
TZOFFSETTO:-0500
TZNAME:EST
DTSTART:20261101T060000
END:STANDARD
END:VTIMEZONE
BEGIN:VEVENT
DTSTART;TZID=America/New_York:20241221T200000
DTEND;TZID=America/New_York:20241221T230000
DTSTAMP:20260423T172046
CREATED:20240706T211703Z
LAST-MODIFIED:20240706T211703Z
UID:10003626-1734811200-1734822000@staging.tatesgaming.com
SUMMARY:Final Fantasy TCG
DESCRIPTION:Join us on Saturdays at 8pm for our weekly Final Fantasy TCG tournaments!
URL:https://staging.tatesgaming.com/event/final-fantasy-tcg/2024-12-21/
LOCATION:TATE’S Gaming Satellite\, 4580 N. University Drive\, Lauderhill\, FL\, 33351\, United States
CATEGORIES:Final Fantasy
ATTACH;FMTTYPE=image/jpeg:https://staging.tatesgaming.com/wp-content/uploads/2018/07/Final-Fantasy-TCG.jpg
GEO:26.1823829;-80.2509514
X-APPLE-STRUCTURED-LOCATION;VALUE=URI;X-ADDRESS=TATE’S Gaming Satellite 4580 N. University Drive Lauderhill FL 33351 United States;X-APPLE-RADIUS=500;X-TITLE=4580 N. University Drive:geo:-80.2509514,26.1823829
END:VEVENT
BEGIN:VEVENT
DTSTART;TZID=America/New_York:20241228T200000
DTEND;TZID=America/New_York:20241228T230000
DTSTAMP:20260423T172046
CREATED:20240706T211703Z
LAST-MODIFIED:20240706T211703Z
UID:10003627-1735416000-1735426800@staging.tatesgaming.com
SUMMARY:Final Fantasy TCG
DESCRIPTION:Join us on Saturdays at 8pm for our weekly Final Fantasy TCG tournaments!
URL:https://staging.tatesgaming.com/event/final-fantasy-tcg/2024-12-28/
LOCATION:TATE’S Gaming Satellite\, 4580 N. University Drive\, Lauderhill\, FL\, 33351\, United States
CATEGORIES:Final Fantasy
ATTACH;FMTTYPE=image/jpeg:https://staging.tatesgaming.com/wp-content/uploads/2018/07/Final-Fantasy-TCG.jpg
GEO:26.1823829;-80.2509514
X-APPLE-STRUCTURED-LOCATION;VALUE=URI;X-ADDRESS=TATE’S Gaming Satellite 4580 N. University Drive Lauderhill FL 33351 United States;X-APPLE-RADIUS=500;X-TITLE=4580 N. University Drive:geo:-80.2509514,26.1823829
END:VEVENT
BEGIN:VEVENT
DTSTART;TZID=America/New_York:20250104T200000
DTEND;TZID=America/New_York:20250104T230000
DTSTAMP:20260423T172046
CREATED:20240706T211703Z
LAST-MODIFIED:20240706T211703Z
UID:10003628-1736020800-1736031600@staging.tatesgaming.com
SUMMARY:Final Fantasy TCG
DESCRIPTION:Join us on Saturdays at 8pm for our weekly Final Fantasy TCG tournaments!
URL:https://staging.tatesgaming.com/event/final-fantasy-tcg/2025-01-04/
LOCATION:TATE’S Gaming Satellite\, 4580 N. University Drive\, Lauderhill\, FL\, 33351\, United States
CATEGORIES:Final Fantasy
ATTACH;FMTTYPE=image/jpeg:https://staging.tatesgaming.com/wp-content/uploads/2018/07/Final-Fantasy-TCG.jpg
GEO:26.1823829;-80.2509514
X-APPLE-STRUCTURED-LOCATION;VALUE=URI;X-ADDRESS=TATE’S Gaming Satellite 4580 N. University Drive Lauderhill FL 33351 United States;X-APPLE-RADIUS=500;X-TITLE=4580 N. University Drive:geo:-80.2509514,26.1823829
END:VEVENT
BEGIN:VEVENT
DTSTART;TZID=America/New_York:20250111T200000
DTEND;TZID=America/New_York:20250111T230000
DTSTAMP:20260423T172046
CREATED:20240706T211703Z
LAST-MODIFIED:20240706T211703Z
UID:10003629-1736625600-1736636400@staging.tatesgaming.com
SUMMARY:Final Fantasy TCG
DESCRIPTION:Join us on Saturdays at 8pm for our weekly Final Fantasy TCG tournaments!
URL:https://staging.tatesgaming.com/event/final-fantasy-tcg/2025-01-11/
LOCATION:TATE’S Gaming Satellite\, 4580 N. University Drive\, Lauderhill\, FL\, 33351\, United States
CATEGORIES:Final Fantasy
ATTACH;FMTTYPE=image/jpeg:https://staging.tatesgaming.com/wp-content/uploads/2018/07/Final-Fantasy-TCG.jpg
GEO:26.1823829;-80.2509514
X-APPLE-STRUCTURED-LOCATION;VALUE=URI;X-ADDRESS=TATE’S Gaming Satellite 4580 N. University Drive Lauderhill FL 33351 United States;X-APPLE-RADIUS=500;X-TITLE=4580 N. University Drive:geo:-80.2509514,26.1823829
END:VEVENT
BEGIN:VEVENT
DTSTART;TZID=America/New_York:20250118T200000
DTEND;TZID=America/New_York:20250118T230000
DTSTAMP:20260423T172046
CREATED:20240706T211703Z
LAST-MODIFIED:20240706T211703Z
UID:10003630-1737230400-1737241200@staging.tatesgaming.com
SUMMARY:Final Fantasy TCG
DESCRIPTION:Join us on Saturdays at 8pm for our weekly Final Fantasy TCG tournaments!
URL:https://staging.tatesgaming.com/event/final-fantasy-tcg/2025-01-18/
LOCATION:TATE’S Gaming Satellite\, 4580 N. University Drive\, Lauderhill\, FL\, 33351\, United States
CATEGORIES:Final Fantasy
ATTACH;FMTTYPE=image/jpeg:https://staging.tatesgaming.com/wp-content/uploads/2018/07/Final-Fantasy-TCG.jpg
GEO:26.1823829;-80.2509514
X-APPLE-STRUCTURED-LOCATION;VALUE=URI;X-ADDRESS=TATE’S Gaming Satellite 4580 N. University Drive Lauderhill FL 33351 United States;X-APPLE-RADIUS=500;X-TITLE=4580 N. University Drive:geo:-80.2509514,26.1823829
END:VEVENT
BEGIN:VEVENT
DTSTART;TZID=America/New_York:20250125T200000
DTEND;TZID=America/New_York:20250125T230000
DTSTAMP:20260423T172046
CREATED:20240706T211703Z
LAST-MODIFIED:20240706T211703Z
UID:10003631-1737835200-1737846000@staging.tatesgaming.com
SUMMARY:Final Fantasy TCG
DESCRIPTION:Join us on Saturdays at 8pm for our weekly Final Fantasy TCG tournaments!
URL:https://staging.tatesgaming.com/event/final-fantasy-tcg/2025-01-25/
LOCATION:TATE’S Gaming Satellite\, 4580 N. University Drive\, Lauderhill\, FL\, 33351\, United States
CATEGORIES:Final Fantasy
ATTACH;FMTTYPE=image/jpeg:https://staging.tatesgaming.com/wp-content/uploads/2018/07/Final-Fantasy-TCG.jpg
GEO:26.1823829;-80.2509514
X-APPLE-STRUCTURED-LOCATION;VALUE=URI;X-ADDRESS=TATE’S Gaming Satellite 4580 N. University Drive Lauderhill FL 33351 United States;X-APPLE-RADIUS=500;X-TITLE=4580 N. University Drive:geo:-80.2509514,26.1823829
END:VEVENT
BEGIN:VEVENT
DTSTART;TZID=America/New_York:20250201T200000
DTEND;TZID=America/New_York:20250201T230000
DTSTAMP:20260423T172046
CREATED:20240706T211703Z
LAST-MODIFIED:20240706T211703Z
UID:10003632-1738440000-1738450800@staging.tatesgaming.com
SUMMARY:Final Fantasy TCG
DESCRIPTION:Join us on Saturdays at 8pm for our weekly Final Fantasy TCG tournaments!
URL:https://staging.tatesgaming.com/event/final-fantasy-tcg/2025-02-01/
LOCATION:TATE’S Gaming Satellite\, 4580 N. University Drive\, Lauderhill\, FL\, 33351\, United States
CATEGORIES:Final Fantasy
ATTACH;FMTTYPE=image/jpeg:https://staging.tatesgaming.com/wp-content/uploads/2018/07/Final-Fantasy-TCG.jpg
GEO:26.1823829;-80.2509514
X-APPLE-STRUCTURED-LOCATION;VALUE=URI;X-ADDRESS=TATE’S Gaming Satellite 4580 N. University Drive Lauderhill FL 33351 United States;X-APPLE-RADIUS=500;X-TITLE=4580 N. University Drive:geo:-80.2509514,26.1823829
END:VEVENT
BEGIN:VEVENT
DTSTART;TZID=America/New_York:20250208T200000
DTEND;TZID=America/New_York:20250208T230000
DTSTAMP:20260423T172047
CREATED:20240706T211703Z
LAST-MODIFIED:20240706T211703Z
UID:10003633-1739044800-1739055600@staging.tatesgaming.com
SUMMARY:Final Fantasy TCG
DESCRIPTION:Join us on Saturdays at 8pm for our weekly Final Fantasy TCG tournaments!
URL:https://staging.tatesgaming.com/event/final-fantasy-tcg/2025-02-08/
LOCATION:TATE’S Gaming Satellite\, 4580 N. University Drive\, Lauderhill\, FL\, 33351\, United States
CATEGORIES:Final Fantasy
ATTACH;FMTTYPE=image/jpeg:https://staging.tatesgaming.com/wp-content/uploads/2018/07/Final-Fantasy-TCG.jpg
GEO:26.1823829;-80.2509514
X-APPLE-STRUCTURED-LOCATION;VALUE=URI;X-ADDRESS=TATE’S Gaming Satellite 4580 N. University Drive Lauderhill FL 33351 United States;X-APPLE-RADIUS=500;X-TITLE=4580 N. University Drive:geo:-80.2509514,26.1823829
END:VEVENT
BEGIN:VEVENT
DTSTART;TZID=America/New_York:20250215T200000
DTEND;TZID=America/New_York:20250215T230000
DTSTAMP:20260423T172047
CREATED:20240706T211703Z
LAST-MODIFIED:20240706T211703Z
UID:10003634-1739649600-1739660400@staging.tatesgaming.com
SUMMARY:Final Fantasy TCG
DESCRIPTION:Join us on Saturdays at 8pm for our weekly Final Fantasy TCG tournaments!
URL:https://staging.tatesgaming.com/event/final-fantasy-tcg/2025-02-15/
LOCATION:TATE’S Gaming Satellite\, 4580 N. University Drive\, Lauderhill\, FL\, 33351\, United States
CATEGORIES:Final Fantasy
ATTACH;FMTTYPE=image/jpeg:https://staging.tatesgaming.com/wp-content/uploads/2018/07/Final-Fantasy-TCG.jpg
GEO:26.1823829;-80.2509514
X-APPLE-STRUCTURED-LOCATION;VALUE=URI;X-ADDRESS=TATE’S Gaming Satellite 4580 N. University Drive Lauderhill FL 33351 United States;X-APPLE-RADIUS=500;X-TITLE=4580 N. University Drive:geo:-80.2509514,26.1823829
END:VEVENT
BEGIN:VEVENT
DTSTART;TZID=America/New_York:20250222T200000
DTEND;TZID=America/New_York:20250222T230000
DTSTAMP:20260423T172047
CREATED:20240706T211703Z
LAST-MODIFIED:20240706T211703Z
UID:10003635-1740254400-1740265200@staging.tatesgaming.com
SUMMARY:Final Fantasy TCG
DESCRIPTION:Join us on Saturdays at 8pm for our weekly Final Fantasy TCG tournaments!
URL:https://staging.tatesgaming.com/event/final-fantasy-tcg/2025-02-22/
LOCATION:TATE’S Gaming Satellite\, 4580 N. University Drive\, Lauderhill\, FL\, 33351\, United States
CATEGORIES:Final Fantasy
ATTACH;FMTTYPE=image/jpeg:https://staging.tatesgaming.com/wp-content/uploads/2018/07/Final-Fantasy-TCG.jpg
GEO:26.1823829;-80.2509514
X-APPLE-STRUCTURED-LOCATION;VALUE=URI;X-ADDRESS=TATE’S Gaming Satellite 4580 N. University Drive Lauderhill FL 33351 United States;X-APPLE-RADIUS=500;X-TITLE=4580 N. University Drive:geo:-80.2509514,26.1823829
END:VEVENT
BEGIN:VEVENT
DTSTART;TZID=America/New_York:20250301T200000
DTEND;TZID=America/New_York:20250301T230000
DTSTAMP:20260423T172047
CREATED:20240706T211703Z
LAST-MODIFIED:20240706T211703Z
UID:10003636-1740859200-1740870000@staging.tatesgaming.com
SUMMARY:Final Fantasy TCG
DESCRIPTION:Join us on Saturdays at 8pm for our weekly Final Fantasy TCG tournaments!
URL:https://staging.tatesgaming.com/event/final-fantasy-tcg/2025-03-01/
LOCATION:TATE’S Gaming Satellite\, 4580 N. University Drive\, Lauderhill\, FL\, 33351\, United States
CATEGORIES:Final Fantasy
ATTACH;FMTTYPE=image/jpeg:https://staging.tatesgaming.com/wp-content/uploads/2018/07/Final-Fantasy-TCG.jpg
GEO:26.1823829;-80.2509514
X-APPLE-STRUCTURED-LOCATION;VALUE=URI;X-ADDRESS=TATE’S Gaming Satellite 4580 N. University Drive Lauderhill FL 33351 United States;X-APPLE-RADIUS=500;X-TITLE=4580 N. University Drive:geo:-80.2509514,26.1823829
END:VEVENT
BEGIN:VEVENT
DTSTART;TZID=America/New_York:20250308T200000
DTEND;TZID=America/New_York:20250308T230000
DTSTAMP:20260423T172047
CREATED:20240706T211703Z
LAST-MODIFIED:20240706T211703Z
UID:10003637-1741464000-1741474800@staging.tatesgaming.com
SUMMARY:Final Fantasy TCG
DESCRIPTION:Join us on Saturdays at 8pm for our weekly Final Fantasy TCG tournaments!
URL:https://staging.tatesgaming.com/event/final-fantasy-tcg/2025-03-08/
LOCATION:TATE’S Gaming Satellite\, 4580 N. University Drive\, Lauderhill\, FL\, 33351\, United States
CATEGORIES:Final Fantasy
ATTACH;FMTTYPE=image/jpeg:https://staging.tatesgaming.com/wp-content/uploads/2018/07/Final-Fantasy-TCG.jpg
GEO:26.1823829;-80.2509514
X-APPLE-STRUCTURED-LOCATION;VALUE=URI;X-ADDRESS=TATE’S Gaming Satellite 4580 N. University Drive Lauderhill FL 33351 United States;X-APPLE-RADIUS=500;X-TITLE=4580 N. University Drive:geo:-80.2509514,26.1823829
END:VEVENT
BEGIN:VEVENT
DTSTART;TZID=America/New_York:20250315T200000
DTEND;TZID=America/New_York:20250315T230000
DTSTAMP:20260423T172047
CREATED:20240706T211703Z
LAST-MODIFIED:20240706T211703Z
UID:10003638-1742068800-1742079600@staging.tatesgaming.com
SUMMARY:Final Fantasy TCG
DESCRIPTION:Join us on Saturdays at 8pm for our weekly Final Fantasy TCG tournaments!
URL:https://staging.tatesgaming.com/event/final-fantasy-tcg/2025-03-15/
LOCATION:TATE’S Gaming Satellite\, 4580 N. University Drive\, Lauderhill\, FL\, 33351\, United States
CATEGORIES:Final Fantasy
ATTACH;FMTTYPE=image/jpeg:https://staging.tatesgaming.com/wp-content/uploads/2018/07/Final-Fantasy-TCG.jpg
GEO:26.1823829;-80.2509514
X-APPLE-STRUCTURED-LOCATION;VALUE=URI;X-ADDRESS=TATE’S Gaming Satellite 4580 N. University Drive Lauderhill FL 33351 United States;X-APPLE-RADIUS=500;X-TITLE=4580 N. University Drive:geo:-80.2509514,26.1823829
END:VEVENT
BEGIN:VEVENT
DTSTART;TZID=America/New_York:20250322T200000
DTEND;TZID=America/New_York:20250322T230000
DTSTAMP:20260423T172047
CREATED:20240706T211703Z
LAST-MODIFIED:20240706T211703Z
UID:10003639-1742673600-1742684400@staging.tatesgaming.com
SUMMARY:Final Fantasy TCG
DESCRIPTION:Join us on Saturdays at 8pm for our weekly Final Fantasy TCG tournaments!
URL:https://staging.tatesgaming.com/event/final-fantasy-tcg/2025-03-22/
LOCATION:TATE’S Gaming Satellite\, 4580 N. University Drive\, Lauderhill\, FL\, 33351\, United States
CATEGORIES:Final Fantasy
ATTACH;FMTTYPE=image/jpeg:https://staging.tatesgaming.com/wp-content/uploads/2018/07/Final-Fantasy-TCG.jpg
GEO:26.1823829;-80.2509514
X-APPLE-STRUCTURED-LOCATION;VALUE=URI;X-ADDRESS=TATE’S Gaming Satellite 4580 N. University Drive Lauderhill FL 33351 United States;X-APPLE-RADIUS=500;X-TITLE=4580 N. University Drive:geo:-80.2509514,26.1823829
END:VEVENT
BEGIN:VEVENT
DTSTART;TZID=America/New_York:20250329T200000
DTEND;TZID=America/New_York:20250329T230000
DTSTAMP:20260423T172047
CREATED:20240706T211703Z
LAST-MODIFIED:20240706T211703Z
UID:10003640-1743278400-1743289200@staging.tatesgaming.com
SUMMARY:Final Fantasy TCG
DESCRIPTION:Join us on Saturdays at 8pm for our weekly Final Fantasy TCG tournaments!
URL:https://staging.tatesgaming.com/event/final-fantasy-tcg/2025-03-29/
LOCATION:TATE’S Gaming Satellite\, 4580 N. University Drive\, Lauderhill\, FL\, 33351\, United States
CATEGORIES:Final Fantasy
ATTACH;FMTTYPE=image/jpeg:https://staging.tatesgaming.com/wp-content/uploads/2018/07/Final-Fantasy-TCG.jpg
GEO:26.1823829;-80.2509514
X-APPLE-STRUCTURED-LOCATION;VALUE=URI;X-ADDRESS=TATE’S Gaming Satellite 4580 N. University Drive Lauderhill FL 33351 United States;X-APPLE-RADIUS=500;X-TITLE=4580 N. University Drive:geo:-80.2509514,26.1823829
END:VEVENT
BEGIN:VEVENT
DTSTART;TZID=America/New_York:20250405T200000
DTEND;TZID=America/New_York:20250405T230000
DTSTAMP:20260423T172047
CREATED:20240706T211703Z
LAST-MODIFIED:20240706T211703Z
UID:10003641-1743883200-1743894000@staging.tatesgaming.com
SUMMARY:Final Fantasy TCG
DESCRIPTION:Join us on Saturdays at 8pm for our weekly Final Fantasy TCG tournaments!
URL:https://staging.tatesgaming.com/event/final-fantasy-tcg/2025-04-05/
LOCATION:TATE’S Gaming Satellite\, 4580 N. University Drive\, Lauderhill\, FL\, 33351\, United States
CATEGORIES:Final Fantasy
ATTACH;FMTTYPE=image/jpeg:https://staging.tatesgaming.com/wp-content/uploads/2018/07/Final-Fantasy-TCG.jpg
GEO:26.1823829;-80.2509514
X-APPLE-STRUCTURED-LOCATION;VALUE=URI;X-ADDRESS=TATE’S Gaming Satellite 4580 N. University Drive Lauderhill FL 33351 United States;X-APPLE-RADIUS=500;X-TITLE=4580 N. University Drive:geo:-80.2509514,26.1823829
END:VEVENT
BEGIN:VEVENT
DTSTART;TZID=America/New_York:20250412T200000
DTEND;TZID=America/New_York:20250412T230000
DTSTAMP:20260423T172047
CREATED:20240706T211703Z
LAST-MODIFIED:20240706T211703Z
UID:10003642-1744488000-1744498800@staging.tatesgaming.com
SUMMARY:Final Fantasy TCG
DESCRIPTION:Join us on Saturdays at 8pm for our weekly Final Fantasy TCG tournaments!
URL:https://staging.tatesgaming.com/event/final-fantasy-tcg/2025-04-12/
LOCATION:TATE’S Gaming Satellite\, 4580 N. University Drive\, Lauderhill\, FL\, 33351\, United States
CATEGORIES:Final Fantasy
ATTACH;FMTTYPE=image/jpeg:https://staging.tatesgaming.com/wp-content/uploads/2018/07/Final-Fantasy-TCG.jpg
GEO:26.1823829;-80.2509514
X-APPLE-STRUCTURED-LOCATION;VALUE=URI;X-ADDRESS=TATE’S Gaming Satellite 4580 N. University Drive Lauderhill FL 33351 United States;X-APPLE-RADIUS=500;X-TITLE=4580 N. University Drive:geo:-80.2509514,26.1823829
END:VEVENT
BEGIN:VEVENT
DTSTART;TZID=America/New_York:20250419T200000
DTEND;TZID=America/New_York:20250419T230000
DTSTAMP:20260423T172047
CREATED:20240706T211703Z
LAST-MODIFIED:20240706T211703Z
UID:10003643-1745092800-1745103600@staging.tatesgaming.com
SUMMARY:Final Fantasy TCG
DESCRIPTION:Join us on Saturdays at 8pm for our weekly Final Fantasy TCG tournaments!
URL:https://staging.tatesgaming.com/event/final-fantasy-tcg/2025-04-19/
LOCATION:TATE’S Gaming Satellite\, 4580 N. University Drive\, Lauderhill\, FL\, 33351\, United States
CATEGORIES:Final Fantasy
ATTACH;FMTTYPE=image/jpeg:https://staging.tatesgaming.com/wp-content/uploads/2018/07/Final-Fantasy-TCG.jpg
GEO:26.1823829;-80.2509514
X-APPLE-STRUCTURED-LOCATION;VALUE=URI;X-ADDRESS=TATE’S Gaming Satellite 4580 N. University Drive Lauderhill FL 33351 United States;X-APPLE-RADIUS=500;X-TITLE=4580 N. University Drive:geo:-80.2509514,26.1823829
END:VEVENT
BEGIN:VEVENT
DTSTART;TZID=America/New_York:20250426T200000
DTEND;TZID=America/New_York:20250426T230000
DTSTAMP:20260423T172047
CREATED:20240706T211703Z
LAST-MODIFIED:20240706T211703Z
UID:10003644-1745697600-1745708400@staging.tatesgaming.com
SUMMARY:Final Fantasy TCG
DESCRIPTION:Join us on Saturdays at 8pm for our weekly Final Fantasy TCG tournaments!
URL:https://staging.tatesgaming.com/event/final-fantasy-tcg/2025-04-26/
LOCATION:TATE’S Gaming Satellite\, 4580 N. University Drive\, Lauderhill\, FL\, 33351\, United States
CATEGORIES:Final Fantasy
ATTACH;FMTTYPE=image/jpeg:https://staging.tatesgaming.com/wp-content/uploads/2018/07/Final-Fantasy-TCG.jpg
GEO:26.1823829;-80.2509514
X-APPLE-STRUCTURED-LOCATION;VALUE=URI;X-ADDRESS=TATE’S Gaming Satellite 4580 N. University Drive Lauderhill FL 33351 United States;X-APPLE-RADIUS=500;X-TITLE=4580 N. University Drive:geo:-80.2509514,26.1823829
END:VEVENT
BEGIN:VEVENT
DTSTART;TZID=America/New_York:20250503T200000
DTEND;TZID=America/New_York:20250503T230000
DTSTAMP:20260423T172047
CREATED:20240706T211703Z
LAST-MODIFIED:20240706T211703Z
UID:10003645-1746302400-1746313200@staging.tatesgaming.com
SUMMARY:Final Fantasy TCG
DESCRIPTION:Join us on Saturdays at 8pm for our weekly Final Fantasy TCG tournaments!
URL:https://staging.tatesgaming.com/event/final-fantasy-tcg/2025-05-03/
LOCATION:TATE’S Gaming Satellite\, 4580 N. University Drive\, Lauderhill\, FL\, 33351\, United States
CATEGORIES:Final Fantasy
ATTACH;FMTTYPE=image/jpeg:https://staging.tatesgaming.com/wp-content/uploads/2018/07/Final-Fantasy-TCG.jpg
GEO:26.1823829;-80.2509514
X-APPLE-STRUCTURED-LOCATION;VALUE=URI;X-ADDRESS=TATE’S Gaming Satellite 4580 N. University Drive Lauderhill FL 33351 United States;X-APPLE-RADIUS=500;X-TITLE=4580 N. University Drive:geo:-80.2509514,26.1823829
END:VEVENT
BEGIN:VEVENT
DTSTART;TZID=America/New_York:20250510T200000
DTEND;TZID=America/New_York:20250510T230000
DTSTAMP:20260423T172047
CREATED:20240706T211703Z
LAST-MODIFIED:20240706T211703Z
UID:10003646-1746907200-1746918000@staging.tatesgaming.com
SUMMARY:Final Fantasy TCG
DESCRIPTION:Join us on Saturdays at 8pm for our weekly Final Fantasy TCG tournaments!
URL:https://staging.tatesgaming.com/event/final-fantasy-tcg/2025-05-10/
LOCATION:TATE’S Gaming Satellite\, 4580 N. University Drive\, Lauderhill\, FL\, 33351\, United States
CATEGORIES:Final Fantasy
ATTACH;FMTTYPE=image/jpeg:https://staging.tatesgaming.com/wp-content/uploads/2018/07/Final-Fantasy-TCG.jpg
GEO:26.1823829;-80.2509514
X-APPLE-STRUCTURED-LOCATION;VALUE=URI;X-ADDRESS=TATE’S Gaming Satellite 4580 N. University Drive Lauderhill FL 33351 United States;X-APPLE-RADIUS=500;X-TITLE=4580 N. University Drive:geo:-80.2509514,26.1823829
END:VEVENT
BEGIN:VEVENT
DTSTART;TZID=America/New_York:20250517T200000
DTEND;TZID=America/New_York:20250517T230000
DTSTAMP:20260423T172047
CREATED:20240706T211703Z
LAST-MODIFIED:20240706T211703Z
UID:10003647-1747512000-1747522800@staging.tatesgaming.com
SUMMARY:Final Fantasy TCG
DESCRIPTION:Join us on Saturdays at 8pm for our weekly Final Fantasy TCG tournaments!
URL:https://staging.tatesgaming.com/event/final-fantasy-tcg/2025-05-17/
LOCATION:TATE’S Gaming Satellite\, 4580 N. University Drive\, Lauderhill\, FL\, 33351\, United States
CATEGORIES:Final Fantasy
ATTACH;FMTTYPE=image/jpeg:https://staging.tatesgaming.com/wp-content/uploads/2018/07/Final-Fantasy-TCG.jpg
GEO:26.1823829;-80.2509514
X-APPLE-STRUCTURED-LOCATION;VALUE=URI;X-ADDRESS=TATE’S Gaming Satellite 4580 N. University Drive Lauderhill FL 33351 United States;X-APPLE-RADIUS=500;X-TITLE=4580 N. University Drive:geo:-80.2509514,26.1823829
END:VEVENT
BEGIN:VEVENT
DTSTART;TZID=America/New_York:20250524T200000
DTEND;TZID=America/New_York:20250524T230000
DTSTAMP:20260423T172047
CREATED:20240706T211703Z
LAST-MODIFIED:20240706T211703Z
UID:10003648-1748116800-1748127600@staging.tatesgaming.com
SUMMARY:Final Fantasy TCG
DESCRIPTION:Join us on Saturdays at 8pm for our weekly Final Fantasy TCG tournaments!
URL:https://staging.tatesgaming.com/event/final-fantasy-tcg/2025-05-24/
LOCATION:TATE’S Gaming Satellite\, 4580 N. University Drive\, Lauderhill\, FL\, 33351\, United States
CATEGORIES:Final Fantasy
ATTACH;FMTTYPE=image/jpeg:https://staging.tatesgaming.com/wp-content/uploads/2018/07/Final-Fantasy-TCG.jpg
GEO:26.1823829;-80.2509514
X-APPLE-STRUCTURED-LOCATION;VALUE=URI;X-ADDRESS=TATE’S Gaming Satellite 4580 N. University Drive Lauderhill FL 33351 United States;X-APPLE-RADIUS=500;X-TITLE=4580 N. University Drive:geo:-80.2509514,26.1823829
END:VEVENT
BEGIN:VEVENT
DTSTART;TZID=America/New_York:20250531T200000
DTEND;TZID=America/New_York:20250531T230000
DTSTAMP:20260423T172047
CREATED:20240706T211703Z
LAST-MODIFIED:20240706T211703Z
UID:10003649-1748721600-1748732400@staging.tatesgaming.com
SUMMARY:Final Fantasy TCG
DESCRIPTION:Join us on Saturdays at 8pm for our weekly Final Fantasy TCG tournaments!
URL:https://staging.tatesgaming.com/event/final-fantasy-tcg/2025-05-31/
LOCATION:TATE’S Gaming Satellite\, 4580 N. University Drive\, Lauderhill\, FL\, 33351\, United States
CATEGORIES:Final Fantasy
ATTACH;FMTTYPE=image/jpeg:https://staging.tatesgaming.com/wp-content/uploads/2018/07/Final-Fantasy-TCG.jpg
GEO:26.1823829;-80.2509514
X-APPLE-STRUCTURED-LOCATION;VALUE=URI;X-ADDRESS=TATE’S Gaming Satellite 4580 N. University Drive Lauderhill FL 33351 United States;X-APPLE-RADIUS=500;X-TITLE=4580 N. University Drive:geo:-80.2509514,26.1823829
END:VEVENT
BEGIN:VEVENT
DTSTART;TZID=America/New_York:20250607T200000
DTEND;TZID=America/New_York:20250607T230000
DTSTAMP:20260423T172047
CREATED:20240706T211703Z
LAST-MODIFIED:20240706T211703Z
UID:10003650-1749326400-1749337200@staging.tatesgaming.com
SUMMARY:Final Fantasy TCG
DESCRIPTION:Join us on Saturdays at 8pm for our weekly Final Fantasy TCG tournaments!
URL:https://staging.tatesgaming.com/event/final-fantasy-tcg/2025-06-07/
LOCATION:TATE’S Gaming Satellite\, 4580 N. University Drive\, Lauderhill\, FL\, 33351\, United States
CATEGORIES:Final Fantasy
ATTACH;FMTTYPE=image/jpeg:https://staging.tatesgaming.com/wp-content/uploads/2018/07/Final-Fantasy-TCG.jpg
GEO:26.1823829;-80.2509514
X-APPLE-STRUCTURED-LOCATION;VALUE=URI;X-ADDRESS=TATE’S Gaming Satellite 4580 N. University Drive Lauderhill FL 33351 United States;X-APPLE-RADIUS=500;X-TITLE=4580 N. University Drive:geo:-80.2509514,26.1823829
END:VEVENT
BEGIN:VEVENT
DTSTART;TZID=America/New_York:20250614T200000
DTEND;TZID=America/New_York:20250614T230000
DTSTAMP:20260423T172047
CREATED:20240706T211703Z
LAST-MODIFIED:20240706T211703Z
UID:10003651-1749931200-1749942000@staging.tatesgaming.com
SUMMARY:Final Fantasy TCG
DESCRIPTION:Join us on Saturdays at 8pm for our weekly Final Fantasy TCG tournaments!
URL:https://staging.tatesgaming.com/event/final-fantasy-tcg/2025-06-14/
LOCATION:TATE’S Gaming Satellite\, 4580 N. University Drive\, Lauderhill\, FL\, 33351\, United States
CATEGORIES:Final Fantasy
ATTACH;FMTTYPE=image/jpeg:https://staging.tatesgaming.com/wp-content/uploads/2018/07/Final-Fantasy-TCG.jpg
GEO:26.1823829;-80.2509514
X-APPLE-STRUCTURED-LOCATION;VALUE=URI;X-ADDRESS=TATE’S Gaming Satellite 4580 N. University Drive Lauderhill FL 33351 United States;X-APPLE-RADIUS=500;X-TITLE=4580 N. University Drive:geo:-80.2509514,26.1823829
END:VEVENT
BEGIN:VEVENT
DTSTART;TZID=America/New_York:20250621T200000
DTEND;TZID=America/New_York:20250621T230000
DTSTAMP:20260423T172047
CREATED:20240706T211703Z
LAST-MODIFIED:20240706T211703Z
UID:10003652-1750536000-1750546800@staging.tatesgaming.com
SUMMARY:Final Fantasy TCG
DESCRIPTION:Join us on Saturdays at 8pm for our weekly Final Fantasy TCG tournaments!
URL:https://staging.tatesgaming.com/event/final-fantasy-tcg/2025-06-21/
LOCATION:TATE’S Gaming Satellite\, 4580 N. University Drive\, Lauderhill\, FL\, 33351\, United States
CATEGORIES:Final Fantasy
ATTACH;FMTTYPE=image/jpeg:https://staging.tatesgaming.com/wp-content/uploads/2018/07/Final-Fantasy-TCG.jpg
GEO:26.1823829;-80.2509514
X-APPLE-STRUCTURED-LOCATION;VALUE=URI;X-ADDRESS=TATE’S Gaming Satellite 4580 N. University Drive Lauderhill FL 33351 United States;X-APPLE-RADIUS=500;X-TITLE=4580 N. University Drive:geo:-80.2509514,26.1823829
END:VEVENT
BEGIN:VEVENT
DTSTART;TZID=America/New_York:20250628T200000
DTEND;TZID=America/New_York:20250628T230000
DTSTAMP:20260423T172047
CREATED:20240706T211703Z
LAST-MODIFIED:20240706T211703Z
UID:10003653-1751140800-1751151600@staging.tatesgaming.com
SUMMARY:Final Fantasy TCG
DESCRIPTION:Join us on Saturdays at 8pm for our weekly Final Fantasy TCG tournaments!
URL:https://staging.tatesgaming.com/event/final-fantasy-tcg/2025-06-28/
LOCATION:TATE’S Gaming Satellite\, 4580 N. University Drive\, Lauderhill\, FL\, 33351\, United States
CATEGORIES:Final Fantasy
ATTACH;FMTTYPE=image/jpeg:https://staging.tatesgaming.com/wp-content/uploads/2018/07/Final-Fantasy-TCG.jpg
GEO:26.1823829;-80.2509514
X-APPLE-STRUCTURED-LOCATION;VALUE=URI;X-ADDRESS=TATE’S Gaming Satellite 4580 N. University Drive Lauderhill FL 33351 United States;X-APPLE-RADIUS=500;X-TITLE=4580 N. University Drive:geo:-80.2509514,26.1823829
END:VEVENT
BEGIN:VEVENT
DTSTART;TZID=America/New_York:20250705T200000
DTEND;TZID=America/New_York:20250705T230000
DTSTAMP:20260423T172047
CREATED:20240706T211703Z
LAST-MODIFIED:20240706T211703Z
UID:10003654-1751745600-1751756400@staging.tatesgaming.com
SUMMARY:Final Fantasy TCG
DESCRIPTION:Join us on Saturdays at 8pm for our weekly Final Fantasy TCG tournaments!
URL:https://staging.tatesgaming.com/event/final-fantasy-tcg/2025-07-05/
LOCATION:TATE’S Gaming Satellite\, 4580 N. University Drive\, Lauderhill\, FL\, 33351\, United States
CATEGORIES:Final Fantasy
ATTACH;FMTTYPE=image/jpeg:https://staging.tatesgaming.com/wp-content/uploads/2018/07/Final-Fantasy-TCG.jpg
GEO:26.1823829;-80.2509514
X-APPLE-STRUCTURED-LOCATION;VALUE=URI;X-ADDRESS=TATE’S Gaming Satellite 4580 N. University Drive Lauderhill FL 33351 United States;X-APPLE-RADIUS=500;X-TITLE=4580 N. University Drive:geo:-80.2509514,26.1823829
END:VEVENT
BEGIN:VEVENT
DTSTART;TZID=America/New_York:20250712T200000
DTEND;TZID=America/New_York:20250712T230000
DTSTAMP:20260423T172047
CREATED:20240706T211703Z
LAST-MODIFIED:20240706T211703Z
UID:10003655-1752350400-1752361200@staging.tatesgaming.com
SUMMARY:Final Fantasy TCG
DESCRIPTION:Join us on Saturdays at 8pm for our weekly Final Fantasy TCG tournaments!
URL:https://staging.tatesgaming.com/event/final-fantasy-tcg/2025-07-12/
LOCATION:TATE’S Gaming Satellite\, 4580 N. University Drive\, Lauderhill\, FL\, 33351\, United States
CATEGORIES:Final Fantasy
ATTACH;FMTTYPE=image/jpeg:https://staging.tatesgaming.com/wp-content/uploads/2018/07/Final-Fantasy-TCG.jpg
GEO:26.1823829;-80.2509514
X-APPLE-STRUCTURED-LOCATION;VALUE=URI;X-ADDRESS=TATE’S Gaming Satellite 4580 N. University Drive Lauderhill FL 33351 United States;X-APPLE-RADIUS=500;X-TITLE=4580 N. University Drive:geo:-80.2509514,26.1823829
END:VEVENT
END:VCALENDAR