BEGIN:VCALENDAR
VERSION:2.0
PRODID:-//Tate&#039;s Gaming Satellite - ECPv6.15.20//NONSGML v1.0//EN
CALSCALE:GREGORIAN
METHOD:PUBLISH
X-ORIGINAL-URL:https://staging.tatesgaming.com
X-WR-CALDESC:Events for Tate&#039;s Gaming Satellite
REFRESH-INTERVAL;VALUE=DURATION:PT1H
X-Robots-Tag:noindex
X-PUBLISHED-TTL:PT1H
BEGIN:VTIMEZONE
TZID:America/New_York
BEGIN:DAYLIGHT
TZOFFSETFROM:-0500
TZOFFSETTO:-0400
TZNAME:EDT
DTSTART:20260308T070000
END:DAYLIGHT
BEGIN:STANDARD
TZOFFSETFROM:-0400
TZOFFSETTO:-0500
TZNAME:EST
DTSTART:20261101T060000
END:STANDARD
BEGIN:DAYLIGHT
TZOFFSETFROM:-0500
TZOFFSETTO:-0400
TZNAME:EDT
DTSTART:20270314T070000
END:DAYLIGHT
BEGIN:STANDARD
TZOFFSETFROM:-0400
TZOFFSETTO:-0500
TZNAME:EST
DTSTART:20271107T060000
END:STANDARD
BEGIN:DAYLIGHT
TZOFFSETFROM:-0500
TZOFFSETTO:-0400
TZNAME:EDT
DTSTART:20280312T070000
END:DAYLIGHT
BEGIN:STANDARD
TZOFFSETFROM:-0400
TZOFFSETTO:-0500
TZNAME:EST
DTSTART:20281105T060000
END:STANDARD
END:VTIMEZONE
BEGIN:VEVENT
DTSTART;TZID=America/New_York:20270201T190000
DTEND;TZID=America/New_York:20270201T220000
DTSTAMP:20260422T191348
CREATED:20251230T202706Z
LAST-MODIFIED:20251230T203748Z
UID:10003924-1801508400-1801519200@staging.tatesgaming.com
SUMMARY:Gundam TCG
DESCRIPTION:Gundam pilots! Join us every Monday to put your skills to the test on the field of battle! \nWhen: Mondays\nTime: 7:00 pm\nEntry: $10.00\nFormat: Constructed
URL:https://staging.tatesgaming.com/event/gundam-tcg/2027-02-01/
LOCATION:TATE’S Gaming Satellite\, 4580 N. University Drive\, Lauderhill\, FL\, 33351\, United States
CATEGORIES:Gundam TCG
ATTACH;FMTTYPE=image/png:https://staging.tatesgaming.com/wp-content/uploads/2025/12/gundam-event.png
GEO:26.1823829;-80.2509514
X-APPLE-STRUCTURED-LOCATION;VALUE=URI;X-ADDRESS=TATE’S Gaming Satellite 4580 N. University Drive Lauderhill FL 33351 United States;X-APPLE-RADIUS=500;X-TITLE=4580 N. University Drive:geo:-80.2509514,26.1823829
END:VEVENT
BEGIN:VEVENT
DTSTART;TZID=America/New_York:20270208T190000
DTEND;TZID=America/New_York:20270208T220000
DTSTAMP:20260422T191348
CREATED:20251230T202706Z
LAST-MODIFIED:20251230T203748Z
UID:10003925-1802113200-1802124000@staging.tatesgaming.com
SUMMARY:Gundam TCG
DESCRIPTION:Gundam pilots! Join us every Monday to put your skills to the test on the field of battle! \nWhen: Mondays\nTime: 7:00 pm\nEntry: $10.00\nFormat: Constructed
URL:https://staging.tatesgaming.com/event/gundam-tcg/2027-02-08/
LOCATION:TATE’S Gaming Satellite\, 4580 N. University Drive\, Lauderhill\, FL\, 33351\, United States
CATEGORIES:Gundam TCG
ATTACH;FMTTYPE=image/png:https://staging.tatesgaming.com/wp-content/uploads/2025/12/gundam-event.png
GEO:26.1823829;-80.2509514
X-APPLE-STRUCTURED-LOCATION;VALUE=URI;X-ADDRESS=TATE’S Gaming Satellite 4580 N. University Drive Lauderhill FL 33351 United States;X-APPLE-RADIUS=500;X-TITLE=4580 N. University Drive:geo:-80.2509514,26.1823829
END:VEVENT
BEGIN:VEVENT
DTSTART;TZID=America/New_York:20270215T190000
DTEND;TZID=America/New_York:20270215T220000
DTSTAMP:20260422T191348
CREATED:20251230T202706Z
LAST-MODIFIED:20251230T203748Z
UID:10003926-1802718000-1802728800@staging.tatesgaming.com
SUMMARY:Gundam TCG
DESCRIPTION:Gundam pilots! Join us every Monday to put your skills to the test on the field of battle! \nWhen: Mondays\nTime: 7:00 pm\nEntry: $10.00\nFormat: Constructed
URL:https://staging.tatesgaming.com/event/gundam-tcg/2027-02-15/
LOCATION:TATE’S Gaming Satellite\, 4580 N. University Drive\, Lauderhill\, FL\, 33351\, United States
CATEGORIES:Gundam TCG
ATTACH;FMTTYPE=image/png:https://staging.tatesgaming.com/wp-content/uploads/2025/12/gundam-event.png
GEO:26.1823829;-80.2509514
X-APPLE-STRUCTURED-LOCATION;VALUE=URI;X-ADDRESS=TATE’S Gaming Satellite 4580 N. University Drive Lauderhill FL 33351 United States;X-APPLE-RADIUS=500;X-TITLE=4580 N. University Drive:geo:-80.2509514,26.1823829
END:VEVENT
BEGIN:VEVENT
DTSTART;TZID=America/New_York:20270222T190000
DTEND;TZID=America/New_York:20270222T220000
DTSTAMP:20260422T191348
CREATED:20251230T202706Z
LAST-MODIFIED:20251230T203748Z
UID:10003927-1803322800-1803333600@staging.tatesgaming.com
SUMMARY:Gundam TCG
DESCRIPTION:Gundam pilots! Join us every Monday to put your skills to the test on the field of battle! \nWhen: Mondays\nTime: 7:00 pm\nEntry: $10.00\nFormat: Constructed
URL:https://staging.tatesgaming.com/event/gundam-tcg/2027-02-22/
LOCATION:TATE’S Gaming Satellite\, 4580 N. University Drive\, Lauderhill\, FL\, 33351\, United States
CATEGORIES:Gundam TCG
ATTACH;FMTTYPE=image/png:https://staging.tatesgaming.com/wp-content/uploads/2025/12/gundam-event.png
GEO:26.1823829;-80.2509514
X-APPLE-STRUCTURED-LOCATION;VALUE=URI;X-ADDRESS=TATE’S Gaming Satellite 4580 N. University Drive Lauderhill FL 33351 United States;X-APPLE-RADIUS=500;X-TITLE=4580 N. University Drive:geo:-80.2509514,26.1823829
END:VEVENT
END:VCALENDAR