BEGIN:VCALENDAR
VERSION:2.0
PRODID:-//Tate&#039;s Gaming Satellite - ECPv6.15.20//NONSGML v1.0//EN
CALSCALE:GREGORIAN
METHOD:PUBLISH
X-WR-CALNAME:Tate&#039;s Gaming Satellite
X-ORIGINAL-URL:https://staging.tatesgaming.com
X-WR-CALDESC:Events for Tate&#039;s Gaming Satellite
REFRESH-INTERVAL;VALUE=DURATION:PT1H
X-Robots-Tag:noindex
X-PUBLISHED-TTL:PT1H
BEGIN:VTIMEZONE
TZID:America/New_York
BEGIN:DAYLIGHT
TZOFFSETFROM:-0500
TZOFFSETTO:-0400
TZNAME:EDT
DTSTART:20260308T070000
END:DAYLIGHT
BEGIN:STANDARD
TZOFFSETFROM:-0400
TZOFFSETTO:-0500
TZNAME:EST
DTSTART:20261101T060000
END:STANDARD
BEGIN:DAYLIGHT
TZOFFSETFROM:-0500
TZOFFSETTO:-0400
TZNAME:EDT
DTSTART:20270314T070000
END:DAYLIGHT
BEGIN:STANDARD
TZOFFSETFROM:-0400
TZOFFSETTO:-0500
TZNAME:EST
DTSTART:20271107T060000
END:STANDARD
BEGIN:DAYLIGHT
TZOFFSETFROM:-0500
TZOFFSETTO:-0400
TZNAME:EDT
DTSTART:20280312T070000
END:DAYLIGHT
BEGIN:STANDARD
TZOFFSETFROM:-0400
TZOFFSETTO:-0500
TZNAME:EST
DTSTART:20281105T060000
END:STANDARD
END:VTIMEZONE
BEGIN:VEVENT
DTSTART;TZID=America/New_York:20270301T190000
DTEND;TZID=America/New_York:20270301T220000
DTSTAMP:20260422T210201
CREATED:20251230T202706Z
LAST-MODIFIED:20251230T203748Z
UID:10003928-1803927600-1803938400@staging.tatesgaming.com
SUMMARY:Gundam TCG
DESCRIPTION:Gundam pilots! Join us every Monday to put your skills to the test on the field of battle! \nWhen: Mondays\nTime: 7:00 pm\nEntry: $10.00\nFormat: Constructed
URL:https://staging.tatesgaming.com/event/gundam-tcg/2027-03-01/
LOCATION:TATE’S Gaming Satellite\, 4580 N. University Drive\, Lauderhill\, FL\, 33351\, United States
CATEGORIES:Gundam TCG
ATTACH;FMTTYPE=image/png:https://staging.tatesgaming.com/wp-content/uploads/2025/12/gundam-event.png
GEO:26.1823829;-80.2509514
X-APPLE-STRUCTURED-LOCATION;VALUE=URI;X-ADDRESS=TATE’S Gaming Satellite 4580 N. University Drive Lauderhill FL 33351 United States;X-APPLE-RADIUS=500;X-TITLE=4580 N. University Drive:geo:-80.2509514,26.1823829
END:VEVENT
BEGIN:VEVENT
DTSTART;TZID=America/New_York:20270308T190000
DTEND;TZID=America/New_York:20270308T220000
DTSTAMP:20260422T210201
CREATED:20251230T202706Z
LAST-MODIFIED:20251230T203748Z
UID:10003929-1804532400-1804543200@staging.tatesgaming.com
SUMMARY:Gundam TCG
DESCRIPTION:Gundam pilots! Join us every Monday to put your skills to the test on the field of battle! \nWhen: Mondays\nTime: 7:00 pm\nEntry: $10.00\nFormat: Constructed
URL:https://staging.tatesgaming.com/event/gundam-tcg/2027-03-08/
LOCATION:TATE’S Gaming Satellite\, 4580 N. University Drive\, Lauderhill\, FL\, 33351\, United States
CATEGORIES:Gundam TCG
ATTACH;FMTTYPE=image/png:https://staging.tatesgaming.com/wp-content/uploads/2025/12/gundam-event.png
GEO:26.1823829;-80.2509514
X-APPLE-STRUCTURED-LOCATION;VALUE=URI;X-ADDRESS=TATE’S Gaming Satellite 4580 N. University Drive Lauderhill FL 33351 United States;X-APPLE-RADIUS=500;X-TITLE=4580 N. University Drive:geo:-80.2509514,26.1823829
END:VEVENT
BEGIN:VEVENT
DTSTART;TZID=America/New_York:20270315T190000
DTEND;TZID=America/New_York:20270315T220000
DTSTAMP:20260422T210201
CREATED:20251230T202706Z
LAST-MODIFIED:20251230T203748Z
UID:10003930-1805137200-1805148000@staging.tatesgaming.com
SUMMARY:Gundam TCG
DESCRIPTION:Gundam pilots! Join us every Monday to put your skills to the test on the field of battle! \nWhen: Mondays\nTime: 7:00 pm\nEntry: $10.00\nFormat: Constructed
URL:https://staging.tatesgaming.com/event/gundam-tcg/2027-03-15/
LOCATION:TATE’S Gaming Satellite\, 4580 N. University Drive\, Lauderhill\, FL\, 33351\, United States
CATEGORIES:Gundam TCG
ATTACH;FMTTYPE=image/png:https://staging.tatesgaming.com/wp-content/uploads/2025/12/gundam-event.png
GEO:26.1823829;-80.2509514
X-APPLE-STRUCTURED-LOCATION;VALUE=URI;X-ADDRESS=TATE’S Gaming Satellite 4580 N. University Drive Lauderhill FL 33351 United States;X-APPLE-RADIUS=500;X-TITLE=4580 N. University Drive:geo:-80.2509514,26.1823829
END:VEVENT
BEGIN:VEVENT
DTSTART;TZID=America/New_York:20270322T190000
DTEND;TZID=America/New_York:20270322T220000
DTSTAMP:20260422T210201
CREATED:20251230T202706Z
LAST-MODIFIED:20251230T203748Z
UID:10003931-1805742000-1805752800@staging.tatesgaming.com
SUMMARY:Gundam TCG
DESCRIPTION:Gundam pilots! Join us every Monday to put your skills to the test on the field of battle! \nWhen: Mondays\nTime: 7:00 pm\nEntry: $10.00\nFormat: Constructed
URL:https://staging.tatesgaming.com/event/gundam-tcg/2027-03-22/
LOCATION:TATE’S Gaming Satellite\, 4580 N. University Drive\, Lauderhill\, FL\, 33351\, United States
CATEGORIES:Gundam TCG
ATTACH;FMTTYPE=image/png:https://staging.tatesgaming.com/wp-content/uploads/2025/12/gundam-event.png
GEO:26.1823829;-80.2509514
X-APPLE-STRUCTURED-LOCATION;VALUE=URI;X-ADDRESS=TATE’S Gaming Satellite 4580 N. University Drive Lauderhill FL 33351 United States;X-APPLE-RADIUS=500;X-TITLE=4580 N. University Drive:geo:-80.2509514,26.1823829
END:VEVENT
BEGIN:VEVENT
DTSTART;TZID=America/New_York:20270329T190000
DTEND;TZID=America/New_York:20270329T220000
DTSTAMP:20260422T210201
CREATED:20251230T202706Z
LAST-MODIFIED:20251230T203748Z
UID:10003932-1806346800-1806357600@staging.tatesgaming.com
SUMMARY:Gundam TCG
DESCRIPTION:Gundam pilots! Join us every Monday to put your skills to the test on the field of battle! \nWhen: Mondays\nTime: 7:00 pm\nEntry: $10.00\nFormat: Constructed
URL:https://staging.tatesgaming.com/event/gundam-tcg/2027-03-29/
LOCATION:TATE’S Gaming Satellite\, 4580 N. University Drive\, Lauderhill\, FL\, 33351\, United States
CATEGORIES:Gundam TCG
ATTACH;FMTTYPE=image/png:https://staging.tatesgaming.com/wp-content/uploads/2025/12/gundam-event.png
GEO:26.1823829;-80.2509514
X-APPLE-STRUCTURED-LOCATION;VALUE=URI;X-ADDRESS=TATE’S Gaming Satellite 4580 N. University Drive Lauderhill FL 33351 United States;X-APPLE-RADIUS=500;X-TITLE=4580 N. University Drive:geo:-80.2509514,26.1823829
END:VEVENT
END:VCALENDAR