BEGIN:VCALENDAR
VERSION:2.0
PRODID:-//Tate&#039;s Gaming Satellite - ECPv6.15.20//NONSGML v1.0//EN
CALSCALE:GREGORIAN
METHOD:PUBLISH
X-ORIGINAL-URL:https://staging.tatesgaming.com
X-WR-CALDESC:Events for Tate&#039;s Gaming Satellite
REFRESH-INTERVAL;VALUE=DURATION:PT1H
X-Robots-Tag:noindex
X-PUBLISHED-TTL:PT1H
BEGIN:VTIMEZONE
TZID:America/New_York
BEGIN:DAYLIGHT
TZOFFSETFROM:-0500
TZOFFSETTO:-0400
TZNAME:EDT
DTSTART:20240310T070000
END:DAYLIGHT
BEGIN:STANDARD
TZOFFSETFROM:-0400
TZOFFSETTO:-0500
TZNAME:EST
DTSTART:20241103T060000
END:STANDARD
BEGIN:DAYLIGHT
TZOFFSETFROM:-0500
TZOFFSETTO:-0400
TZNAME:EDT
DTSTART:20250309T070000
END:DAYLIGHT
BEGIN:STANDARD
TZOFFSETFROM:-0400
TZOFFSETTO:-0500
TZNAME:EST
DTSTART:20251102T060000
END:STANDARD
BEGIN:DAYLIGHT
TZOFFSETFROM:-0500
TZOFFSETTO:-0400
TZNAME:EDT
DTSTART:20260308T070000
END:DAYLIGHT
BEGIN:STANDARD
TZOFFSETFROM:-0400
TZOFFSETTO:-0500
TZNAME:EST
DTSTART:20261101T060000
END:STANDARD
BEGIN:DAYLIGHT
TZOFFSETFROM:-0500
TZOFFSETTO:-0400
TZNAME:EDT
DTSTART:20270314T070000
END:DAYLIGHT
BEGIN:STANDARD
TZOFFSETFROM:-0400
TZOFFSETTO:-0500
TZNAME:EST
DTSTART:20271107T060000
END:STANDARD
END:VTIMEZONE
BEGIN:VEVENT
DTSTART;TZID=America/New_York:20260413T190000
DTEND;TZID=America/New_York:20260413T220000
DTSTAMP:20260420T103724
CREATED:20251230T202706Z
LAST-MODIFIED:20251230T203748Z
UID:10003882-1776106800-1776117600@staging.tatesgaming.com
SUMMARY:Gundam TCG
DESCRIPTION:Gundam pilots! Join us every Monday to put your skills to the test on the field of battle! \nWhen: Mondays\nTime: 7:00 pm\nEntry: $10.00\nFormat: Constructed
URL:https://staging.tatesgaming.com/event/gundam-tcg/2026-04-13/
LOCATION:TATE’S Gaming Satellite\, 4580 N. University Drive\, Lauderhill\, FL\, 33351\, United States
CATEGORIES:Gundam TCG
ATTACH;FMTTYPE=image/png:https://staging.tatesgaming.com/wp-content/uploads/2025/12/gundam-event.png
GEO:26.1823829;-80.2509514
X-APPLE-STRUCTURED-LOCATION;VALUE=URI;X-ADDRESS=TATE’S Gaming Satellite 4580 N. University Drive Lauderhill FL 33351 United States;X-APPLE-RADIUS=500;X-TITLE=4580 N. University Drive:geo:-80.2509514,26.1823829
END:VEVENT
BEGIN:VEVENT
DTSTART;TZID=America/New_York:20260406T190000
DTEND;TZID=America/New_York:20260406T220000
DTSTAMP:20260420T103724
CREATED:20251230T202706Z
LAST-MODIFIED:20251230T203748Z
UID:10003881-1775502000-1775512800@staging.tatesgaming.com
SUMMARY:Gundam TCG
DESCRIPTION:Gundam pilots! Join us every Monday to put your skills to the test on the field of battle! \nWhen: Mondays\nTime: 7:00 pm\nEntry: $10.00\nFormat: Constructed
URL:https://staging.tatesgaming.com/event/gundam-tcg/2026-04-06/
LOCATION:TATE’S Gaming Satellite\, 4580 N. University Drive\, Lauderhill\, FL\, 33351\, United States
CATEGORIES:Gundam TCG
ATTACH;FMTTYPE=image/png:https://staging.tatesgaming.com/wp-content/uploads/2025/12/gundam-event.png
GEO:26.1823829;-80.2509514
X-APPLE-STRUCTURED-LOCATION;VALUE=URI;X-ADDRESS=TATE’S Gaming Satellite 4580 N. University Drive Lauderhill FL 33351 United States;X-APPLE-RADIUS=500;X-TITLE=4580 N. University Drive:geo:-80.2509514,26.1823829
END:VEVENT
BEGIN:VEVENT
DTSTART;TZID=America/New_York:20260330T190000
DTEND;TZID=America/New_York:20260330T220000
DTSTAMP:20260420T103724
CREATED:20251230T202706Z
LAST-MODIFIED:20251230T203748Z
UID:10003880-1774897200-1774908000@staging.tatesgaming.com
SUMMARY:Gundam TCG
DESCRIPTION:Gundam pilots! Join us every Monday to put your skills to the test on the field of battle! \nWhen: Mondays\nTime: 7:00 pm\nEntry: $10.00\nFormat: Constructed
URL:https://staging.tatesgaming.com/event/gundam-tcg/2026-03-30/
LOCATION:TATE’S Gaming Satellite\, 4580 N. University Drive\, Lauderhill\, FL\, 33351\, United States
CATEGORIES:Gundam TCG
ATTACH;FMTTYPE=image/png:https://staging.tatesgaming.com/wp-content/uploads/2025/12/gundam-event.png
GEO:26.1823829;-80.2509514
X-APPLE-STRUCTURED-LOCATION;VALUE=URI;X-ADDRESS=TATE’S Gaming Satellite 4580 N. University Drive Lauderhill FL 33351 United States;X-APPLE-RADIUS=500;X-TITLE=4580 N. University Drive:geo:-80.2509514,26.1823829
END:VEVENT
BEGIN:VEVENT
DTSTART;TZID=America/New_York:20260323T190000
DTEND;TZID=America/New_York:20260323T220000
DTSTAMP:20260420T103724
CREATED:20251230T202706Z
LAST-MODIFIED:20251230T203748Z
UID:10003879-1774292400-1774303200@staging.tatesgaming.com
SUMMARY:Gundam TCG
DESCRIPTION:Gundam pilots! Join us every Monday to put your skills to the test on the field of battle! \nWhen: Mondays\nTime: 7:00 pm\nEntry: $10.00\nFormat: Constructed
URL:https://staging.tatesgaming.com/event/gundam-tcg/2026-03-23/
LOCATION:TATE’S Gaming Satellite\, 4580 N. University Drive\, Lauderhill\, FL\, 33351\, United States
CATEGORIES:Gundam TCG
ATTACH;FMTTYPE=image/png:https://staging.tatesgaming.com/wp-content/uploads/2025/12/gundam-event.png
GEO:26.1823829;-80.2509514
X-APPLE-STRUCTURED-LOCATION;VALUE=URI;X-ADDRESS=TATE’S Gaming Satellite 4580 N. University Drive Lauderhill FL 33351 United States;X-APPLE-RADIUS=500;X-TITLE=4580 N. University Drive:geo:-80.2509514,26.1823829
END:VEVENT
BEGIN:VEVENT
DTSTART;TZID=America/New_York:20260316T190000
DTEND;TZID=America/New_York:20260316T220000
DTSTAMP:20260420T103724
CREATED:20251230T202706Z
LAST-MODIFIED:20251230T203748Z
UID:10003878-1773687600-1773698400@staging.tatesgaming.com
SUMMARY:Gundam TCG
DESCRIPTION:Gundam pilots! Join us every Monday to put your skills to the test on the field of battle! \nWhen: Mondays\nTime: 7:00 pm\nEntry: $10.00\nFormat: Constructed
URL:https://staging.tatesgaming.com/event/gundam-tcg/2026-03-16/
LOCATION:TATE’S Gaming Satellite\, 4580 N. University Drive\, Lauderhill\, FL\, 33351\, United States
CATEGORIES:Gundam TCG
ATTACH;FMTTYPE=image/png:https://staging.tatesgaming.com/wp-content/uploads/2025/12/gundam-event.png
GEO:26.1823829;-80.2509514
X-APPLE-STRUCTURED-LOCATION;VALUE=URI;X-ADDRESS=TATE’S Gaming Satellite 4580 N. University Drive Lauderhill FL 33351 United States;X-APPLE-RADIUS=500;X-TITLE=4580 N. University Drive:geo:-80.2509514,26.1823829
END:VEVENT
BEGIN:VEVENT
DTSTART;TZID=America/New_York:20260309T190000
DTEND;TZID=America/New_York:20260309T220000
DTSTAMP:20260420T103724
CREATED:20251230T202706Z
LAST-MODIFIED:20251230T203748Z
UID:10003877-1773082800-1773093600@staging.tatesgaming.com
SUMMARY:Gundam TCG
DESCRIPTION:Gundam pilots! Join us every Monday to put your skills to the test on the field of battle! \nWhen: Mondays\nTime: 7:00 pm\nEntry: $10.00\nFormat: Constructed
URL:https://staging.tatesgaming.com/event/gundam-tcg/2026-03-09/
LOCATION:TATE’S Gaming Satellite\, 4580 N. University Drive\, Lauderhill\, FL\, 33351\, United States
CATEGORIES:Gundam TCG
ATTACH;FMTTYPE=image/png:https://staging.tatesgaming.com/wp-content/uploads/2025/12/gundam-event.png
GEO:26.1823829;-80.2509514
X-APPLE-STRUCTURED-LOCATION;VALUE=URI;X-ADDRESS=TATE’S Gaming Satellite 4580 N. University Drive Lauderhill FL 33351 United States;X-APPLE-RADIUS=500;X-TITLE=4580 N. University Drive:geo:-80.2509514,26.1823829
END:VEVENT
BEGIN:VEVENT
DTSTART;TZID=America/New_York:20260302T190000
DTEND;TZID=America/New_York:20260302T220000
DTSTAMP:20260420T103724
CREATED:20251230T202706Z
LAST-MODIFIED:20251230T203748Z
UID:10003876-1772478000-1772488800@staging.tatesgaming.com
SUMMARY:Gundam TCG
DESCRIPTION:Gundam pilots! Join us every Monday to put your skills to the test on the field of battle! \nWhen: Mondays\nTime: 7:00 pm\nEntry: $10.00\nFormat: Constructed
URL:https://staging.tatesgaming.com/event/gundam-tcg/2026-03-02/
LOCATION:TATE’S Gaming Satellite\, 4580 N. University Drive\, Lauderhill\, FL\, 33351\, United States
CATEGORIES:Gundam TCG
ATTACH;FMTTYPE=image/png:https://staging.tatesgaming.com/wp-content/uploads/2025/12/gundam-event.png
GEO:26.1823829;-80.2509514
X-APPLE-STRUCTURED-LOCATION;VALUE=URI;X-ADDRESS=TATE’S Gaming Satellite 4580 N. University Drive Lauderhill FL 33351 United States;X-APPLE-RADIUS=500;X-TITLE=4580 N. University Drive:geo:-80.2509514,26.1823829
END:VEVENT
BEGIN:VEVENT
DTSTART;TZID=America/New_York:20260223T190000
DTEND;TZID=America/New_York:20260223T220000
DTSTAMP:20260420T103724
CREATED:20251230T202706Z
LAST-MODIFIED:20251230T203748Z
UID:10003875-1771873200-1771884000@staging.tatesgaming.com
SUMMARY:Gundam TCG
DESCRIPTION:Gundam pilots! Join us every Monday to put your skills to the test on the field of battle! \nWhen: Mondays\nTime: 7:00 pm\nEntry: $10.00\nFormat: Constructed
URL:https://staging.tatesgaming.com/event/gundam-tcg/2026-02-23/
LOCATION:TATE’S Gaming Satellite\, 4580 N. University Drive\, Lauderhill\, FL\, 33351\, United States
CATEGORIES:Gundam TCG
ATTACH;FMTTYPE=image/png:https://staging.tatesgaming.com/wp-content/uploads/2025/12/gundam-event.png
GEO:26.1823829;-80.2509514
X-APPLE-STRUCTURED-LOCATION;VALUE=URI;X-ADDRESS=TATE’S Gaming Satellite 4580 N. University Drive Lauderhill FL 33351 United States;X-APPLE-RADIUS=500;X-TITLE=4580 N. University Drive:geo:-80.2509514,26.1823829
END:VEVENT
BEGIN:VEVENT
DTSTART;TZID=America/New_York:20260216T190000
DTEND;TZID=America/New_York:20260216T220000
DTSTAMP:20260420T103724
CREATED:20251230T202706Z
LAST-MODIFIED:20251230T203748Z
UID:10003874-1771268400-1771279200@staging.tatesgaming.com
SUMMARY:Gundam TCG
DESCRIPTION:Gundam pilots! Join us every Monday to put your skills to the test on the field of battle! \nWhen: Mondays\nTime: 7:00 pm\nEntry: $10.00\nFormat: Constructed
URL:https://staging.tatesgaming.com/event/gundam-tcg/2026-02-16/
LOCATION:TATE’S Gaming Satellite\, 4580 N. University Drive\, Lauderhill\, FL\, 33351\, United States
CATEGORIES:Gundam TCG
ATTACH;FMTTYPE=image/png:https://staging.tatesgaming.com/wp-content/uploads/2025/12/gundam-event.png
GEO:26.1823829;-80.2509514
X-APPLE-STRUCTURED-LOCATION;VALUE=URI;X-ADDRESS=TATE’S Gaming Satellite 4580 N. University Drive Lauderhill FL 33351 United States;X-APPLE-RADIUS=500;X-TITLE=4580 N. University Drive:geo:-80.2509514,26.1823829
END:VEVENT
BEGIN:VEVENT
DTSTART;TZID=America/New_York:20260209T190000
DTEND;TZID=America/New_York:20260209T220000
DTSTAMP:20260420T103724
CREATED:20251230T202706Z
LAST-MODIFIED:20251230T203748Z
UID:10003873-1770663600-1770674400@staging.tatesgaming.com
SUMMARY:Gundam TCG
DESCRIPTION:Gundam pilots! Join us every Monday to put your skills to the test on the field of battle! \nWhen: Mondays\nTime: 7:00 pm\nEntry: $10.00\nFormat: Constructed
URL:https://staging.tatesgaming.com/event/gundam-tcg/2026-02-09/
LOCATION:TATE’S Gaming Satellite\, 4580 N. University Drive\, Lauderhill\, FL\, 33351\, United States
CATEGORIES:Gundam TCG
ATTACH;FMTTYPE=image/png:https://staging.tatesgaming.com/wp-content/uploads/2025/12/gundam-event.png
GEO:26.1823829;-80.2509514
X-APPLE-STRUCTURED-LOCATION;VALUE=URI;X-ADDRESS=TATE’S Gaming Satellite 4580 N. University Drive Lauderhill FL 33351 United States;X-APPLE-RADIUS=500;X-TITLE=4580 N. University Drive:geo:-80.2509514,26.1823829
END:VEVENT
BEGIN:VEVENT
DTSTART;TZID=America/New_York:20260202T190000
DTEND;TZID=America/New_York:20260202T220000
DTSTAMP:20260420T103724
CREATED:20251230T202706Z
LAST-MODIFIED:20251230T203748Z
UID:10003872-1770058800-1770069600@staging.tatesgaming.com
SUMMARY:Gundam TCG
DESCRIPTION:Gundam pilots! Join us every Monday to put your skills to the test on the field of battle! \nWhen: Mondays\nTime: 7:00 pm\nEntry: $10.00\nFormat: Constructed
URL:https://staging.tatesgaming.com/event/gundam-tcg/2026-02-02/
LOCATION:TATE’S Gaming Satellite\, 4580 N. University Drive\, Lauderhill\, FL\, 33351\, United States
CATEGORIES:Gundam TCG
ATTACH;FMTTYPE=image/png:https://staging.tatesgaming.com/wp-content/uploads/2025/12/gundam-event.png
GEO:26.1823829;-80.2509514
X-APPLE-STRUCTURED-LOCATION;VALUE=URI;X-ADDRESS=TATE’S Gaming Satellite 4580 N. University Drive Lauderhill FL 33351 United States;X-APPLE-RADIUS=500;X-TITLE=4580 N. University Drive:geo:-80.2509514,26.1823829
END:VEVENT
BEGIN:VEVENT
DTSTART;TZID=America/New_York:20260126T190000
DTEND;TZID=America/New_York:20260126T220000
DTSTAMP:20260420T103724
CREATED:20251230T202706Z
LAST-MODIFIED:20251230T203748Z
UID:10003871-1769454000-1769464800@staging.tatesgaming.com
SUMMARY:Gundam TCG
DESCRIPTION:Gundam pilots! Join us every Monday to put your skills to the test on the field of battle! \nWhen: Mondays\nTime: 7:00 pm\nEntry: $10.00\nFormat: Constructed
URL:https://staging.tatesgaming.com/event/gundam-tcg/2026-01-26/
LOCATION:TATE’S Gaming Satellite\, 4580 N. University Drive\, Lauderhill\, FL\, 33351\, United States
CATEGORIES:Gundam TCG
ATTACH;FMTTYPE=image/png:https://staging.tatesgaming.com/wp-content/uploads/2025/12/gundam-event.png
GEO:26.1823829;-80.2509514
X-APPLE-STRUCTURED-LOCATION;VALUE=URI;X-ADDRESS=TATE’S Gaming Satellite 4580 N. University Drive Lauderhill FL 33351 United States;X-APPLE-RADIUS=500;X-TITLE=4580 N. University Drive:geo:-80.2509514,26.1823829
END:VEVENT
BEGIN:VEVENT
DTSTART;TZID=America/New_York:20260119T190000
DTEND;TZID=America/New_York:20260119T220000
DTSTAMP:20260420T103724
CREATED:20251230T202706Z
LAST-MODIFIED:20251230T203748Z
UID:10003870-1768849200-1768860000@staging.tatesgaming.com
SUMMARY:Gundam TCG
DESCRIPTION:Gundam pilots! Join us every Monday to put your skills to the test on the field of battle! \nWhen: Mondays\nTime: 7:00 pm\nEntry: $10.00\nFormat: Constructed
URL:https://staging.tatesgaming.com/event/gundam-tcg/2026-01-19/
LOCATION:TATE’S Gaming Satellite\, 4580 N. University Drive\, Lauderhill\, FL\, 33351\, United States
CATEGORIES:Gundam TCG
ATTACH;FMTTYPE=image/png:https://staging.tatesgaming.com/wp-content/uploads/2025/12/gundam-event.png
GEO:26.1823829;-80.2509514
X-APPLE-STRUCTURED-LOCATION;VALUE=URI;X-ADDRESS=TATE’S Gaming Satellite 4580 N. University Drive Lauderhill FL 33351 United States;X-APPLE-RADIUS=500;X-TITLE=4580 N. University Drive:geo:-80.2509514,26.1823829
END:VEVENT
BEGIN:VEVENT
DTSTART;TZID=America/New_York:20260112T190000
DTEND;TZID=America/New_York:20260112T220000
DTSTAMP:20260420T103724
CREATED:20251230T202706Z
LAST-MODIFIED:20251230T203748Z
UID:10003869-1768244400-1768255200@staging.tatesgaming.com
SUMMARY:Gundam TCG
DESCRIPTION:Gundam pilots! Join us every Monday to put your skills to the test on the field of battle! \nWhen: Mondays\nTime: 7:00 pm\nEntry: $10.00\nFormat: Constructed
URL:https://staging.tatesgaming.com/event/gundam-tcg/2026-01-12/
LOCATION:TATE’S Gaming Satellite\, 4580 N. University Drive\, Lauderhill\, FL\, 33351\, United States
CATEGORIES:Gundam TCG
ATTACH;FMTTYPE=image/png:https://staging.tatesgaming.com/wp-content/uploads/2025/12/gundam-event.png
GEO:26.1823829;-80.2509514
X-APPLE-STRUCTURED-LOCATION;VALUE=URI;X-ADDRESS=TATE’S Gaming Satellite 4580 N. University Drive Lauderhill FL 33351 United States;X-APPLE-RADIUS=500;X-TITLE=4580 N. University Drive:geo:-80.2509514,26.1823829
END:VEVENT
BEGIN:VEVENT
DTSTART;TZID=America/New_York:20260105T190000
DTEND;TZID=America/New_York:20260105T220000
DTSTAMP:20260420T103724
CREATED:20251230T202706Z
LAST-MODIFIED:20251230T203748Z
UID:10003868-1767639600-1767650400@staging.tatesgaming.com
SUMMARY:Gundam TCG
DESCRIPTION:Gundam pilots! Join us every Monday to put your skills to the test on the field of battle! \nWhen: Mondays\nTime: 7:00 pm\nEntry: $10.00\nFormat: Constructed
URL:https://staging.tatesgaming.com/event/gundam-tcg/2026-01-05/
LOCATION:TATE’S Gaming Satellite\, 4580 N. University Drive\, Lauderhill\, FL\, 33351\, United States
CATEGORIES:Gundam TCG
ATTACH;FMTTYPE=image/png:https://staging.tatesgaming.com/wp-content/uploads/2025/12/gundam-event.png
GEO:26.1823829;-80.2509514
X-APPLE-STRUCTURED-LOCATION;VALUE=URI;X-ADDRESS=TATE’S Gaming Satellite 4580 N. University Drive Lauderhill FL 33351 United States;X-APPLE-RADIUS=500;X-TITLE=4580 N. University Drive:geo:-80.2509514,26.1823829
END:VEVENT
BEGIN:VEVENT
DTSTART;TZID=America/New_York:20251229T190000
DTEND;TZID=America/New_York:20251229T220000
DTSTAMP:20260420T103724
CREATED:20251230T202706Z
LAST-MODIFIED:20251230T203748Z
UID:10003867-1767034800-1767045600@staging.tatesgaming.com
SUMMARY:Gundam TCG
DESCRIPTION:Gundam pilots! Join us every Monday to put your skills to the test on the field of battle! \nWhen: Mondays\nTime: 7:00 pm\nEntry: $10.00\nFormat: Constructed
URL:https://staging.tatesgaming.com/event/gundam-tcg/2025-12-29/
LOCATION:TATE’S Gaming Satellite\, 4580 N. University Drive\, Lauderhill\, FL\, 33351\, United States
CATEGORIES:Gundam TCG
ATTACH;FMTTYPE=image/png:https://staging.tatesgaming.com/wp-content/uploads/2025/12/gundam-event.png
GEO:26.1823829;-80.2509514
X-APPLE-STRUCTURED-LOCATION;VALUE=URI;X-ADDRESS=TATE’S Gaming Satellite 4580 N. University Drive Lauderhill FL 33351 United States;X-APPLE-RADIUS=500;X-TITLE=4580 N. University Drive:geo:-80.2509514,26.1823829
END:VEVENT
END:VCALENDAR