BEGIN:VCALENDAR
VERSION:2.0
PRODID:-//Tate&#039;s Gaming Satellite - ECPv6.15.20//NONSGML v1.0//EN
CALSCALE:GREGORIAN
METHOD:PUBLISH
X-ORIGINAL-URL:https://staging.tatesgaming.com
X-WR-CALDESC:Events for Tate&#039;s Gaming Satellite
REFRESH-INTERVAL;VALUE=DURATION:PT1H
X-Robots-Tag:noindex
X-PUBLISHED-TTL:PT1H
BEGIN:VTIMEZONE
TZID:America/New_York
BEGIN:DAYLIGHT
TZOFFSETFROM:-0500
TZOFFSETTO:-0400
TZNAME:EDT
DTSTART:20170312T070000
END:DAYLIGHT
BEGIN:STANDARD
TZOFFSETFROM:-0400
TZOFFSETTO:-0500
TZNAME:EST
DTSTART:20171105T060000
END:STANDARD
BEGIN:DAYLIGHT
TZOFFSETFROM:-0500
TZOFFSETTO:-0400
TZNAME:EDT
DTSTART:20180311T070000
END:DAYLIGHT
BEGIN:STANDARD
TZOFFSETFROM:-0400
TZOFFSETTO:-0500
TZNAME:EST
DTSTART:20181104T060000
END:STANDARD
BEGIN:DAYLIGHT
TZOFFSETFROM:-0500
TZOFFSETTO:-0400
TZNAME:EDT
DTSTART:20190310T070000
END:DAYLIGHT
BEGIN:STANDARD
TZOFFSETFROM:-0400
TZOFFSETTO:-0500
TZNAME:EST
DTSTART:20191103T060000
END:STANDARD
BEGIN:DAYLIGHT
TZOFFSETFROM:-0500
TZOFFSETTO:-0400
TZNAME:EDT
DTSTART:20200308T070000
END:DAYLIGHT
BEGIN:STANDARD
TZOFFSETFROM:-0400
TZOFFSETTO:-0500
TZNAME:EST
DTSTART:20201101T060000
END:STANDARD
BEGIN:DAYLIGHT
TZOFFSETFROM:-0500
TZOFFSETTO:-0400
TZNAME:EDT
DTSTART:20210314T070000
END:DAYLIGHT
BEGIN:STANDARD
TZOFFSETFROM:-0400
TZOFFSETTO:-0500
TZNAME:EST
DTSTART:20211107T060000
END:STANDARD
END:VTIMEZONE
BEGIN:VEVENT
DTSTART;VALUE=DATE:20201225
DTEND;VALUE=DATE:20201226
DTSTAMP:20260422T173814
CREATED:20191126T194251Z
LAST-MODIFIED:20211224T001503Z
UID:10000639-1608854400-1608940799@staging.tatesgaming.com
SUMMARY:Closed for Christmas
DESCRIPTION:
URL:https://staging.tatesgaming.com/event/closed-for-christmas/2020-12-25/
LOCATION:FL
CATEGORIES:Holidays
END:VEVENT
BEGIN:VEVENT
DTSTART;VALUE=DATE:20191231
DTEND;VALUE=DATE:20200101
DTSTAMP:20260422T173814
CREATED:20181228T173724Z
LAST-MODIFIED:20211224T001604Z
UID:10000409-1577750400-1577836799@staging.tatesgaming.com
SUMMARY:New Year's Eve – Close Early @ 5pm
DESCRIPTION:We will be closing early at 5pm for New Year’s Eve! Stay safe out there everyone and let’s start off the new year strong!
URL:https://staging.tatesgaming.com/event/new-years-eve-close-early-4pm/2019-12-31/
LOCATION:TATE’S Gaming Satellite\, 4580 N. University Drive\, Lauderhill\, FL\, 33351\, United States
CATEGORIES:Holidays
GEO:26.1823829;-80.2509514
X-APPLE-STRUCTURED-LOCATION;VALUE=URI;X-ADDRESS=TATE’S Gaming Satellite 4580 N. University Drive Lauderhill FL 33351 United States;X-APPLE-RADIUS=500;X-TITLE=4580 N. University Drive:geo:-80.2509514,26.1823829
END:VEVENT
BEGIN:VEVENT
DTSTART;VALUE=DATE:20191225
DTEND;VALUE=DATE:20191226
DTSTAMP:20260422T173814
CREATED:20191126T194251Z
LAST-MODIFIED:20211224T001503Z
UID:10000638-1577232000-1577318399@staging.tatesgaming.com
SUMMARY:Closed for Christmas
DESCRIPTION:
URL:https://staging.tatesgaming.com/event/closed-for-christmas/2019-12-25/
LOCATION:FL
CATEGORIES:Holidays
END:VEVENT
BEGIN:VEVENT
DTSTART;VALUE=DATE:20180704
DTEND;VALUE=DATE:20180705
DTSTAMP:20260422T173814
CREATED:20180616T190244Z
LAST-MODIFIED:20230626T053925Z
UID:10000021-1530702000-1530720000@staging.tatesgaming.com
SUMMARY:Independence Day: Close Early @ 5pm
DESCRIPTION:Have a happy and safe 4th of July!
URL:https://staging.tatesgaming.com/event/independence-day-close-early-4pm/2018-07-04/2/
LOCATION:TATE’S Gaming Satellite\, 4580 N. University Drive\, Lauderhill\, FL\, 33351\, United States
CATEGORIES:Holidays
ATTACH;FMTTYPE=image/jpeg:https://staging.tatesgaming.com/wp-content/uploads/2018/06/July-4th-Propaganda.jpg
GEO:26.1823829;-80.2509514
X-APPLE-STRUCTURED-LOCATION;VALUE=URI;X-ADDRESS=TATE’S Gaming Satellite 4580 N. University Drive Lauderhill FL 33351 United States;X-APPLE-RADIUS=500;X-TITLE=4580 N. University Drive:geo:-80.2509514,26.1823829
END:VEVENT
BEGIN:VEVENT
DTSTART;VALUE=DATE:20180704
DTEND;VALUE=DATE:20180705
DTSTAMP:20260422T173814
CREATED:20180616T190244Z
LAST-MODIFIED:20230626T053925Z
UID:10000962-1530662400-1530748799@staging.tatesgaming.com
SUMMARY:Independence Day: Close Early @ 5pm
DESCRIPTION:Have a happy and safe 4th of July!
URL:https://staging.tatesgaming.com/event/independence-day-close-early-4pm/2018-07-04/1/
LOCATION:TATE’S Gaming Satellite\, 4580 N. University Drive\, Lauderhill\, FL\, 33351\, United States
CATEGORIES:Holidays
ATTACH;FMTTYPE=image/jpeg:https://staging.tatesgaming.com/wp-content/uploads/2018/06/July-4th-Propaganda.jpg
GEO:26.1823829;-80.2509514
X-APPLE-STRUCTURED-LOCATION;VALUE=URI;X-ADDRESS=TATE’S Gaming Satellite 4580 N. University Drive Lauderhill FL 33351 United States;X-APPLE-RADIUS=500;X-TITLE=4580 N. University Drive:geo:-80.2509514,26.1823829
END:VEVENT
END:VCALENDAR