BEGIN:VCALENDAR
VERSION:2.0
PRODID:-//Tate&#039;s Gaming Satellite - ECPv6.15.20//NONSGML v1.0//EN
CALSCALE:GREGORIAN
METHOD:PUBLISH
X-WR-CALNAME:Tate&#039;s Gaming Satellite
X-ORIGINAL-URL:https://staging.tatesgaming.com
X-WR-CALDESC:Events for Tate&#039;s Gaming Satellite
REFRESH-INTERVAL;VALUE=DURATION:PT1H
X-Robots-Tag:noindex
X-PUBLISHED-TTL:PT1H
BEGIN:VTIMEZONE
TZID:America/New_York
BEGIN:DAYLIGHT
TZOFFSETFROM:-0500
TZOFFSETTO:-0400
TZNAME:EDT
DTSTART:20240310T070000
END:DAYLIGHT
BEGIN:STANDARD
TZOFFSETFROM:-0400
TZOFFSETTO:-0500
TZNAME:EST
DTSTART:20241103T060000
END:STANDARD
BEGIN:DAYLIGHT
TZOFFSETFROM:-0500
TZOFFSETTO:-0400
TZNAME:EDT
DTSTART:20250309T070000
END:DAYLIGHT
BEGIN:STANDARD
TZOFFSETFROM:-0400
TZOFFSETTO:-0500
TZNAME:EST
DTSTART:20251102T060000
END:STANDARD
BEGIN:DAYLIGHT
TZOFFSETFROM:-0500
TZOFFSETTO:-0400
TZNAME:EDT
DTSTART:20260308T070000
END:DAYLIGHT
BEGIN:STANDARD
TZOFFSETFROM:-0400
TZOFFSETTO:-0500
TZNAME:EST
DTSTART:20261101T060000
END:STANDARD
END:VTIMEZONE
BEGIN:VEVENT
DTSTART;TZID=America/New_York:20250301T170000
DTEND;TZID=America/New_York:20250301T230000
DTSTAMP:20260424T173425
CREATED:20220101T161322Z
LAST-MODIFIED:20231127T231301Z
UID:10003098-1740848400-1740870000@staging.tatesgaming.com
SUMMARY:Casual Commander / EDH
DESCRIPTION:Join us every Friday and Saturday for FREE casual Commander play!
URL:https://staging.tatesgaming.com/event/casual-commander-edh/2025-03-01/
LOCATION:TATE’S Gaming Satellite\, 4580 N. University Drive\, Lauderhill\, FL\, 33351\, United States
CATEGORIES:Magic the Gathering
ATTACH;FMTTYPE=image/png:https://staging.tatesgaming.com/wp-content/uploads/2022/01/edh-slider.png
GEO:26.1823829;-80.2509514
X-APPLE-STRUCTURED-LOCATION;VALUE=URI;X-ADDRESS=TATE’S Gaming Satellite 4580 N. University Drive Lauderhill FL 33351 United States;X-APPLE-RADIUS=500;X-TITLE=4580 N. University Drive:geo:-80.2509514,26.1823829
END:VEVENT
BEGIN:VEVENT
DTSTART;TZID=America/New_York:20250307T170000
DTEND;TZID=America/New_York:20250307T230000
DTSTAMP:20260424T173425
CREATED:20220101T161322Z
LAST-MODIFIED:20231127T231301Z
UID:10003099-1741366800-1741388400@staging.tatesgaming.com
SUMMARY:Casual Commander / EDH
DESCRIPTION:Join us every Friday and Saturday for FREE casual Commander play!
URL:https://staging.tatesgaming.com/event/casual-commander-edh/2025-03-07/
LOCATION:TATE’S Gaming Satellite\, 4580 N. University Drive\, Lauderhill\, FL\, 33351\, United States
CATEGORIES:Magic the Gathering
ATTACH;FMTTYPE=image/png:https://staging.tatesgaming.com/wp-content/uploads/2022/01/edh-slider.png
GEO:26.1823829;-80.2509514
X-APPLE-STRUCTURED-LOCATION;VALUE=URI;X-ADDRESS=TATE’S Gaming Satellite 4580 N. University Drive Lauderhill FL 33351 United States;X-APPLE-RADIUS=500;X-TITLE=4580 N. University Drive:geo:-80.2509514,26.1823829
END:VEVENT
BEGIN:VEVENT
DTSTART;TZID=America/New_York:20250308T170000
DTEND;TZID=America/New_York:20250308T230000
DTSTAMP:20260424T173425
CREATED:20220101T161322Z
LAST-MODIFIED:20231127T231301Z
UID:10003100-1741453200-1741474800@staging.tatesgaming.com
SUMMARY:Casual Commander / EDH
DESCRIPTION:Join us every Friday and Saturday for FREE casual Commander play!
URL:https://staging.tatesgaming.com/event/casual-commander-edh/2025-03-08/
LOCATION:TATE’S Gaming Satellite\, 4580 N. University Drive\, Lauderhill\, FL\, 33351\, United States
CATEGORIES:Magic the Gathering
ATTACH;FMTTYPE=image/png:https://staging.tatesgaming.com/wp-content/uploads/2022/01/edh-slider.png
GEO:26.1823829;-80.2509514
X-APPLE-STRUCTURED-LOCATION;VALUE=URI;X-ADDRESS=TATE’S Gaming Satellite 4580 N. University Drive Lauderhill FL 33351 United States;X-APPLE-RADIUS=500;X-TITLE=4580 N. University Drive:geo:-80.2509514,26.1823829
END:VEVENT
BEGIN:VEVENT
DTSTART;TZID=America/New_York:20250314T170000
DTEND;TZID=America/New_York:20250314T230000
DTSTAMP:20260424T173425
CREATED:20220101T161322Z
LAST-MODIFIED:20231127T231301Z
UID:10003101-1741971600-1741993200@staging.tatesgaming.com
SUMMARY:Casual Commander / EDH
DESCRIPTION:Join us every Friday and Saturday for FREE casual Commander play!
URL:https://staging.tatesgaming.com/event/casual-commander-edh/2025-03-14/
LOCATION:TATE’S Gaming Satellite\, 4580 N. University Drive\, Lauderhill\, FL\, 33351\, United States
CATEGORIES:Magic the Gathering
ATTACH;FMTTYPE=image/png:https://staging.tatesgaming.com/wp-content/uploads/2022/01/edh-slider.png
GEO:26.1823829;-80.2509514
X-APPLE-STRUCTURED-LOCATION;VALUE=URI;X-ADDRESS=TATE’S Gaming Satellite 4580 N. University Drive Lauderhill FL 33351 United States;X-APPLE-RADIUS=500;X-TITLE=4580 N. University Drive:geo:-80.2509514,26.1823829
END:VEVENT
BEGIN:VEVENT
DTSTART;TZID=America/New_York:20250315T170000
DTEND;TZID=America/New_York:20250315T230000
DTSTAMP:20260424T173425
CREATED:20220101T161322Z
LAST-MODIFIED:20231127T231301Z
UID:10003102-1742058000-1742079600@staging.tatesgaming.com
SUMMARY:Casual Commander / EDH
DESCRIPTION:Join us every Friday and Saturday for FREE casual Commander play!
URL:https://staging.tatesgaming.com/event/casual-commander-edh/2025-03-15/
LOCATION:TATE’S Gaming Satellite\, 4580 N. University Drive\, Lauderhill\, FL\, 33351\, United States
CATEGORIES:Magic the Gathering
ATTACH;FMTTYPE=image/png:https://staging.tatesgaming.com/wp-content/uploads/2022/01/edh-slider.png
GEO:26.1823829;-80.2509514
X-APPLE-STRUCTURED-LOCATION;VALUE=URI;X-ADDRESS=TATE’S Gaming Satellite 4580 N. University Drive Lauderhill FL 33351 United States;X-APPLE-RADIUS=500;X-TITLE=4580 N. University Drive:geo:-80.2509514,26.1823829
END:VEVENT
BEGIN:VEVENT
DTSTART;TZID=America/New_York:20250321T170000
DTEND;TZID=America/New_York:20250321T230000
DTSTAMP:20260424T173425
CREATED:20220101T161322Z
LAST-MODIFIED:20231127T231301Z
UID:10003103-1742576400-1742598000@staging.tatesgaming.com
SUMMARY:Casual Commander / EDH
DESCRIPTION:Join us every Friday and Saturday for FREE casual Commander play!
URL:https://staging.tatesgaming.com/event/casual-commander-edh/2025-03-21/
LOCATION:TATE’S Gaming Satellite\, 4580 N. University Drive\, Lauderhill\, FL\, 33351\, United States
CATEGORIES:Magic the Gathering
ATTACH;FMTTYPE=image/png:https://staging.tatesgaming.com/wp-content/uploads/2022/01/edh-slider.png
GEO:26.1823829;-80.2509514
X-APPLE-STRUCTURED-LOCATION;VALUE=URI;X-ADDRESS=TATE’S Gaming Satellite 4580 N. University Drive Lauderhill FL 33351 United States;X-APPLE-RADIUS=500;X-TITLE=4580 N. University Drive:geo:-80.2509514,26.1823829
END:VEVENT
BEGIN:VEVENT
DTSTART;TZID=America/New_York:20250322T170000
DTEND;TZID=America/New_York:20250322T230000
DTSTAMP:20260424T173425
CREATED:20220101T161322Z
LAST-MODIFIED:20231127T231301Z
UID:10003104-1742662800-1742684400@staging.tatesgaming.com
SUMMARY:Casual Commander / EDH
DESCRIPTION:Join us every Friday and Saturday for FREE casual Commander play!
URL:https://staging.tatesgaming.com/event/casual-commander-edh/2025-03-22/
LOCATION:TATE’S Gaming Satellite\, 4580 N. University Drive\, Lauderhill\, FL\, 33351\, United States
CATEGORIES:Magic the Gathering
ATTACH;FMTTYPE=image/png:https://staging.tatesgaming.com/wp-content/uploads/2022/01/edh-slider.png
GEO:26.1823829;-80.2509514
X-APPLE-STRUCTURED-LOCATION;VALUE=URI;X-ADDRESS=TATE’S Gaming Satellite 4580 N. University Drive Lauderhill FL 33351 United States;X-APPLE-RADIUS=500;X-TITLE=4580 N. University Drive:geo:-80.2509514,26.1823829
END:VEVENT
BEGIN:VEVENT
DTSTART;TZID=America/New_York:20250328T170000
DTEND;TZID=America/New_York:20250328T230000
DTSTAMP:20260424T173425
CREATED:20220101T161322Z
LAST-MODIFIED:20231127T231301Z
UID:10003105-1743181200-1743202800@staging.tatesgaming.com
SUMMARY:Casual Commander / EDH
DESCRIPTION:Join us every Friday and Saturday for FREE casual Commander play!
URL:https://staging.tatesgaming.com/event/casual-commander-edh/2025-03-28/
LOCATION:TATE’S Gaming Satellite\, 4580 N. University Drive\, Lauderhill\, FL\, 33351\, United States
CATEGORIES:Magic the Gathering
ATTACH;FMTTYPE=image/png:https://staging.tatesgaming.com/wp-content/uploads/2022/01/edh-slider.png
GEO:26.1823829;-80.2509514
X-APPLE-STRUCTURED-LOCATION;VALUE=URI;X-ADDRESS=TATE’S Gaming Satellite 4580 N. University Drive Lauderhill FL 33351 United States;X-APPLE-RADIUS=500;X-TITLE=4580 N. University Drive:geo:-80.2509514,26.1823829
END:VEVENT
BEGIN:VEVENT
DTSTART;TZID=America/New_York:20250329T170000
DTEND;TZID=America/New_York:20250329T230000
DTSTAMP:20260424T173425
CREATED:20220101T161322Z
LAST-MODIFIED:20231127T231301Z
UID:10003106-1743267600-1743289200@staging.tatesgaming.com
SUMMARY:Casual Commander / EDH
DESCRIPTION:Join us every Friday and Saturday for FREE casual Commander play!
URL:https://staging.tatesgaming.com/event/casual-commander-edh/2025-03-29/
LOCATION:TATE’S Gaming Satellite\, 4580 N. University Drive\, Lauderhill\, FL\, 33351\, United States
CATEGORIES:Magic the Gathering
ATTACH;FMTTYPE=image/png:https://staging.tatesgaming.com/wp-content/uploads/2022/01/edh-slider.png
GEO:26.1823829;-80.2509514
X-APPLE-STRUCTURED-LOCATION;VALUE=URI;X-ADDRESS=TATE’S Gaming Satellite 4580 N. University Drive Lauderhill FL 33351 United States;X-APPLE-RADIUS=500;X-TITLE=4580 N. University Drive:geo:-80.2509514,26.1823829
END:VEVENT
END:VCALENDAR