BEGIN:VCALENDAR
VERSION:2.0
PRODID:-//Tate&#039;s Gaming Satellite - ECPv6.15.20//NONSGML v1.0//EN
CALSCALE:GREGORIAN
METHOD:PUBLISH
X-WR-CALNAME:Tate&#039;s Gaming Satellite
X-ORIGINAL-URL:https://staging.tatesgaming.com
X-WR-CALDESC:Events for Tate&#039;s Gaming Satellite
REFRESH-INTERVAL;VALUE=DURATION:PT1H
X-Robots-Tag:noindex
X-PUBLISHED-TTL:PT1H
BEGIN:VTIMEZONE
TZID:America/New_York
BEGIN:DAYLIGHT
TZOFFSETFROM:-0500
TZOFFSETTO:-0400
TZNAME:EDT
DTSTART:20240310T070000
END:DAYLIGHT
BEGIN:STANDARD
TZOFFSETFROM:-0400
TZOFFSETTO:-0500
TZNAME:EST
DTSTART:20241103T060000
END:STANDARD
BEGIN:DAYLIGHT
TZOFFSETFROM:-0500
TZOFFSETTO:-0400
TZNAME:EDT
DTSTART:20250309T070000
END:DAYLIGHT
BEGIN:STANDARD
TZOFFSETFROM:-0400
TZOFFSETTO:-0500
TZNAME:EST
DTSTART:20251102T060000
END:STANDARD
BEGIN:DAYLIGHT
TZOFFSETFROM:-0500
TZOFFSETTO:-0400
TZNAME:EDT
DTSTART:20260308T070000
END:DAYLIGHT
BEGIN:STANDARD
TZOFFSETFROM:-0400
TZOFFSETTO:-0500
TZNAME:EST
DTSTART:20261101T060000
END:STANDARD
END:VTIMEZONE
BEGIN:VEVENT
DTSTART;TZID=America/New_York:20251205T170000
DTEND;TZID=America/New_York:20251205T230000
DTSTAMP:20260424T041536
CREATED:20220101T161322Z
LAST-MODIFIED:20231127T231301Z
UID:10003177-1764954000-1764975600@staging.tatesgaming.com
SUMMARY:Casual Commander / EDH
DESCRIPTION:Join us every Friday and Saturday for FREE casual Commander play!
URL:https://staging.tatesgaming.com/event/casual-commander-edh/2025-12-05/
LOCATION:TATE’S Gaming Satellite\, 4580 N. University Drive\, Lauderhill\, FL\, 33351\, United States
CATEGORIES:Magic the Gathering
ATTACH;FMTTYPE=image/png:https://staging.tatesgaming.com/wp-content/uploads/2022/01/edh-slider.png
GEO:26.1823829;-80.2509514
X-APPLE-STRUCTURED-LOCATION;VALUE=URI;X-ADDRESS=TATE’S Gaming Satellite 4580 N. University Drive Lauderhill FL 33351 United States;X-APPLE-RADIUS=500;X-TITLE=4580 N. University Drive:geo:-80.2509514,26.1823829
END:VEVENT
BEGIN:VEVENT
DTSTART;TZID=America/New_York:20251206T170000
DTEND;TZID=America/New_York:20251206T230000
DTSTAMP:20260424T041536
CREATED:20220101T161322Z
LAST-MODIFIED:20231127T231301Z
UID:10003178-1765040400-1765062000@staging.tatesgaming.com
SUMMARY:Casual Commander / EDH
DESCRIPTION:Join us every Friday and Saturday for FREE casual Commander play!
URL:https://staging.tatesgaming.com/event/casual-commander-edh/2025-12-06/
LOCATION:TATE’S Gaming Satellite\, 4580 N. University Drive\, Lauderhill\, FL\, 33351\, United States
CATEGORIES:Magic the Gathering
ATTACH;FMTTYPE=image/png:https://staging.tatesgaming.com/wp-content/uploads/2022/01/edh-slider.png
GEO:26.1823829;-80.2509514
X-APPLE-STRUCTURED-LOCATION;VALUE=URI;X-ADDRESS=TATE’S Gaming Satellite 4580 N. University Drive Lauderhill FL 33351 United States;X-APPLE-RADIUS=500;X-TITLE=4580 N. University Drive:geo:-80.2509514,26.1823829
END:VEVENT
BEGIN:VEVENT
DTSTART;TZID=America/New_York:20251212T170000
DTEND;TZID=America/New_York:20251212T230000
DTSTAMP:20260424T041536
CREATED:20220101T161322Z
LAST-MODIFIED:20231127T231301Z
UID:10003179-1765558800-1765580400@staging.tatesgaming.com
SUMMARY:Casual Commander / EDH
DESCRIPTION:Join us every Friday and Saturday for FREE casual Commander play!
URL:https://staging.tatesgaming.com/event/casual-commander-edh/2025-12-12/
LOCATION:TATE’S Gaming Satellite\, 4580 N. University Drive\, Lauderhill\, FL\, 33351\, United States
CATEGORIES:Magic the Gathering
ATTACH;FMTTYPE=image/png:https://staging.tatesgaming.com/wp-content/uploads/2022/01/edh-slider.png
GEO:26.1823829;-80.2509514
X-APPLE-STRUCTURED-LOCATION;VALUE=URI;X-ADDRESS=TATE’S Gaming Satellite 4580 N. University Drive Lauderhill FL 33351 United States;X-APPLE-RADIUS=500;X-TITLE=4580 N. University Drive:geo:-80.2509514,26.1823829
END:VEVENT
BEGIN:VEVENT
DTSTART;TZID=America/New_York:20251213T170000
DTEND;TZID=America/New_York:20251213T230000
DTSTAMP:20260424T041536
CREATED:20220101T161322Z
LAST-MODIFIED:20231127T231301Z
UID:10003180-1765645200-1765666800@staging.tatesgaming.com
SUMMARY:Casual Commander / EDH
DESCRIPTION:Join us every Friday and Saturday for FREE casual Commander play!
URL:https://staging.tatesgaming.com/event/casual-commander-edh/2025-12-13/
LOCATION:TATE’S Gaming Satellite\, 4580 N. University Drive\, Lauderhill\, FL\, 33351\, United States
CATEGORIES:Magic the Gathering
ATTACH;FMTTYPE=image/png:https://staging.tatesgaming.com/wp-content/uploads/2022/01/edh-slider.png
GEO:26.1823829;-80.2509514
X-APPLE-STRUCTURED-LOCATION;VALUE=URI;X-ADDRESS=TATE’S Gaming Satellite 4580 N. University Drive Lauderhill FL 33351 United States;X-APPLE-RADIUS=500;X-TITLE=4580 N. University Drive:geo:-80.2509514,26.1823829
END:VEVENT
BEGIN:VEVENT
DTSTART;TZID=America/New_York:20251219T170000
DTEND;TZID=America/New_York:20251219T230000
DTSTAMP:20260424T041536
CREATED:20220101T161322Z
LAST-MODIFIED:20231127T231301Z
UID:10003181-1766163600-1766185200@staging.tatesgaming.com
SUMMARY:Casual Commander / EDH
DESCRIPTION:Join us every Friday and Saturday for FREE casual Commander play!
URL:https://staging.tatesgaming.com/event/casual-commander-edh/2025-12-19/
LOCATION:TATE’S Gaming Satellite\, 4580 N. University Drive\, Lauderhill\, FL\, 33351\, United States
CATEGORIES:Magic the Gathering
ATTACH;FMTTYPE=image/png:https://staging.tatesgaming.com/wp-content/uploads/2022/01/edh-slider.png
GEO:26.1823829;-80.2509514
X-APPLE-STRUCTURED-LOCATION;VALUE=URI;X-ADDRESS=TATE’S Gaming Satellite 4580 N. University Drive Lauderhill FL 33351 United States;X-APPLE-RADIUS=500;X-TITLE=4580 N. University Drive:geo:-80.2509514,26.1823829
END:VEVENT
BEGIN:VEVENT
DTSTART;TZID=America/New_York:20251220T170000
DTEND;TZID=America/New_York:20251220T230000
DTSTAMP:20260424T041536
CREATED:20220101T161322Z
LAST-MODIFIED:20231127T231301Z
UID:10003182-1766250000-1766271600@staging.tatesgaming.com
SUMMARY:Casual Commander / EDH
DESCRIPTION:Join us every Friday and Saturday for FREE casual Commander play!
URL:https://staging.tatesgaming.com/event/casual-commander-edh/2025-12-20/
LOCATION:TATE’S Gaming Satellite\, 4580 N. University Drive\, Lauderhill\, FL\, 33351\, United States
CATEGORIES:Magic the Gathering
ATTACH;FMTTYPE=image/png:https://staging.tatesgaming.com/wp-content/uploads/2022/01/edh-slider.png
GEO:26.1823829;-80.2509514
X-APPLE-STRUCTURED-LOCATION;VALUE=URI;X-ADDRESS=TATE’S Gaming Satellite 4580 N. University Drive Lauderhill FL 33351 United States;X-APPLE-RADIUS=500;X-TITLE=4580 N. University Drive:geo:-80.2509514,26.1823829
END:VEVENT
BEGIN:VEVENT
DTSTART;TZID=America/New_York:20251226T170000
DTEND;TZID=America/New_York:20251226T230000
DTSTAMP:20260424T041536
CREATED:20220101T161322Z
LAST-MODIFIED:20231127T231301Z
UID:10003183-1766768400-1766790000@staging.tatesgaming.com
SUMMARY:Casual Commander / EDH
DESCRIPTION:Join us every Friday and Saturday for FREE casual Commander play!
URL:https://staging.tatesgaming.com/event/casual-commander-edh/2025-12-26/
LOCATION:TATE’S Gaming Satellite\, 4580 N. University Drive\, Lauderhill\, FL\, 33351\, United States
CATEGORIES:Magic the Gathering
ATTACH;FMTTYPE=image/png:https://staging.tatesgaming.com/wp-content/uploads/2022/01/edh-slider.png
GEO:26.1823829;-80.2509514
X-APPLE-STRUCTURED-LOCATION;VALUE=URI;X-ADDRESS=TATE’S Gaming Satellite 4580 N. University Drive Lauderhill FL 33351 United States;X-APPLE-RADIUS=500;X-TITLE=4580 N. University Drive:geo:-80.2509514,26.1823829
END:VEVENT
BEGIN:VEVENT
DTSTART;TZID=America/New_York:20251227T170000
DTEND;TZID=America/New_York:20251227T230000
DTSTAMP:20260424T041536
CREATED:20220101T161322Z
LAST-MODIFIED:20231127T231301Z
UID:10003184-1766854800-1766876400@staging.tatesgaming.com
SUMMARY:Casual Commander / EDH
DESCRIPTION:Join us every Friday and Saturday for FREE casual Commander play!
URL:https://staging.tatesgaming.com/event/casual-commander-edh/2025-12-27/
LOCATION:TATE’S Gaming Satellite\, 4580 N. University Drive\, Lauderhill\, FL\, 33351\, United States
CATEGORIES:Magic the Gathering
ATTACH;FMTTYPE=image/png:https://staging.tatesgaming.com/wp-content/uploads/2022/01/edh-slider.png
GEO:26.1823829;-80.2509514
X-APPLE-STRUCTURED-LOCATION;VALUE=URI;X-ADDRESS=TATE’S Gaming Satellite 4580 N. University Drive Lauderhill FL 33351 United States;X-APPLE-RADIUS=500;X-TITLE=4580 N. University Drive:geo:-80.2509514,26.1823829
END:VEVENT
END:VCALENDAR