BEGIN:VCALENDAR
VERSION:2.0
PRODID:-//Tate&#039;s Gaming Satellite - ECPv6.15.20//NONSGML v1.0//EN
CALSCALE:GREGORIAN
METHOD:PUBLISH
X-ORIGINAL-URL:https://staging.tatesgaming.com
X-WR-CALDESC:Events for Tate&#039;s Gaming Satellite
REFRESH-INTERVAL;VALUE=DURATION:PT1H
X-Robots-Tag:noindex
X-PUBLISHED-TTL:PT1H
BEGIN:VTIMEZONE
TZID:America/New_York
BEGIN:DAYLIGHT
TZOFFSETFROM:-0500
TZOFFSETTO:-0400
TZNAME:EDT
DTSTART:20250309T070000
END:DAYLIGHT
BEGIN:STANDARD
TZOFFSETFROM:-0400
TZOFFSETTO:-0500
TZNAME:EST
DTSTART:20251102T060000
END:STANDARD
BEGIN:DAYLIGHT
TZOFFSETFROM:-0500
TZOFFSETTO:-0400
TZNAME:EDT
DTSTART:20260308T070000
END:DAYLIGHT
BEGIN:STANDARD
TZOFFSETFROM:-0400
TZOFFSETTO:-0500
TZNAME:EST
DTSTART:20261101T060000
END:STANDARD
BEGIN:DAYLIGHT
TZOFFSETFROM:-0500
TZOFFSETTO:-0400
TZNAME:EDT
DTSTART:20270314T070000
END:DAYLIGHT
BEGIN:STANDARD
TZOFFSETFROM:-0400
TZOFFSETTO:-0500
TZNAME:EST
DTSTART:20271107T060000
END:STANDARD
END:VTIMEZONE
BEGIN:VEVENT
DTSTART;TZID=America/New_York:20260206T170000
DTEND;TZID=America/New_York:20260206T230000
DTSTAMP:20260422T062834
CREATED:20220101T161322Z
LAST-MODIFIED:20231127T231301Z
UID:10003195-1770397200-1770418800@staging.tatesgaming.com
SUMMARY:Casual Commander / EDH
DESCRIPTION:Join us every Friday and Saturday for FREE casual Commander play!
URL:https://staging.tatesgaming.com/event/casual-commander-edh/2026-02-06/
LOCATION:TATE’S Gaming Satellite\, 4580 N. University Drive\, Lauderhill\, FL\, 33351\, United States
CATEGORIES:Magic the Gathering
ATTACH;FMTTYPE=image/png:https://staging.tatesgaming.com/wp-content/uploads/2022/01/edh-slider.png
GEO:26.1823829;-80.2509514
X-APPLE-STRUCTURED-LOCATION;VALUE=URI;X-ADDRESS=TATE’S Gaming Satellite 4580 N. University Drive Lauderhill FL 33351 United States;X-APPLE-RADIUS=500;X-TITLE=4580 N. University Drive:geo:-80.2509514,26.1823829
END:VEVENT
BEGIN:VEVENT
DTSTART;TZID=America/New_York:20260207T170000
DTEND;TZID=America/New_York:20260207T230000
DTSTAMP:20260422T062834
CREATED:20220101T161322Z
LAST-MODIFIED:20231127T231301Z
UID:10003196-1770483600-1770505200@staging.tatesgaming.com
SUMMARY:Casual Commander / EDH
DESCRIPTION:Join us every Friday and Saturday for FREE casual Commander play!
URL:https://staging.tatesgaming.com/event/casual-commander-edh/2026-02-07/
LOCATION:TATE’S Gaming Satellite\, 4580 N. University Drive\, Lauderhill\, FL\, 33351\, United States
CATEGORIES:Magic the Gathering
ATTACH;FMTTYPE=image/png:https://staging.tatesgaming.com/wp-content/uploads/2022/01/edh-slider.png
GEO:26.1823829;-80.2509514
X-APPLE-STRUCTURED-LOCATION;VALUE=URI;X-ADDRESS=TATE’S Gaming Satellite 4580 N. University Drive Lauderhill FL 33351 United States;X-APPLE-RADIUS=500;X-TITLE=4580 N. University Drive:geo:-80.2509514,26.1823829
END:VEVENT
BEGIN:VEVENT
DTSTART;TZID=America/New_York:20260213T170000
DTEND;TZID=America/New_York:20260213T230000
DTSTAMP:20260422T062834
CREATED:20220101T161322Z
LAST-MODIFIED:20231127T231301Z
UID:10003197-1771002000-1771023600@staging.tatesgaming.com
SUMMARY:Casual Commander / EDH
DESCRIPTION:Join us every Friday and Saturday for FREE casual Commander play!
URL:https://staging.tatesgaming.com/event/casual-commander-edh/2026-02-13/
LOCATION:TATE’S Gaming Satellite\, 4580 N. University Drive\, Lauderhill\, FL\, 33351\, United States
CATEGORIES:Magic the Gathering
ATTACH;FMTTYPE=image/png:https://staging.tatesgaming.com/wp-content/uploads/2022/01/edh-slider.png
GEO:26.1823829;-80.2509514
X-APPLE-STRUCTURED-LOCATION;VALUE=URI;X-ADDRESS=TATE’S Gaming Satellite 4580 N. University Drive Lauderhill FL 33351 United States;X-APPLE-RADIUS=500;X-TITLE=4580 N. University Drive:geo:-80.2509514,26.1823829
END:VEVENT
BEGIN:VEVENT
DTSTART;TZID=America/New_York:20260214T170000
DTEND;TZID=America/New_York:20260214T230000
DTSTAMP:20260422T062834
CREATED:20220101T161322Z
LAST-MODIFIED:20231127T231301Z
UID:10003198-1771088400-1771110000@staging.tatesgaming.com
SUMMARY:Casual Commander / EDH
DESCRIPTION:Join us every Friday and Saturday for FREE casual Commander play!
URL:https://staging.tatesgaming.com/event/casual-commander-edh/2026-02-14/
LOCATION:TATE’S Gaming Satellite\, 4580 N. University Drive\, Lauderhill\, FL\, 33351\, United States
CATEGORIES:Magic the Gathering
ATTACH;FMTTYPE=image/png:https://staging.tatesgaming.com/wp-content/uploads/2022/01/edh-slider.png
GEO:26.1823829;-80.2509514
X-APPLE-STRUCTURED-LOCATION;VALUE=URI;X-ADDRESS=TATE’S Gaming Satellite 4580 N. University Drive Lauderhill FL 33351 United States;X-APPLE-RADIUS=500;X-TITLE=4580 N. University Drive:geo:-80.2509514,26.1823829
END:VEVENT
BEGIN:VEVENT
DTSTART;TZID=America/New_York:20260220T170000
DTEND;TZID=America/New_York:20260220T230000
DTSTAMP:20260422T062834
CREATED:20220101T161322Z
LAST-MODIFIED:20231127T231301Z
UID:10003199-1771606800-1771628400@staging.tatesgaming.com
SUMMARY:Casual Commander / EDH
DESCRIPTION:Join us every Friday and Saturday for FREE casual Commander play!
URL:https://staging.tatesgaming.com/event/casual-commander-edh/2026-02-20/
LOCATION:TATE’S Gaming Satellite\, 4580 N. University Drive\, Lauderhill\, FL\, 33351\, United States
CATEGORIES:Magic the Gathering
ATTACH;FMTTYPE=image/png:https://staging.tatesgaming.com/wp-content/uploads/2022/01/edh-slider.png
GEO:26.1823829;-80.2509514
X-APPLE-STRUCTURED-LOCATION;VALUE=URI;X-ADDRESS=TATE’S Gaming Satellite 4580 N. University Drive Lauderhill FL 33351 United States;X-APPLE-RADIUS=500;X-TITLE=4580 N. University Drive:geo:-80.2509514,26.1823829
END:VEVENT
BEGIN:VEVENT
DTSTART;TZID=America/New_York:20260221T170000
DTEND;TZID=America/New_York:20260221T230000
DTSTAMP:20260422T062834
CREATED:20220101T161322Z
LAST-MODIFIED:20231127T231301Z
UID:10003200-1771693200-1771714800@staging.tatesgaming.com
SUMMARY:Casual Commander / EDH
DESCRIPTION:Join us every Friday and Saturday for FREE casual Commander play!
URL:https://staging.tatesgaming.com/event/casual-commander-edh/2026-02-21/
LOCATION:TATE’S Gaming Satellite\, 4580 N. University Drive\, Lauderhill\, FL\, 33351\, United States
CATEGORIES:Magic the Gathering
ATTACH;FMTTYPE=image/png:https://staging.tatesgaming.com/wp-content/uploads/2022/01/edh-slider.png
GEO:26.1823829;-80.2509514
X-APPLE-STRUCTURED-LOCATION;VALUE=URI;X-ADDRESS=TATE’S Gaming Satellite 4580 N. University Drive Lauderhill FL 33351 United States;X-APPLE-RADIUS=500;X-TITLE=4580 N. University Drive:geo:-80.2509514,26.1823829
END:VEVENT
BEGIN:VEVENT
DTSTART;TZID=America/New_York:20260227T170000
DTEND;TZID=America/New_York:20260227T230000
DTSTAMP:20260422T062834
CREATED:20220101T161322Z
LAST-MODIFIED:20231127T231301Z
UID:10003201-1772211600-1772233200@staging.tatesgaming.com
SUMMARY:Casual Commander / EDH
DESCRIPTION:Join us every Friday and Saturday for FREE casual Commander play!
URL:https://staging.tatesgaming.com/event/casual-commander-edh/2026-02-27/
LOCATION:TATE’S Gaming Satellite\, 4580 N. University Drive\, Lauderhill\, FL\, 33351\, United States
CATEGORIES:Magic the Gathering
ATTACH;FMTTYPE=image/png:https://staging.tatesgaming.com/wp-content/uploads/2022/01/edh-slider.png
GEO:26.1823829;-80.2509514
X-APPLE-STRUCTURED-LOCATION;VALUE=URI;X-ADDRESS=TATE’S Gaming Satellite 4580 N. University Drive Lauderhill FL 33351 United States;X-APPLE-RADIUS=500;X-TITLE=4580 N. University Drive:geo:-80.2509514,26.1823829
END:VEVENT
BEGIN:VEVENT
DTSTART;TZID=America/New_York:20260228T170000
DTEND;TZID=America/New_York:20260228T230000
DTSTAMP:20260422T062834
CREATED:20220101T161322Z
LAST-MODIFIED:20231127T231301Z
UID:10003202-1772298000-1772319600@staging.tatesgaming.com
SUMMARY:Casual Commander / EDH
DESCRIPTION:Join us every Friday and Saturday for FREE casual Commander play!
URL:https://staging.tatesgaming.com/event/casual-commander-edh/2026-02-28/
LOCATION:TATE’S Gaming Satellite\, 4580 N. University Drive\, Lauderhill\, FL\, 33351\, United States
CATEGORIES:Magic the Gathering
ATTACH;FMTTYPE=image/png:https://staging.tatesgaming.com/wp-content/uploads/2022/01/edh-slider.png
GEO:26.1823829;-80.2509514
X-APPLE-STRUCTURED-LOCATION;VALUE=URI;X-ADDRESS=TATE’S Gaming Satellite 4580 N. University Drive Lauderhill FL 33351 United States;X-APPLE-RADIUS=500;X-TITLE=4580 N. University Drive:geo:-80.2509514,26.1823829
END:VEVENT
END:VCALENDAR