BEGIN:VCALENDAR
VERSION:2.0
PRODID:-//Tate&#039;s Gaming Satellite - ECPv6.15.20//NONSGML v1.0//EN
CALSCALE:GREGORIAN
METHOD:PUBLISH
X-ORIGINAL-URL:https://staging.tatesgaming.com
X-WR-CALDESC:Events for Tate&#039;s Gaming Satellite
REFRESH-INTERVAL;VALUE=DURATION:PT1H
X-Robots-Tag:noindex
X-PUBLISHED-TTL:PT1H
BEGIN:VTIMEZONE
TZID:America/New_York
BEGIN:DAYLIGHT
TZOFFSETFROM:-0500
TZOFFSETTO:-0400
TZNAME:EDT
DTSTART:20250309T070000
END:DAYLIGHT
BEGIN:STANDARD
TZOFFSETFROM:-0400
TZOFFSETTO:-0500
TZNAME:EST
DTSTART:20251102T060000
END:STANDARD
BEGIN:DAYLIGHT
TZOFFSETFROM:-0500
TZOFFSETTO:-0400
TZNAME:EDT
DTSTART:20260308T070000
END:DAYLIGHT
BEGIN:STANDARD
TZOFFSETFROM:-0400
TZOFFSETTO:-0500
TZNAME:EST
DTSTART:20261101T060000
END:STANDARD
BEGIN:DAYLIGHT
TZOFFSETFROM:-0500
TZOFFSETTO:-0400
TZNAME:EDT
DTSTART:20270314T070000
END:DAYLIGHT
BEGIN:STANDARD
TZOFFSETFROM:-0400
TZOFFSETTO:-0500
TZNAME:EST
DTSTART:20271107T060000
END:STANDARD
END:VTIMEZONE
BEGIN:VEVENT
DTSTART;TZID=America/New_York:20260501T170000
DTEND;TZID=America/New_York:20260501T230000
DTSTAMP:20260422T044331
CREATED:20220101T161322Z
LAST-MODIFIED:20231127T231301Z
UID:10003219-1777654800-1777676400@staging.tatesgaming.com
SUMMARY:Casual Commander / EDH
DESCRIPTION:Join us every Friday and Saturday for FREE casual Commander play!
URL:https://staging.tatesgaming.com/event/casual-commander-edh/2026-05-01/
LOCATION:TATE’S Gaming Satellite\, 4580 N. University Drive\, Lauderhill\, FL\, 33351\, United States
CATEGORIES:Magic the Gathering
ATTACH;FMTTYPE=image/png:https://staging.tatesgaming.com/wp-content/uploads/2022/01/edh-slider.png
GEO:26.1823829;-80.2509514
X-APPLE-STRUCTURED-LOCATION;VALUE=URI;X-ADDRESS=TATE’S Gaming Satellite 4580 N. University Drive Lauderhill FL 33351 United States;X-APPLE-RADIUS=500;X-TITLE=4580 N. University Drive:geo:-80.2509514,26.1823829
END:VEVENT
BEGIN:VEVENT
DTSTART;TZID=America/New_York:20260502T170000
DTEND;TZID=America/New_York:20260502T230000
DTSTAMP:20260422T044331
CREATED:20220101T161322Z
LAST-MODIFIED:20231127T231301Z
UID:10003220-1777741200-1777762800@staging.tatesgaming.com
SUMMARY:Casual Commander / EDH
DESCRIPTION:Join us every Friday and Saturday for FREE casual Commander play!
URL:https://staging.tatesgaming.com/event/casual-commander-edh/2026-05-02/
LOCATION:TATE’S Gaming Satellite\, 4580 N. University Drive\, Lauderhill\, FL\, 33351\, United States
CATEGORIES:Magic the Gathering
ATTACH;FMTTYPE=image/png:https://staging.tatesgaming.com/wp-content/uploads/2022/01/edh-slider.png
GEO:26.1823829;-80.2509514
X-APPLE-STRUCTURED-LOCATION;VALUE=URI;X-ADDRESS=TATE’S Gaming Satellite 4580 N. University Drive Lauderhill FL 33351 United States;X-APPLE-RADIUS=500;X-TITLE=4580 N. University Drive:geo:-80.2509514,26.1823829
END:VEVENT
BEGIN:VEVENT
DTSTART;TZID=America/New_York:20260508T170000
DTEND;TZID=America/New_York:20260508T230000
DTSTAMP:20260422T044331
CREATED:20220101T161322Z
LAST-MODIFIED:20231127T231301Z
UID:10003221-1778259600-1778281200@staging.tatesgaming.com
SUMMARY:Casual Commander / EDH
DESCRIPTION:Join us every Friday and Saturday for FREE casual Commander play!
URL:https://staging.tatesgaming.com/event/casual-commander-edh/2026-05-08/
LOCATION:TATE’S Gaming Satellite\, 4580 N. University Drive\, Lauderhill\, FL\, 33351\, United States
CATEGORIES:Magic the Gathering
ATTACH;FMTTYPE=image/png:https://staging.tatesgaming.com/wp-content/uploads/2022/01/edh-slider.png
GEO:26.1823829;-80.2509514
X-APPLE-STRUCTURED-LOCATION;VALUE=URI;X-ADDRESS=TATE’S Gaming Satellite 4580 N. University Drive Lauderhill FL 33351 United States;X-APPLE-RADIUS=500;X-TITLE=4580 N. University Drive:geo:-80.2509514,26.1823829
END:VEVENT
BEGIN:VEVENT
DTSTART;TZID=America/New_York:20260509T170000
DTEND;TZID=America/New_York:20260509T230000
DTSTAMP:20260422T044331
CREATED:20220101T161322Z
LAST-MODIFIED:20231127T231301Z
UID:10003222-1778346000-1778367600@staging.tatesgaming.com
SUMMARY:Casual Commander / EDH
DESCRIPTION:Join us every Friday and Saturday for FREE casual Commander play!
URL:https://staging.tatesgaming.com/event/casual-commander-edh/2026-05-09/
LOCATION:TATE’S Gaming Satellite\, 4580 N. University Drive\, Lauderhill\, FL\, 33351\, United States
CATEGORIES:Magic the Gathering
ATTACH;FMTTYPE=image/png:https://staging.tatesgaming.com/wp-content/uploads/2022/01/edh-slider.png
GEO:26.1823829;-80.2509514
X-APPLE-STRUCTURED-LOCATION;VALUE=URI;X-ADDRESS=TATE’S Gaming Satellite 4580 N. University Drive Lauderhill FL 33351 United States;X-APPLE-RADIUS=500;X-TITLE=4580 N. University Drive:geo:-80.2509514,26.1823829
END:VEVENT
BEGIN:VEVENT
DTSTART;TZID=America/New_York:20260515T170000
DTEND;TZID=America/New_York:20260515T230000
DTSTAMP:20260422T044331
CREATED:20220101T161322Z
LAST-MODIFIED:20231127T231301Z
UID:10003223-1778864400-1778886000@staging.tatesgaming.com
SUMMARY:Casual Commander / EDH
DESCRIPTION:Join us every Friday and Saturday for FREE casual Commander play!
URL:https://staging.tatesgaming.com/event/casual-commander-edh/2026-05-15/
LOCATION:TATE’S Gaming Satellite\, 4580 N. University Drive\, Lauderhill\, FL\, 33351\, United States
CATEGORIES:Magic the Gathering
ATTACH;FMTTYPE=image/png:https://staging.tatesgaming.com/wp-content/uploads/2022/01/edh-slider.png
GEO:26.1823829;-80.2509514
X-APPLE-STRUCTURED-LOCATION;VALUE=URI;X-ADDRESS=TATE’S Gaming Satellite 4580 N. University Drive Lauderhill FL 33351 United States;X-APPLE-RADIUS=500;X-TITLE=4580 N. University Drive:geo:-80.2509514,26.1823829
END:VEVENT
BEGIN:VEVENT
DTSTART;TZID=America/New_York:20260516T170000
DTEND;TZID=America/New_York:20260516T230000
DTSTAMP:20260422T044331
CREATED:20220101T161322Z
LAST-MODIFIED:20231127T231301Z
UID:10003224-1778950800-1778972400@staging.tatesgaming.com
SUMMARY:Casual Commander / EDH
DESCRIPTION:Join us every Friday and Saturday for FREE casual Commander play!
URL:https://staging.tatesgaming.com/event/casual-commander-edh/2026-05-16/
LOCATION:TATE’S Gaming Satellite\, 4580 N. University Drive\, Lauderhill\, FL\, 33351\, United States
CATEGORIES:Magic the Gathering
ATTACH;FMTTYPE=image/png:https://staging.tatesgaming.com/wp-content/uploads/2022/01/edh-slider.png
GEO:26.1823829;-80.2509514
X-APPLE-STRUCTURED-LOCATION;VALUE=URI;X-ADDRESS=TATE’S Gaming Satellite 4580 N. University Drive Lauderhill FL 33351 United States;X-APPLE-RADIUS=500;X-TITLE=4580 N. University Drive:geo:-80.2509514,26.1823829
END:VEVENT
BEGIN:VEVENT
DTSTART;TZID=America/New_York:20260522T170000
DTEND;TZID=America/New_York:20260522T230000
DTSTAMP:20260422T044331
CREATED:20220101T161322Z
LAST-MODIFIED:20231127T231301Z
UID:10003225-1779469200-1779490800@staging.tatesgaming.com
SUMMARY:Casual Commander / EDH
DESCRIPTION:Join us every Friday and Saturday for FREE casual Commander play!
URL:https://staging.tatesgaming.com/event/casual-commander-edh/2026-05-22/
LOCATION:TATE’S Gaming Satellite\, 4580 N. University Drive\, Lauderhill\, FL\, 33351\, United States
CATEGORIES:Magic the Gathering
ATTACH;FMTTYPE=image/png:https://staging.tatesgaming.com/wp-content/uploads/2022/01/edh-slider.png
GEO:26.1823829;-80.2509514
X-APPLE-STRUCTURED-LOCATION;VALUE=URI;X-ADDRESS=TATE’S Gaming Satellite 4580 N. University Drive Lauderhill FL 33351 United States;X-APPLE-RADIUS=500;X-TITLE=4580 N. University Drive:geo:-80.2509514,26.1823829
END:VEVENT
BEGIN:VEVENT
DTSTART;TZID=America/New_York:20260523T170000
DTEND;TZID=America/New_York:20260523T230000
DTSTAMP:20260422T044331
CREATED:20220101T161322Z
LAST-MODIFIED:20231127T231301Z
UID:10003226-1779555600-1779577200@staging.tatesgaming.com
SUMMARY:Casual Commander / EDH
DESCRIPTION:Join us every Friday and Saturday for FREE casual Commander play!
URL:https://staging.tatesgaming.com/event/casual-commander-edh/2026-05-23/
LOCATION:TATE’S Gaming Satellite\, 4580 N. University Drive\, Lauderhill\, FL\, 33351\, United States
CATEGORIES:Magic the Gathering
ATTACH;FMTTYPE=image/png:https://staging.tatesgaming.com/wp-content/uploads/2022/01/edh-slider.png
GEO:26.1823829;-80.2509514
X-APPLE-STRUCTURED-LOCATION;VALUE=URI;X-ADDRESS=TATE’S Gaming Satellite 4580 N. University Drive Lauderhill FL 33351 United States;X-APPLE-RADIUS=500;X-TITLE=4580 N. University Drive:geo:-80.2509514,26.1823829
END:VEVENT
BEGIN:VEVENT
DTSTART;TZID=America/New_York:20260529T170000
DTEND;TZID=America/New_York:20260529T230000
DTSTAMP:20260422T044331
CREATED:20220101T161322Z
LAST-MODIFIED:20231127T231301Z
UID:10003227-1780074000-1780095600@staging.tatesgaming.com
SUMMARY:Casual Commander / EDH
DESCRIPTION:Join us every Friday and Saturday for FREE casual Commander play!
URL:https://staging.tatesgaming.com/event/casual-commander-edh/2026-05-29/
LOCATION:TATE’S Gaming Satellite\, 4580 N. University Drive\, Lauderhill\, FL\, 33351\, United States
CATEGORIES:Magic the Gathering
ATTACH;FMTTYPE=image/png:https://staging.tatesgaming.com/wp-content/uploads/2022/01/edh-slider.png
GEO:26.1823829;-80.2509514
X-APPLE-STRUCTURED-LOCATION;VALUE=URI;X-ADDRESS=TATE’S Gaming Satellite 4580 N. University Drive Lauderhill FL 33351 United States;X-APPLE-RADIUS=500;X-TITLE=4580 N. University Drive:geo:-80.2509514,26.1823829
END:VEVENT
BEGIN:VEVENT
DTSTART;TZID=America/New_York:20260530T170000
DTEND;TZID=America/New_York:20260530T230000
DTSTAMP:20260422T044331
CREATED:20220101T161322Z
LAST-MODIFIED:20231127T231301Z
UID:10003228-1780160400-1780182000@staging.tatesgaming.com
SUMMARY:Casual Commander / EDH
DESCRIPTION:Join us every Friday and Saturday for FREE casual Commander play!
URL:https://staging.tatesgaming.com/event/casual-commander-edh/2026-05-30/
LOCATION:TATE’S Gaming Satellite\, 4580 N. University Drive\, Lauderhill\, FL\, 33351\, United States
CATEGORIES:Magic the Gathering
ATTACH;FMTTYPE=image/png:https://staging.tatesgaming.com/wp-content/uploads/2022/01/edh-slider.png
GEO:26.1823829;-80.2509514
X-APPLE-STRUCTURED-LOCATION;VALUE=URI;X-ADDRESS=TATE’S Gaming Satellite 4580 N. University Drive Lauderhill FL 33351 United States;X-APPLE-RADIUS=500;X-TITLE=4580 N. University Drive:geo:-80.2509514,26.1823829
END:VEVENT
END:VCALENDAR