BEGIN:VCALENDAR
VERSION:2.0
PRODID:-//Tate&#039;s Gaming Satellite - ECPv6.15.20//NONSGML v1.0//EN
CALSCALE:GREGORIAN
METHOD:PUBLISH
X-ORIGINAL-URL:https://staging.tatesgaming.com
X-WR-CALDESC:Events for Tate&#039;s Gaming Satellite
REFRESH-INTERVAL;VALUE=DURATION:PT1H
X-Robots-Tag:noindex
X-PUBLISHED-TTL:PT1H
BEGIN:VTIMEZONE
TZID:America/New_York
BEGIN:DAYLIGHT
TZOFFSETFROM:-0500
TZOFFSETTO:-0400
TZNAME:EDT
DTSTART:20250309T070000
END:DAYLIGHT
BEGIN:STANDARD
TZOFFSETFROM:-0400
TZOFFSETTO:-0500
TZNAME:EST
DTSTART:20251102T060000
END:STANDARD
BEGIN:DAYLIGHT
TZOFFSETFROM:-0500
TZOFFSETTO:-0400
TZNAME:EDT
DTSTART:20260308T070000
END:DAYLIGHT
BEGIN:STANDARD
TZOFFSETFROM:-0400
TZOFFSETTO:-0500
TZNAME:EST
DTSTART:20261101T060000
END:STANDARD
BEGIN:DAYLIGHT
TZOFFSETFROM:-0500
TZOFFSETTO:-0400
TZNAME:EDT
DTSTART:20270314T070000
END:DAYLIGHT
BEGIN:STANDARD
TZOFFSETFROM:-0400
TZOFFSETTO:-0500
TZNAME:EST
DTSTART:20271107T060000
END:STANDARD
END:VTIMEZONE
BEGIN:VEVENT
DTSTART;TZID=America/New_York:20261106T170000
DTEND;TZID=America/New_York:20261106T230000
DTSTAMP:20260422T191129
CREATED:20220101T161322Z
LAST-MODIFIED:20231127T231301Z
UID:10003273-1793984400-1794006000@staging.tatesgaming.com
SUMMARY:Casual Commander / EDH
DESCRIPTION:Join us every Friday and Saturday for FREE casual Commander play!
URL:https://staging.tatesgaming.com/event/casual-commander-edh/2026-11-06/
LOCATION:TATE’S Gaming Satellite\, 4580 N. University Drive\, Lauderhill\, FL\, 33351\, United States
CATEGORIES:Magic the Gathering
ATTACH;FMTTYPE=image/png:https://staging.tatesgaming.com/wp-content/uploads/2022/01/edh-slider.png
GEO:26.1823829;-80.2509514
X-APPLE-STRUCTURED-LOCATION;VALUE=URI;X-ADDRESS=TATE’S Gaming Satellite 4580 N. University Drive Lauderhill FL 33351 United States;X-APPLE-RADIUS=500;X-TITLE=4580 N. University Drive:geo:-80.2509514,26.1823829
END:VEVENT
BEGIN:VEVENT
DTSTART;TZID=America/New_York:20261107T170000
DTEND;TZID=America/New_York:20261107T230000
DTSTAMP:20260422T191129
CREATED:20220101T161322Z
LAST-MODIFIED:20231127T231301Z
UID:10003274-1794070800-1794092400@staging.tatesgaming.com
SUMMARY:Casual Commander / EDH
DESCRIPTION:Join us every Friday and Saturday for FREE casual Commander play!
URL:https://staging.tatesgaming.com/event/casual-commander-edh/2026-11-07/
LOCATION:TATE’S Gaming Satellite\, 4580 N. University Drive\, Lauderhill\, FL\, 33351\, United States
CATEGORIES:Magic the Gathering
ATTACH;FMTTYPE=image/png:https://staging.tatesgaming.com/wp-content/uploads/2022/01/edh-slider.png
GEO:26.1823829;-80.2509514
X-APPLE-STRUCTURED-LOCATION;VALUE=URI;X-ADDRESS=TATE’S Gaming Satellite 4580 N. University Drive Lauderhill FL 33351 United States;X-APPLE-RADIUS=500;X-TITLE=4580 N. University Drive:geo:-80.2509514,26.1823829
END:VEVENT
BEGIN:VEVENT
DTSTART;TZID=America/New_York:20261113T170000
DTEND;TZID=America/New_York:20261113T230000
DTSTAMP:20260422T191129
CREATED:20220101T161322Z
LAST-MODIFIED:20231127T231301Z
UID:10003275-1794589200-1794610800@staging.tatesgaming.com
SUMMARY:Casual Commander / EDH
DESCRIPTION:Join us every Friday and Saturday for FREE casual Commander play!
URL:https://staging.tatesgaming.com/event/casual-commander-edh/2026-11-13/
LOCATION:TATE’S Gaming Satellite\, 4580 N. University Drive\, Lauderhill\, FL\, 33351\, United States
CATEGORIES:Magic the Gathering
ATTACH;FMTTYPE=image/png:https://staging.tatesgaming.com/wp-content/uploads/2022/01/edh-slider.png
GEO:26.1823829;-80.2509514
X-APPLE-STRUCTURED-LOCATION;VALUE=URI;X-ADDRESS=TATE’S Gaming Satellite 4580 N. University Drive Lauderhill FL 33351 United States;X-APPLE-RADIUS=500;X-TITLE=4580 N. University Drive:geo:-80.2509514,26.1823829
END:VEVENT
BEGIN:VEVENT
DTSTART;TZID=America/New_York:20261114T170000
DTEND;TZID=America/New_York:20261114T230000
DTSTAMP:20260422T191129
CREATED:20220101T161322Z
LAST-MODIFIED:20231127T231301Z
UID:10003276-1794675600-1794697200@staging.tatesgaming.com
SUMMARY:Casual Commander / EDH
DESCRIPTION:Join us every Friday and Saturday for FREE casual Commander play!
URL:https://staging.tatesgaming.com/event/casual-commander-edh/2026-11-14/
LOCATION:TATE’S Gaming Satellite\, 4580 N. University Drive\, Lauderhill\, FL\, 33351\, United States
CATEGORIES:Magic the Gathering
ATTACH;FMTTYPE=image/png:https://staging.tatesgaming.com/wp-content/uploads/2022/01/edh-slider.png
GEO:26.1823829;-80.2509514
X-APPLE-STRUCTURED-LOCATION;VALUE=URI;X-ADDRESS=TATE’S Gaming Satellite 4580 N. University Drive Lauderhill FL 33351 United States;X-APPLE-RADIUS=500;X-TITLE=4580 N. University Drive:geo:-80.2509514,26.1823829
END:VEVENT
BEGIN:VEVENT
DTSTART;TZID=America/New_York:20261120T170000
DTEND;TZID=America/New_York:20261120T230000
DTSTAMP:20260422T191129
CREATED:20220101T161322Z
LAST-MODIFIED:20231127T231301Z
UID:10003277-1795194000-1795215600@staging.tatesgaming.com
SUMMARY:Casual Commander / EDH
DESCRIPTION:Join us every Friday and Saturday for FREE casual Commander play!
URL:https://staging.tatesgaming.com/event/casual-commander-edh/2026-11-20/
LOCATION:TATE’S Gaming Satellite\, 4580 N. University Drive\, Lauderhill\, FL\, 33351\, United States
CATEGORIES:Magic the Gathering
ATTACH;FMTTYPE=image/png:https://staging.tatesgaming.com/wp-content/uploads/2022/01/edh-slider.png
GEO:26.1823829;-80.2509514
X-APPLE-STRUCTURED-LOCATION;VALUE=URI;X-ADDRESS=TATE’S Gaming Satellite 4580 N. University Drive Lauderhill FL 33351 United States;X-APPLE-RADIUS=500;X-TITLE=4580 N. University Drive:geo:-80.2509514,26.1823829
END:VEVENT
BEGIN:VEVENT
DTSTART;TZID=America/New_York:20261121T170000
DTEND;TZID=America/New_York:20261121T230000
DTSTAMP:20260422T191129
CREATED:20220101T161322Z
LAST-MODIFIED:20231127T231301Z
UID:10003278-1795280400-1795302000@staging.tatesgaming.com
SUMMARY:Casual Commander / EDH
DESCRIPTION:Join us every Friday and Saturday for FREE casual Commander play!
URL:https://staging.tatesgaming.com/event/casual-commander-edh/2026-11-21/
LOCATION:TATE’S Gaming Satellite\, 4580 N. University Drive\, Lauderhill\, FL\, 33351\, United States
CATEGORIES:Magic the Gathering
ATTACH;FMTTYPE=image/png:https://staging.tatesgaming.com/wp-content/uploads/2022/01/edh-slider.png
GEO:26.1823829;-80.2509514
X-APPLE-STRUCTURED-LOCATION;VALUE=URI;X-ADDRESS=TATE’S Gaming Satellite 4580 N. University Drive Lauderhill FL 33351 United States;X-APPLE-RADIUS=500;X-TITLE=4580 N. University Drive:geo:-80.2509514,26.1823829
END:VEVENT
BEGIN:VEVENT
DTSTART;TZID=America/New_York:20261127T170000
DTEND;TZID=America/New_York:20261127T230000
DTSTAMP:20260422T191129
CREATED:20220101T161322Z
LAST-MODIFIED:20231127T231301Z
UID:10003279-1795798800-1795820400@staging.tatesgaming.com
SUMMARY:Casual Commander / EDH
DESCRIPTION:Join us every Friday and Saturday for FREE casual Commander play!
URL:https://staging.tatesgaming.com/event/casual-commander-edh/2026-11-27/
LOCATION:TATE’S Gaming Satellite\, 4580 N. University Drive\, Lauderhill\, FL\, 33351\, United States
CATEGORIES:Magic the Gathering
ATTACH;FMTTYPE=image/png:https://staging.tatesgaming.com/wp-content/uploads/2022/01/edh-slider.png
GEO:26.1823829;-80.2509514
X-APPLE-STRUCTURED-LOCATION;VALUE=URI;X-ADDRESS=TATE’S Gaming Satellite 4580 N. University Drive Lauderhill FL 33351 United States;X-APPLE-RADIUS=500;X-TITLE=4580 N. University Drive:geo:-80.2509514,26.1823829
END:VEVENT
BEGIN:VEVENT
DTSTART;TZID=America/New_York:20261128T170000
DTEND;TZID=America/New_York:20261128T230000
DTSTAMP:20260422T191129
CREATED:20220101T161322Z
LAST-MODIFIED:20231127T231301Z
UID:10003280-1795885200-1795906800@staging.tatesgaming.com
SUMMARY:Casual Commander / EDH
DESCRIPTION:Join us every Friday and Saturday for FREE casual Commander play!
URL:https://staging.tatesgaming.com/event/casual-commander-edh/2026-11-28/
LOCATION:TATE’S Gaming Satellite\, 4580 N. University Drive\, Lauderhill\, FL\, 33351\, United States
CATEGORIES:Magic the Gathering
ATTACH;FMTTYPE=image/png:https://staging.tatesgaming.com/wp-content/uploads/2022/01/edh-slider.png
GEO:26.1823829;-80.2509514
X-APPLE-STRUCTURED-LOCATION;VALUE=URI;X-ADDRESS=TATE’S Gaming Satellite 4580 N. University Drive Lauderhill FL 33351 United States;X-APPLE-RADIUS=500;X-TITLE=4580 N. University Drive:geo:-80.2509514,26.1823829
END:VEVENT
END:VCALENDAR