BEGIN:VCALENDAR
VERSION:2.0
PRODID:-//Tate&#039;s Gaming Satellite - ECPv6.15.20//NONSGML v1.0//EN
CALSCALE:GREGORIAN
METHOD:PUBLISH
X-ORIGINAL-URL:https://staging.tatesgaming.com
X-WR-CALDESC:Events for Tate&#039;s Gaming Satellite
REFRESH-INTERVAL;VALUE=DURATION:PT1H
X-Robots-Tag:noindex
X-PUBLISHED-TTL:PT1H
BEGIN:VTIMEZONE
TZID:America/New_York
BEGIN:DAYLIGHT
TZOFFSETFROM:-0500
TZOFFSETTO:-0400
TZNAME:EDT
DTSTART:20240310T070000
END:DAYLIGHT
BEGIN:STANDARD
TZOFFSETFROM:-0400
TZOFFSETTO:-0500
TZNAME:EST
DTSTART:20241103T060000
END:STANDARD
BEGIN:DAYLIGHT
TZOFFSETFROM:-0500
TZOFFSETTO:-0400
TZNAME:EDT
DTSTART:20250309T070000
END:DAYLIGHT
BEGIN:STANDARD
TZOFFSETFROM:-0400
TZOFFSETTO:-0500
TZNAME:EST
DTSTART:20251102T060000
END:STANDARD
BEGIN:DAYLIGHT
TZOFFSETFROM:-0500
TZOFFSETTO:-0400
TZNAME:EDT
DTSTART:20260308T070000
END:DAYLIGHT
BEGIN:STANDARD
TZOFFSETFROM:-0400
TZOFFSETTO:-0500
TZNAME:EST
DTSTART:20261101T060000
END:STANDARD
END:VTIMEZONE
BEGIN:VEVENT
DTSTART;TZID=America/New_York:20250607T110000
DTEND;TZID=America/New_York:20250607T150000
DTSTAMP:20260423T000300
CREATED:20180331T212143Z
LAST-MODIFIED:20230705T153631Z
UID:10001192-1749294000-1749308400@staging.tatesgaming.com
SUMMARY:Pokemon League
DESCRIPTION:Come play the Pokemon Trading Card Game with Trainers of all ages! \nOur Pokemon League is free to all with a Pokemon Player ID\, so come and try out your new deck before our next tournament\, trade with friends\, or just hang out with other Pokemon fans. \nNeed a Player ID? Go to: \nhttps://club.pokemon.com/us/pokemon-trainer-club/sign-up/ and create one today!\n*Please note trainers under the age of 13 need their parent or guardian to make an account as well.
URL:https://staging.tatesgaming.com/event/pokemon-league/2025-06-07/
LOCATION:TATE’S Gaming Satellite\, 4580 N. University Drive\, Lauderhill\, FL\, 33351\, United States
CATEGORIES:Pokemon
ATTACH;FMTTYPE=image/jpeg:https://staging.tatesgaming.com/wp-content/uploads/2018/03/Pokemon-Event-Slider.jpg
GEO:26.1823829;-80.2509514
X-APPLE-STRUCTURED-LOCATION;VALUE=URI;X-ADDRESS=TATE’S Gaming Satellite 4580 N. University Drive Lauderhill FL 33351 United States;X-APPLE-RADIUS=500;X-TITLE=4580 N. University Drive:geo:-80.2509514,26.1823829
END:VEVENT
BEGIN:VEVENT
DTSTART;TZID=America/New_York:20250614T110000
DTEND;TZID=America/New_York:20250614T150000
DTSTAMP:20260423T000300
CREATED:20180331T212143Z
LAST-MODIFIED:20230705T153631Z
UID:10001193-1749898800-1749913200@staging.tatesgaming.com
SUMMARY:Pokemon League
DESCRIPTION:Come play the Pokemon Trading Card Game with Trainers of all ages! \nOur Pokemon League is free to all with a Pokemon Player ID\, so come and try out your new deck before our next tournament\, trade with friends\, or just hang out with other Pokemon fans. \nNeed a Player ID? Go to: \nhttps://club.pokemon.com/us/pokemon-trainer-club/sign-up/ and create one today!\n*Please note trainers under the age of 13 need their parent or guardian to make an account as well.
URL:https://staging.tatesgaming.com/event/pokemon-league/2025-06-14/
LOCATION:TATE’S Gaming Satellite\, 4580 N. University Drive\, Lauderhill\, FL\, 33351\, United States
CATEGORIES:Pokemon
ATTACH;FMTTYPE=image/jpeg:https://staging.tatesgaming.com/wp-content/uploads/2018/03/Pokemon-Event-Slider.jpg
GEO:26.1823829;-80.2509514
X-APPLE-STRUCTURED-LOCATION;VALUE=URI;X-ADDRESS=TATE’S Gaming Satellite 4580 N. University Drive Lauderhill FL 33351 United States;X-APPLE-RADIUS=500;X-TITLE=4580 N. University Drive:geo:-80.2509514,26.1823829
END:VEVENT
BEGIN:VEVENT
DTSTART;TZID=America/New_York:20250621T110000
DTEND;TZID=America/New_York:20250621T150000
DTSTAMP:20260423T000300
CREATED:20180331T212143Z
LAST-MODIFIED:20230705T153631Z
UID:10001194-1750503600-1750518000@staging.tatesgaming.com
SUMMARY:Pokemon League
DESCRIPTION:Come play the Pokemon Trading Card Game with Trainers of all ages! \nOur Pokemon League is free to all with a Pokemon Player ID\, so come and try out your new deck before our next tournament\, trade with friends\, or just hang out with other Pokemon fans. \nNeed a Player ID? Go to: \nhttps://club.pokemon.com/us/pokemon-trainer-club/sign-up/ and create one today!\n*Please note trainers under the age of 13 need their parent or guardian to make an account as well.
URL:https://staging.tatesgaming.com/event/pokemon-league/2025-06-21/
LOCATION:TATE’S Gaming Satellite\, 4580 N. University Drive\, Lauderhill\, FL\, 33351\, United States
CATEGORIES:Pokemon
ATTACH;FMTTYPE=image/jpeg:https://staging.tatesgaming.com/wp-content/uploads/2018/03/Pokemon-Event-Slider.jpg
GEO:26.1823829;-80.2509514
X-APPLE-STRUCTURED-LOCATION;VALUE=URI;X-ADDRESS=TATE’S Gaming Satellite 4580 N. University Drive Lauderhill FL 33351 United States;X-APPLE-RADIUS=500;X-TITLE=4580 N. University Drive:geo:-80.2509514,26.1823829
END:VEVENT
BEGIN:VEVENT
DTSTART;TZID=America/New_York:20250628T110000
DTEND;TZID=America/New_York:20250628T150000
DTSTAMP:20260423T000300
CREATED:20180331T212143Z
LAST-MODIFIED:20230705T153631Z
UID:10001195-1751108400-1751122800@staging.tatesgaming.com
SUMMARY:Pokemon League
DESCRIPTION:Come play the Pokemon Trading Card Game with Trainers of all ages! \nOur Pokemon League is free to all with a Pokemon Player ID\, so come and try out your new deck before our next tournament\, trade with friends\, or just hang out with other Pokemon fans. \nNeed a Player ID? Go to: \nhttps://club.pokemon.com/us/pokemon-trainer-club/sign-up/ and create one today!\n*Please note trainers under the age of 13 need their parent or guardian to make an account as well.
URL:https://staging.tatesgaming.com/event/pokemon-league/2025-06-28/
LOCATION:TATE’S Gaming Satellite\, 4580 N. University Drive\, Lauderhill\, FL\, 33351\, United States
CATEGORIES:Pokemon
ATTACH;FMTTYPE=image/jpeg:https://staging.tatesgaming.com/wp-content/uploads/2018/03/Pokemon-Event-Slider.jpg
GEO:26.1823829;-80.2509514
X-APPLE-STRUCTURED-LOCATION;VALUE=URI;X-ADDRESS=TATE’S Gaming Satellite 4580 N. University Drive Lauderhill FL 33351 United States;X-APPLE-RADIUS=500;X-TITLE=4580 N. University Drive:geo:-80.2509514,26.1823829
END:VEVENT
END:VCALENDAR