BEGIN:VCALENDAR
VERSION:2.0
PRODID:-//Tate&#039;s Gaming Satellite - ECPv6.15.20//NONSGML v1.0//EN
CALSCALE:GREGORIAN
METHOD:PUBLISH
X-ORIGINAL-URL:https://staging.tatesgaming.com
X-WR-CALDESC:Events for Tate&#039;s Gaming Satellite
REFRESH-INTERVAL;VALUE=DURATION:PT1H
X-Robots-Tag:noindex
X-PUBLISHED-TTL:PT1H
BEGIN:VTIMEZONE
TZID:America/New_York
BEGIN:DAYLIGHT
TZOFFSETFROM:-0500
TZOFFSETTO:-0400
TZNAME:EDT
DTSTART:20250309T070000
END:DAYLIGHT
BEGIN:STANDARD
TZOFFSETFROM:-0400
TZOFFSETTO:-0500
TZNAME:EST
DTSTART:20251102T060000
END:STANDARD
BEGIN:DAYLIGHT
TZOFFSETFROM:-0500
TZOFFSETTO:-0400
TZNAME:EDT
DTSTART:20260308T070000
END:DAYLIGHT
BEGIN:STANDARD
TZOFFSETFROM:-0400
TZOFFSETTO:-0500
TZNAME:EST
DTSTART:20261101T060000
END:STANDARD
BEGIN:DAYLIGHT
TZOFFSETFROM:-0500
TZOFFSETTO:-0400
TZNAME:EDT
DTSTART:20270314T070000
END:DAYLIGHT
BEGIN:STANDARD
TZOFFSETFROM:-0400
TZOFFSETTO:-0500
TZNAME:EST
DTSTART:20271107T060000
END:STANDARD
END:VTIMEZONE
BEGIN:VTIMEZONE
TZID:America/New_York
BEGIN:DAYLIGHT
TZOFFSETFROM:-0500
TZOFFSETTO:-0400
TZNAME:EDT
DTSTART:20250309T070000
END:DAYLIGHT
BEGIN:STANDARD
TZOFFSETFROM:-0400
TZOFFSETTO:-0500
TZNAME:EST
DTSTART:20251102T060000
END:STANDARD
BEGIN:DAYLIGHT
TZOFFSETFROM:-0500
TZOFFSETTO:-0400
TZNAME:EDT
DTSTART:20260308T070000
END:DAYLIGHT
BEGIN:STANDARD
TZOFFSETFROM:-0400
TZOFFSETTO:-0500
TZNAME:EST
DTSTART:20261101T060000
END:STANDARD
BEGIN:DAYLIGHT
TZOFFSETFROM:-0500
TZOFFSETTO:-0400
TZNAME:EDT
DTSTART:20270314T070000
END:DAYLIGHT
BEGIN:STANDARD
TZOFFSETFROM:-0400
TZOFFSETTO:-0500
TZNAME:EST
DTSTART:20271107T060000
END:STANDARD
END:VTIMEZONE
BEGIN:VEVENT
DTSTART;TZID=America/New_York:20260502T110000
DTEND;TZID=America/New_York:20260502T150000
DTSTAMP:20260422T061547
CREATED:20180331T212143Z
LAST-MODIFIED:20230705T153631Z
UID:10001239-1777719600-1777734000@staging.tatesgaming.com
SUMMARY:Pokemon League
DESCRIPTION:Come play the Pokemon Trading Card Game with Trainers of all ages! \nOur Pokemon League is free to all with a Pokemon Player ID\, so come and try out your new deck before our next tournament\, trade with friends\, or just hang out with other Pokemon fans. \nNeed a Player ID? Go to: \nhttps://club.pokemon.com/us/pokemon-trainer-club/sign-up/ and create one today!\n*Please note trainers under the age of 13 need their parent or guardian to make an account as well.
URL:https://staging.tatesgaming.com/event/pokemon-league/2026-05-02/
LOCATION:TATE’S Gaming Satellite\, 4580 N. University Drive\, Lauderhill\, FL\, 33351\, United States
CATEGORIES:Pokemon
ATTACH;FMTTYPE=image/jpeg:https://staging.tatesgaming.com/wp-content/uploads/2018/03/Pokemon-Event-Slider.jpg
GEO:26.1823829;-80.2509514
X-APPLE-STRUCTURED-LOCATION;VALUE=URI;X-ADDRESS=TATE’S Gaming Satellite 4580 N. University Drive Lauderhill FL 33351 United States;X-APPLE-RADIUS=500;X-TITLE=4580 N. University Drive:geo:-80.2509514,26.1823829
END:VEVENT
BEGIN:VEVENT
DTSTART;TZID=America/New_York:20260507T190000
DTEND;TZID=America/New_York:20260507T210000
DTSTAMP:20260422T061547
CREATED:20251230T204045Z
LAST-MODIFIED:20251230T204918Z
UID:10004668-1778180400-1778187600@staging.tatesgaming.com
SUMMARY:Pokemon Tournament - STANDARD
DESCRIPTION:Squad up Pokemon trainers! Our weekly tournaments are back!\n\nHere are the details:\n\n• Dates: Everyy Thursday\n• Start Time: 7:00 pm\n• Entry: $10\n• Format: Standard\n• Tournament Structure: Swiss\, Best of 1\, 30 minute rounds
URL:https://staging.tatesgaming.com/event/pokemon-tournament-standard-2/2026-05-07/
LOCATION:TATE’S Gaming Satellite\, 4580 N. University Drive\, Lauderhill\, FL\, 33351\, United States
CATEGORIES:Pokemon
ATTACH;FMTTYPE=image/jpeg:https://staging.tatesgaming.com/wp-content/uploads/2018/03/Pokemon-Event-Slider.jpg
GEO:26.1823829;-80.2509514
X-APPLE-STRUCTURED-LOCATION;VALUE=URI;X-ADDRESS=TATE’S Gaming Satellite 4580 N. University Drive Lauderhill FL 33351 United States;X-APPLE-RADIUS=500;X-TITLE=4580 N. University Drive:geo:-80.2509514,26.1823829
END:VEVENT
BEGIN:VEVENT
DTSTART;TZID=America/New_York:20260509T110000
DTEND;TZID=America/New_York:20260509T150000
DTSTAMP:20260422T061547
CREATED:20180331T212143Z
LAST-MODIFIED:20230705T153631Z
UID:10001240-1778324400-1778338800@staging.tatesgaming.com
SUMMARY:Pokemon League
DESCRIPTION:Come play the Pokemon Trading Card Game with Trainers of all ages! \nOur Pokemon League is free to all with a Pokemon Player ID\, so come and try out your new deck before our next tournament\, trade with friends\, or just hang out with other Pokemon fans. \nNeed a Player ID? Go to: \nhttps://club.pokemon.com/us/pokemon-trainer-club/sign-up/ and create one today!\n*Please note trainers under the age of 13 need their parent or guardian to make an account as well.
URL:https://staging.tatesgaming.com/event/pokemon-league/2026-05-09/
LOCATION:TATE’S Gaming Satellite\, 4580 N. University Drive\, Lauderhill\, FL\, 33351\, United States
CATEGORIES:Pokemon
ATTACH;FMTTYPE=image/jpeg:https://staging.tatesgaming.com/wp-content/uploads/2018/03/Pokemon-Event-Slider.jpg
GEO:26.1823829;-80.2509514
X-APPLE-STRUCTURED-LOCATION;VALUE=URI;X-ADDRESS=TATE’S Gaming Satellite 4580 N. University Drive Lauderhill FL 33351 United States;X-APPLE-RADIUS=500;X-TITLE=4580 N. University Drive:geo:-80.2509514,26.1823829
END:VEVENT
BEGIN:VEVENT
DTSTART;TZID=America/New_York:20260514T190000
DTEND;TZID=America/New_York:20260514T210000
DTSTAMP:20260422T061547
CREATED:20251230T204045Z
LAST-MODIFIED:20251230T204918Z
UID:10004669-1778785200-1778792400@staging.tatesgaming.com
SUMMARY:Pokemon Tournament - STANDARD
DESCRIPTION:Squad up Pokemon trainers! Our weekly tournaments are back!\n\nHere are the details:\n\n• Dates: Everyy Thursday\n• Start Time: 7:00 pm\n• Entry: $10\n• Format: Standard\n• Tournament Structure: Swiss\, Best of 1\, 30 minute rounds
URL:https://staging.tatesgaming.com/event/pokemon-tournament-standard-2/2026-05-14/
LOCATION:TATE’S Gaming Satellite\, 4580 N. University Drive\, Lauderhill\, FL\, 33351\, United States
CATEGORIES:Pokemon
ATTACH;FMTTYPE=image/jpeg:https://staging.tatesgaming.com/wp-content/uploads/2018/03/Pokemon-Event-Slider.jpg
GEO:26.1823829;-80.2509514
X-APPLE-STRUCTURED-LOCATION;VALUE=URI;X-ADDRESS=TATE’S Gaming Satellite 4580 N. University Drive Lauderhill FL 33351 United States;X-APPLE-RADIUS=500;X-TITLE=4580 N. University Drive:geo:-80.2509514,26.1823829
END:VEVENT
BEGIN:VEVENT
DTSTART;TZID=America/New_York:20260516T110000
DTEND;TZID=America/New_York:20260516T150000
DTSTAMP:20260422T061547
CREATED:20180331T212143Z
LAST-MODIFIED:20230705T153631Z
UID:10001241-1778929200-1778943600@staging.tatesgaming.com
SUMMARY:Pokemon League
DESCRIPTION:Come play the Pokemon Trading Card Game with Trainers of all ages! \nOur Pokemon League is free to all with a Pokemon Player ID\, so come and try out your new deck before our next tournament\, trade with friends\, or just hang out with other Pokemon fans. \nNeed a Player ID? Go to: \nhttps://club.pokemon.com/us/pokemon-trainer-club/sign-up/ and create one today!\n*Please note trainers under the age of 13 need their parent or guardian to make an account as well.
URL:https://staging.tatesgaming.com/event/pokemon-league/2026-05-16/
LOCATION:TATE’S Gaming Satellite\, 4580 N. University Drive\, Lauderhill\, FL\, 33351\, United States
CATEGORIES:Pokemon
ATTACH;FMTTYPE=image/jpeg:https://staging.tatesgaming.com/wp-content/uploads/2018/03/Pokemon-Event-Slider.jpg
GEO:26.1823829;-80.2509514
X-APPLE-STRUCTURED-LOCATION;VALUE=URI;X-ADDRESS=TATE’S Gaming Satellite 4580 N. University Drive Lauderhill FL 33351 United States;X-APPLE-RADIUS=500;X-TITLE=4580 N. University Drive:geo:-80.2509514,26.1823829
END:VEVENT
BEGIN:VEVENT
DTSTART;TZID=America/New_York:20260521T190000
DTEND;TZID=America/New_York:20260521T210000
DTSTAMP:20260422T061547
CREATED:20251230T204045Z
LAST-MODIFIED:20251230T204918Z
UID:10004670-1779390000-1779397200@staging.tatesgaming.com
SUMMARY:Pokemon Tournament - STANDARD
DESCRIPTION:Squad up Pokemon trainers! Our weekly tournaments are back!\n\nHere are the details:\n\n• Dates: Everyy Thursday\n• Start Time: 7:00 pm\n• Entry: $10\n• Format: Standard\n• Tournament Structure: Swiss\, Best of 1\, 30 minute rounds
URL:https://staging.tatesgaming.com/event/pokemon-tournament-standard-2/2026-05-21/
LOCATION:TATE’S Gaming Satellite\, 4580 N. University Drive\, Lauderhill\, FL\, 33351\, United States
CATEGORIES:Pokemon
ATTACH;FMTTYPE=image/jpeg:https://staging.tatesgaming.com/wp-content/uploads/2018/03/Pokemon-Event-Slider.jpg
GEO:26.1823829;-80.2509514
X-APPLE-STRUCTURED-LOCATION;VALUE=URI;X-ADDRESS=TATE’S Gaming Satellite 4580 N. University Drive Lauderhill FL 33351 United States;X-APPLE-RADIUS=500;X-TITLE=4580 N. University Drive:geo:-80.2509514,26.1823829
END:VEVENT
BEGIN:VEVENT
DTSTART;TZID=America/New_York:20260523T110000
DTEND;TZID=America/New_York:20260523T150000
DTSTAMP:20260422T061547
CREATED:20180331T212143Z
LAST-MODIFIED:20230705T153631Z
UID:10001242-1779534000-1779548400@staging.tatesgaming.com
SUMMARY:Pokemon League
DESCRIPTION:Come play the Pokemon Trading Card Game with Trainers of all ages! \nOur Pokemon League is free to all with a Pokemon Player ID\, so come and try out your new deck before our next tournament\, trade with friends\, or just hang out with other Pokemon fans. \nNeed a Player ID? Go to: \nhttps://club.pokemon.com/us/pokemon-trainer-club/sign-up/ and create one today!\n*Please note trainers under the age of 13 need their parent or guardian to make an account as well.
URL:https://staging.tatesgaming.com/event/pokemon-league/2026-05-23/
LOCATION:TATE’S Gaming Satellite\, 4580 N. University Drive\, Lauderhill\, FL\, 33351\, United States
CATEGORIES:Pokemon
ATTACH;FMTTYPE=image/jpeg:https://staging.tatesgaming.com/wp-content/uploads/2018/03/Pokemon-Event-Slider.jpg
GEO:26.1823829;-80.2509514
X-APPLE-STRUCTURED-LOCATION;VALUE=URI;X-ADDRESS=TATE’S Gaming Satellite 4580 N. University Drive Lauderhill FL 33351 United States;X-APPLE-RADIUS=500;X-TITLE=4580 N. University Drive:geo:-80.2509514,26.1823829
END:VEVENT
BEGIN:VEVENT
DTSTART;TZID=America/New_York:20260528T190000
DTEND;TZID=America/New_York:20260528T210000
DTSTAMP:20260422T061547
CREATED:20251230T204045Z
LAST-MODIFIED:20251230T204918Z
UID:10004671-1779994800-1780002000@staging.tatesgaming.com
SUMMARY:Pokemon Tournament - STANDARD
DESCRIPTION:Squad up Pokemon trainers! Our weekly tournaments are back!\n\nHere are the details:\n\n• Dates: Everyy Thursday\n• Start Time: 7:00 pm\n• Entry: $10\n• Format: Standard\n• Tournament Structure: Swiss\, Best of 1\, 30 minute rounds
URL:https://staging.tatesgaming.com/event/pokemon-tournament-standard-2/2026-05-28/
LOCATION:TATE’S Gaming Satellite\, 4580 N. University Drive\, Lauderhill\, FL\, 33351\, United States
CATEGORIES:Pokemon
ATTACH;FMTTYPE=image/jpeg:https://staging.tatesgaming.com/wp-content/uploads/2018/03/Pokemon-Event-Slider.jpg
GEO:26.1823829;-80.2509514
X-APPLE-STRUCTURED-LOCATION;VALUE=URI;X-ADDRESS=TATE’S Gaming Satellite 4580 N. University Drive Lauderhill FL 33351 United States;X-APPLE-RADIUS=500;X-TITLE=4580 N. University Drive:geo:-80.2509514,26.1823829
END:VEVENT
BEGIN:VEVENT
DTSTART;TZID=America/New_York:20260530T110000
DTEND;TZID=America/New_York:20260530T150000
DTSTAMP:20260422T061547
CREATED:20180331T212143Z
LAST-MODIFIED:20230705T153631Z
UID:10001243-1780138800-1780153200@staging.tatesgaming.com
SUMMARY:Pokemon League
DESCRIPTION:Come play the Pokemon Trading Card Game with Trainers of all ages! \nOur Pokemon League is free to all with a Pokemon Player ID\, so come and try out your new deck before our next tournament\, trade with friends\, or just hang out with other Pokemon fans. \nNeed a Player ID? Go to: \nhttps://club.pokemon.com/us/pokemon-trainer-club/sign-up/ and create one today!\n*Please note trainers under the age of 13 need their parent or guardian to make an account as well.
URL:https://staging.tatesgaming.com/event/pokemon-league/2026-05-30/
LOCATION:TATE’S Gaming Satellite\, 4580 N. University Drive\, Lauderhill\, FL\, 33351\, United States
CATEGORIES:Pokemon
ATTACH;FMTTYPE=image/jpeg:https://staging.tatesgaming.com/wp-content/uploads/2018/03/Pokemon-Event-Slider.jpg
GEO:26.1823829;-80.2509514
X-APPLE-STRUCTURED-LOCATION;VALUE=URI;X-ADDRESS=TATE’S Gaming Satellite 4580 N. University Drive Lauderhill FL 33351 United States;X-APPLE-RADIUS=500;X-TITLE=4580 N. University Drive:geo:-80.2509514,26.1823829
END:VEVENT
END:VCALENDAR