BEGIN:VCALENDAR
VERSION:2.0
PRODID:-//Tate&#039;s Gaming Satellite - ECPv6.15.20//NONSGML v1.0//EN
CALSCALE:GREGORIAN
METHOD:PUBLISH
X-ORIGINAL-URL:https://staging.tatesgaming.com
X-WR-CALDESC:Events for Tate&#039;s Gaming Satellite
REFRESH-INTERVAL;VALUE=DURATION:PT1H
X-Robots-Tag:noindex
X-PUBLISHED-TTL:PT1H
BEGIN:VTIMEZONE
TZID:America/New_York
BEGIN:DAYLIGHT
TZOFFSETFROM:-0500
TZOFFSETTO:-0400
TZNAME:EDT
DTSTART:20250309T070000
END:DAYLIGHT
BEGIN:STANDARD
TZOFFSETFROM:-0400
TZOFFSETTO:-0500
TZNAME:EST
DTSTART:20251102T060000
END:STANDARD
BEGIN:DAYLIGHT
TZOFFSETFROM:-0500
TZOFFSETTO:-0400
TZNAME:EDT
DTSTART:20260308T070000
END:DAYLIGHT
BEGIN:STANDARD
TZOFFSETFROM:-0400
TZOFFSETTO:-0500
TZNAME:EST
DTSTART:20261101T060000
END:STANDARD
BEGIN:DAYLIGHT
TZOFFSETFROM:-0500
TZOFFSETTO:-0400
TZNAME:EDT
DTSTART:20270314T070000
END:DAYLIGHT
BEGIN:STANDARD
TZOFFSETFROM:-0400
TZOFFSETTO:-0500
TZNAME:EST
DTSTART:20271107T060000
END:STANDARD
END:VTIMEZONE
BEGIN:VTIMEZONE
TZID:America/New_York
BEGIN:DAYLIGHT
TZOFFSETFROM:-0500
TZOFFSETTO:-0400
TZNAME:EDT
DTSTART:20250309T070000
END:DAYLIGHT
BEGIN:STANDARD
TZOFFSETFROM:-0400
TZOFFSETTO:-0500
TZNAME:EST
DTSTART:20251102T060000
END:STANDARD
BEGIN:DAYLIGHT
TZOFFSETFROM:-0500
TZOFFSETTO:-0400
TZNAME:EDT
DTSTART:20260308T070000
END:DAYLIGHT
BEGIN:STANDARD
TZOFFSETFROM:-0400
TZOFFSETTO:-0500
TZNAME:EST
DTSTART:20261101T060000
END:STANDARD
BEGIN:DAYLIGHT
TZOFFSETFROM:-0500
TZOFFSETTO:-0400
TZNAME:EDT
DTSTART:20270314T070000
END:DAYLIGHT
BEGIN:STANDARD
TZOFFSETFROM:-0400
TZOFFSETTO:-0500
TZNAME:EST
DTSTART:20271107T060000
END:STANDARD
END:VTIMEZONE
BEGIN:VEVENT
DTSTART;TZID=America/New_York:20261105T190000
DTEND;TZID=America/New_York:20261105T210000
DTSTAMP:20260424T101451
CREATED:20251230T204045Z
LAST-MODIFIED:20251230T204918Z
UID:10004694-1793905200-1793912400@staging.tatesgaming.com
SUMMARY:Pokemon Tournament - STANDARD
DESCRIPTION:Squad up Pokemon trainers! Our weekly tournaments are back!\n\nHere are the details:\n\n• Dates: Everyy Thursday\n• Start Time: 7:00 pm\n• Entry: $10\n• Format: Standard\n• Tournament Structure: Swiss\, Best of 1\, 30 minute rounds
URL:https://staging.tatesgaming.com/event/pokemon-tournament-standard-2/2026-11-05/
LOCATION:TATE’S Gaming Satellite\, 4580 N. University Drive\, Lauderhill\, FL\, 33351\, United States
CATEGORIES:Pokemon
ATTACH;FMTTYPE=image/jpeg:https://staging.tatesgaming.com/wp-content/uploads/2018/03/Pokemon-Event-Slider.jpg
GEO:26.1823829;-80.2509514
X-APPLE-STRUCTURED-LOCATION;VALUE=URI;X-ADDRESS=TATE’S Gaming Satellite 4580 N. University Drive Lauderhill FL 33351 United States;X-APPLE-RADIUS=500;X-TITLE=4580 N. University Drive:geo:-80.2509514,26.1823829
END:VEVENT
BEGIN:VEVENT
DTSTART;TZID=America/New_York:20261107T110000
DTEND;TZID=America/New_York:20261107T150000
DTSTAMP:20260424T101451
CREATED:20180331T212143Z
LAST-MODIFIED:20230705T153631Z
UID:10001266-1794049200-1794063600@staging.tatesgaming.com
SUMMARY:Pokemon League
DESCRIPTION:Come play the Pokemon Trading Card Game with Trainers of all ages! \nOur Pokemon League is free to all with a Pokemon Player ID\, so come and try out your new deck before our next tournament\, trade with friends\, or just hang out with other Pokemon fans. \nNeed a Player ID? Go to: \nhttps://club.pokemon.com/us/pokemon-trainer-club/sign-up/ and create one today!\n*Please note trainers under the age of 13 need their parent or guardian to make an account as well.
URL:https://staging.tatesgaming.com/event/pokemon-league/2026-11-07/
LOCATION:TATE’S Gaming Satellite\, 4580 N. University Drive\, Lauderhill\, FL\, 33351\, United States
CATEGORIES:Pokemon
ATTACH;FMTTYPE=image/jpeg:https://staging.tatesgaming.com/wp-content/uploads/2018/03/Pokemon-Event-Slider.jpg
GEO:26.1823829;-80.2509514
X-APPLE-STRUCTURED-LOCATION;VALUE=URI;X-ADDRESS=TATE’S Gaming Satellite 4580 N. University Drive Lauderhill FL 33351 United States;X-APPLE-RADIUS=500;X-TITLE=4580 N. University Drive:geo:-80.2509514,26.1823829
END:VEVENT
BEGIN:VEVENT
DTSTART;TZID=America/New_York:20261112T190000
DTEND;TZID=America/New_York:20261112T210000
DTSTAMP:20260424T101451
CREATED:20251230T204045Z
LAST-MODIFIED:20251230T204918Z
UID:10004695-1794510000-1794517200@staging.tatesgaming.com
SUMMARY:Pokemon Tournament - STANDARD
DESCRIPTION:Squad up Pokemon trainers! Our weekly tournaments are back!\n\nHere are the details:\n\n• Dates: Everyy Thursday\n• Start Time: 7:00 pm\n• Entry: $10\n• Format: Standard\n• Tournament Structure: Swiss\, Best of 1\, 30 minute rounds
URL:https://staging.tatesgaming.com/event/pokemon-tournament-standard-2/2026-11-12/
LOCATION:TATE’S Gaming Satellite\, 4580 N. University Drive\, Lauderhill\, FL\, 33351\, United States
CATEGORIES:Pokemon
ATTACH;FMTTYPE=image/jpeg:https://staging.tatesgaming.com/wp-content/uploads/2018/03/Pokemon-Event-Slider.jpg
GEO:26.1823829;-80.2509514
X-APPLE-STRUCTURED-LOCATION;VALUE=URI;X-ADDRESS=TATE’S Gaming Satellite 4580 N. University Drive Lauderhill FL 33351 United States;X-APPLE-RADIUS=500;X-TITLE=4580 N. University Drive:geo:-80.2509514,26.1823829
END:VEVENT
BEGIN:VEVENT
DTSTART;TZID=America/New_York:20261114T110000
DTEND;TZID=America/New_York:20261114T150000
DTSTAMP:20260424T101451
CREATED:20180331T212143Z
LAST-MODIFIED:20230705T153631Z
UID:10001267-1794654000-1794668400@staging.tatesgaming.com
SUMMARY:Pokemon League
DESCRIPTION:Come play the Pokemon Trading Card Game with Trainers of all ages! \nOur Pokemon League is free to all with a Pokemon Player ID\, so come and try out your new deck before our next tournament\, trade with friends\, or just hang out with other Pokemon fans. \nNeed a Player ID? Go to: \nhttps://club.pokemon.com/us/pokemon-trainer-club/sign-up/ and create one today!\n*Please note trainers under the age of 13 need their parent or guardian to make an account as well.
URL:https://staging.tatesgaming.com/event/pokemon-league/2026-11-14/
LOCATION:TATE’S Gaming Satellite\, 4580 N. University Drive\, Lauderhill\, FL\, 33351\, United States
CATEGORIES:Pokemon
ATTACH;FMTTYPE=image/jpeg:https://staging.tatesgaming.com/wp-content/uploads/2018/03/Pokemon-Event-Slider.jpg
GEO:26.1823829;-80.2509514
X-APPLE-STRUCTURED-LOCATION;VALUE=URI;X-ADDRESS=TATE’S Gaming Satellite 4580 N. University Drive Lauderhill FL 33351 United States;X-APPLE-RADIUS=500;X-TITLE=4580 N. University Drive:geo:-80.2509514,26.1823829
END:VEVENT
BEGIN:VEVENT
DTSTART;TZID=America/New_York:20261119T190000
DTEND;TZID=America/New_York:20261119T210000
DTSTAMP:20260424T101451
CREATED:20251230T204045Z
LAST-MODIFIED:20251230T204918Z
UID:10004696-1795114800-1795122000@staging.tatesgaming.com
SUMMARY:Pokemon Tournament - STANDARD
DESCRIPTION:Squad up Pokemon trainers! Our weekly tournaments are back!\n\nHere are the details:\n\n• Dates: Everyy Thursday\n• Start Time: 7:00 pm\n• Entry: $10\n• Format: Standard\n• Tournament Structure: Swiss\, Best of 1\, 30 minute rounds
URL:https://staging.tatesgaming.com/event/pokemon-tournament-standard-2/2026-11-19/
LOCATION:TATE’S Gaming Satellite\, 4580 N. University Drive\, Lauderhill\, FL\, 33351\, United States
CATEGORIES:Pokemon
ATTACH;FMTTYPE=image/jpeg:https://staging.tatesgaming.com/wp-content/uploads/2018/03/Pokemon-Event-Slider.jpg
GEO:26.1823829;-80.2509514
X-APPLE-STRUCTURED-LOCATION;VALUE=URI;X-ADDRESS=TATE’S Gaming Satellite 4580 N. University Drive Lauderhill FL 33351 United States;X-APPLE-RADIUS=500;X-TITLE=4580 N. University Drive:geo:-80.2509514,26.1823829
END:VEVENT
BEGIN:VEVENT
DTSTART;TZID=America/New_York:20261121T110000
DTEND;TZID=America/New_York:20261121T150000
DTSTAMP:20260424T101451
CREATED:20180331T212143Z
LAST-MODIFIED:20230705T153631Z
UID:10001268-1795258800-1795273200@staging.tatesgaming.com
SUMMARY:Pokemon League
DESCRIPTION:Come play the Pokemon Trading Card Game with Trainers of all ages! \nOur Pokemon League is free to all with a Pokemon Player ID\, so come and try out your new deck before our next tournament\, trade with friends\, or just hang out with other Pokemon fans. \nNeed a Player ID? Go to: \nhttps://club.pokemon.com/us/pokemon-trainer-club/sign-up/ and create one today!\n*Please note trainers under the age of 13 need their parent or guardian to make an account as well.
URL:https://staging.tatesgaming.com/event/pokemon-league/2026-11-21/
LOCATION:TATE’S Gaming Satellite\, 4580 N. University Drive\, Lauderhill\, FL\, 33351\, United States
CATEGORIES:Pokemon
ATTACH;FMTTYPE=image/jpeg:https://staging.tatesgaming.com/wp-content/uploads/2018/03/Pokemon-Event-Slider.jpg
GEO:26.1823829;-80.2509514
X-APPLE-STRUCTURED-LOCATION;VALUE=URI;X-ADDRESS=TATE’S Gaming Satellite 4580 N. University Drive Lauderhill FL 33351 United States;X-APPLE-RADIUS=500;X-TITLE=4580 N. University Drive:geo:-80.2509514,26.1823829
END:VEVENT
BEGIN:VEVENT
DTSTART;TZID=America/New_York:20261126T190000
DTEND;TZID=America/New_York:20261126T210000
DTSTAMP:20260424T101451
CREATED:20251230T204045Z
LAST-MODIFIED:20251230T204918Z
UID:10004697-1795719600-1795726800@staging.tatesgaming.com
SUMMARY:Pokemon Tournament - STANDARD
DESCRIPTION:Squad up Pokemon trainers! Our weekly tournaments are back!\n\nHere are the details:\n\n• Dates: Everyy Thursday\n• Start Time: 7:00 pm\n• Entry: $10\n• Format: Standard\n• Tournament Structure: Swiss\, Best of 1\, 30 minute rounds
URL:https://staging.tatesgaming.com/event/pokemon-tournament-standard-2/2026-11-26/
LOCATION:TATE’S Gaming Satellite\, 4580 N. University Drive\, Lauderhill\, FL\, 33351\, United States
CATEGORIES:Pokemon
ATTACH;FMTTYPE=image/jpeg:https://staging.tatesgaming.com/wp-content/uploads/2018/03/Pokemon-Event-Slider.jpg
GEO:26.1823829;-80.2509514
X-APPLE-STRUCTURED-LOCATION;VALUE=URI;X-ADDRESS=TATE’S Gaming Satellite 4580 N. University Drive Lauderhill FL 33351 United States;X-APPLE-RADIUS=500;X-TITLE=4580 N. University Drive:geo:-80.2509514,26.1823829
END:VEVENT
BEGIN:VEVENT
DTSTART;TZID=America/New_York:20261128T110000
DTEND;TZID=America/New_York:20261128T150000
DTSTAMP:20260424T101451
CREATED:20180331T212143Z
LAST-MODIFIED:20230705T153631Z
UID:10001269-1795863600-1795878000@staging.tatesgaming.com
SUMMARY:Pokemon League
DESCRIPTION:Come play the Pokemon Trading Card Game with Trainers of all ages! \nOur Pokemon League is free to all with a Pokemon Player ID\, so come and try out your new deck before our next tournament\, trade with friends\, or just hang out with other Pokemon fans. \nNeed a Player ID? Go to: \nhttps://club.pokemon.com/us/pokemon-trainer-club/sign-up/ and create one today!\n*Please note trainers under the age of 13 need their parent or guardian to make an account as well.
URL:https://staging.tatesgaming.com/event/pokemon-league/2026-11-28/
LOCATION:TATE’S Gaming Satellite\, 4580 N. University Drive\, Lauderhill\, FL\, 33351\, United States
CATEGORIES:Pokemon
ATTACH;FMTTYPE=image/jpeg:https://staging.tatesgaming.com/wp-content/uploads/2018/03/Pokemon-Event-Slider.jpg
GEO:26.1823829;-80.2509514
X-APPLE-STRUCTURED-LOCATION;VALUE=URI;X-ADDRESS=TATE’S Gaming Satellite 4580 N. University Drive Lauderhill FL 33351 United States;X-APPLE-RADIUS=500;X-TITLE=4580 N. University Drive:geo:-80.2509514,26.1823829
END:VEVENT
END:VCALENDAR