BEGIN:VCALENDAR
VERSION:2.0
PRODID:-//Tate&#039;s Gaming Satellite - ECPv6.15.20//NONSGML v1.0//EN
CALSCALE:GREGORIAN
METHOD:PUBLISH
X-WR-CALNAME:Tate&#039;s Gaming Satellite
X-ORIGINAL-URL:https://staging.tatesgaming.com
X-WR-CALDESC:Events for Tate&#039;s Gaming Satellite
REFRESH-INTERVAL;VALUE=DURATION:PT1H
X-Robots-Tag:noindex
X-PUBLISHED-TTL:PT1H
BEGIN:VTIMEZONE
TZID:America/New_York
BEGIN:DAYLIGHT
TZOFFSETFROM:-0500
TZOFFSETTO:-0400
TZNAME:EDT
DTSTART:20290311T070000
END:DAYLIGHT
BEGIN:STANDARD
TZOFFSETFROM:-0400
TZOFFSETTO:-0500
TZNAME:EST
DTSTART:20291104T060000
END:STANDARD
BEGIN:DAYLIGHT
TZOFFSETFROM:-0500
TZOFFSETTO:-0400
TZNAME:EDT
DTSTART:20300310T070000
END:DAYLIGHT
BEGIN:STANDARD
TZOFFSETFROM:-0400
TZOFFSETTO:-0500
TZNAME:EST
DTSTART:20301103T060000
END:STANDARD
BEGIN:DAYLIGHT
TZOFFSETFROM:-0500
TZOFFSETTO:-0400
TZNAME:EDT
DTSTART:20310309T070000
END:DAYLIGHT
BEGIN:STANDARD
TZOFFSETFROM:-0400
TZOFFSETTO:-0500
TZNAME:EST
DTSTART:20311102T060000
END:STANDARD
END:VTIMEZONE
BEGIN:VEVENT
DTSTART;TZID=America/New_York:20301022T180000
DTEND;TZID=America/New_York:20301022T210000
DTSTAMP:20260424T050210
CREATED:20251230T203709Z
LAST-MODIFIED:20251230T203709Z
UID:10004380-1918922400-1918933200@staging.tatesgaming.com
SUMMARY:Riftbound TCG
DESCRIPTION:Summoners\, choose your champions and enter the rift every Tuesday! Here are the details: \nWhen: Tuesdays\nTime: 6:00pm\nEntry: $10.00\nFormat: Constructed
URL:https://staging.tatesgaming.com/event/riftbound-tcg/2030-10-22/
LOCATION:TATE’S Gaming Satellite\, 4580 N. University Drive\, Lauderhill\, FL\, 33351\, United States
CATEGORIES:Riftbound TCG
ATTACH;FMTTYPE=image/png:https://staging.tatesgaming.com/wp-content/uploads/2025/12/riftbound-event.png
GEO:26.1823829;-80.2509514
X-APPLE-STRUCTURED-LOCATION;VALUE=URI;X-ADDRESS=TATE’S Gaming Satellite 4580 N. University Drive Lauderhill FL 33351 United States;X-APPLE-RADIUS=500;X-TITLE=4580 N. University Drive:geo:-80.2509514,26.1823829
END:VEVENT
BEGIN:VEVENT
DTSTART;TZID=America/New_York:20301029T180000
DTEND;TZID=America/New_York:20301029T210000
DTSTAMP:20260424T050210
CREATED:20251230T203709Z
LAST-MODIFIED:20251230T203709Z
UID:10004381-1919527200-1919538000@staging.tatesgaming.com
SUMMARY:Riftbound TCG
DESCRIPTION:Summoners\, choose your champions and enter the rift every Tuesday! Here are the details: \nWhen: Tuesdays\nTime: 6:00pm\nEntry: $10.00\nFormat: Constructed
URL:https://staging.tatesgaming.com/event/riftbound-tcg/2030-10-29/
LOCATION:TATE’S Gaming Satellite\, 4580 N. University Drive\, Lauderhill\, FL\, 33351\, United States
CATEGORIES:Riftbound TCG
ATTACH;FMTTYPE=image/png:https://staging.tatesgaming.com/wp-content/uploads/2025/12/riftbound-event.png
GEO:26.1823829;-80.2509514
X-APPLE-STRUCTURED-LOCATION;VALUE=URI;X-ADDRESS=TATE’S Gaming Satellite 4580 N. University Drive Lauderhill FL 33351 United States;X-APPLE-RADIUS=500;X-TITLE=4580 N. University Drive:geo:-80.2509514,26.1823829
END:VEVENT
BEGIN:VEVENT
DTSTART;TZID=America/New_York:20301105T180000
DTEND;TZID=America/New_York:20301105T210000
DTSTAMP:20260424T050210
CREATED:20251230T203709Z
LAST-MODIFIED:20251230T203709Z
UID:10004382-1920132000-1920142800@staging.tatesgaming.com
SUMMARY:Riftbound TCG
DESCRIPTION:Summoners\, choose your champions and enter the rift every Tuesday! Here are the details: \nWhen: Tuesdays\nTime: 6:00pm\nEntry: $10.00\nFormat: Constructed
URL:https://staging.tatesgaming.com/event/riftbound-tcg/2030-11-05/
LOCATION:TATE’S Gaming Satellite\, 4580 N. University Drive\, Lauderhill\, FL\, 33351\, United States
CATEGORIES:Riftbound TCG
ATTACH;FMTTYPE=image/png:https://staging.tatesgaming.com/wp-content/uploads/2025/12/riftbound-event.png
GEO:26.1823829;-80.2509514
X-APPLE-STRUCTURED-LOCATION;VALUE=URI;X-ADDRESS=TATE’S Gaming Satellite 4580 N. University Drive Lauderhill FL 33351 United States;X-APPLE-RADIUS=500;X-TITLE=4580 N. University Drive:geo:-80.2509514,26.1823829
END:VEVENT
BEGIN:VEVENT
DTSTART;TZID=America/New_York:20301112T180000
DTEND;TZID=America/New_York:20301112T210000
DTSTAMP:20260424T050210
CREATED:20251230T203709Z
LAST-MODIFIED:20251230T203709Z
UID:10004383-1920736800-1920747600@staging.tatesgaming.com
SUMMARY:Riftbound TCG
DESCRIPTION:Summoners\, choose your champions and enter the rift every Tuesday! Here are the details: \nWhen: Tuesdays\nTime: 6:00pm\nEntry: $10.00\nFormat: Constructed
URL:https://staging.tatesgaming.com/event/riftbound-tcg/2030-11-12/
LOCATION:TATE’S Gaming Satellite\, 4580 N. University Drive\, Lauderhill\, FL\, 33351\, United States
CATEGORIES:Riftbound TCG
ATTACH;FMTTYPE=image/png:https://staging.tatesgaming.com/wp-content/uploads/2025/12/riftbound-event.png
GEO:26.1823829;-80.2509514
X-APPLE-STRUCTURED-LOCATION;VALUE=URI;X-ADDRESS=TATE’S Gaming Satellite 4580 N. University Drive Lauderhill FL 33351 United States;X-APPLE-RADIUS=500;X-TITLE=4580 N. University Drive:geo:-80.2509514,26.1823829
END:VEVENT
BEGIN:VEVENT
DTSTART;TZID=America/New_York:20301119T180000
DTEND;TZID=America/New_York:20301119T210000
DTSTAMP:20260424T050210
CREATED:20251230T203709Z
LAST-MODIFIED:20251230T203709Z
UID:10004384-1921341600-1921352400@staging.tatesgaming.com
SUMMARY:Riftbound TCG
DESCRIPTION:Summoners\, choose your champions and enter the rift every Tuesday! Here are the details: \nWhen: Tuesdays\nTime: 6:00pm\nEntry: $10.00\nFormat: Constructed
URL:https://staging.tatesgaming.com/event/riftbound-tcg/2030-11-19/
LOCATION:TATE’S Gaming Satellite\, 4580 N. University Drive\, Lauderhill\, FL\, 33351\, United States
CATEGORIES:Riftbound TCG
ATTACH;FMTTYPE=image/png:https://staging.tatesgaming.com/wp-content/uploads/2025/12/riftbound-event.png
GEO:26.1823829;-80.2509514
X-APPLE-STRUCTURED-LOCATION;VALUE=URI;X-ADDRESS=TATE’S Gaming Satellite 4580 N. University Drive Lauderhill FL 33351 United States;X-APPLE-RADIUS=500;X-TITLE=4580 N. University Drive:geo:-80.2509514,26.1823829
END:VEVENT
BEGIN:VEVENT
DTSTART;TZID=America/New_York:20301126T180000
DTEND;TZID=America/New_York:20301126T210000
DTSTAMP:20260424T050210
CREATED:20251230T203709Z
LAST-MODIFIED:20251230T203709Z
UID:10004385-1921946400-1921957200@staging.tatesgaming.com
SUMMARY:Riftbound TCG
DESCRIPTION:Summoners\, choose your champions and enter the rift every Tuesday! Here are the details: \nWhen: Tuesdays\nTime: 6:00pm\nEntry: $10.00\nFormat: Constructed
URL:https://staging.tatesgaming.com/event/riftbound-tcg/2030-11-26/
LOCATION:TATE’S Gaming Satellite\, 4580 N. University Drive\, Lauderhill\, FL\, 33351\, United States
CATEGORIES:Riftbound TCG
ATTACH;FMTTYPE=image/png:https://staging.tatesgaming.com/wp-content/uploads/2025/12/riftbound-event.png
GEO:26.1823829;-80.2509514
X-APPLE-STRUCTURED-LOCATION;VALUE=URI;X-ADDRESS=TATE’S Gaming Satellite 4580 N. University Drive Lauderhill FL 33351 United States;X-APPLE-RADIUS=500;X-TITLE=4580 N. University Drive:geo:-80.2509514,26.1823829
END:VEVENT
BEGIN:VEVENT
DTSTART;TZID=America/New_York:20301203T180000
DTEND;TZID=America/New_York:20301203T210000
DTSTAMP:20260424T050210
CREATED:20251230T203709Z
LAST-MODIFIED:20251230T203709Z
UID:10004386-1922551200-1922562000@staging.tatesgaming.com
SUMMARY:Riftbound TCG
DESCRIPTION:Summoners\, choose your champions and enter the rift every Tuesday! Here are the details: \nWhen: Tuesdays\nTime: 6:00pm\nEntry: $10.00\nFormat: Constructed
URL:https://staging.tatesgaming.com/event/riftbound-tcg/2030-12-03/
LOCATION:TATE’S Gaming Satellite\, 4580 N. University Drive\, Lauderhill\, FL\, 33351\, United States
CATEGORIES:Riftbound TCG
ATTACH;FMTTYPE=image/png:https://staging.tatesgaming.com/wp-content/uploads/2025/12/riftbound-event.png
GEO:26.1823829;-80.2509514
X-APPLE-STRUCTURED-LOCATION;VALUE=URI;X-ADDRESS=TATE’S Gaming Satellite 4580 N. University Drive Lauderhill FL 33351 United States;X-APPLE-RADIUS=500;X-TITLE=4580 N. University Drive:geo:-80.2509514,26.1823829
END:VEVENT
BEGIN:VEVENT
DTSTART;TZID=America/New_York:20301210T180000
DTEND;TZID=America/New_York:20301210T210000
DTSTAMP:20260424T050210
CREATED:20251230T203709Z
LAST-MODIFIED:20251230T203709Z
UID:10004387-1923156000-1923166800@staging.tatesgaming.com
SUMMARY:Riftbound TCG
DESCRIPTION:Summoners\, choose your champions and enter the rift every Tuesday! Here are the details: \nWhen: Tuesdays\nTime: 6:00pm\nEntry: $10.00\nFormat: Constructed
URL:https://staging.tatesgaming.com/event/riftbound-tcg/2030-12-10/
LOCATION:TATE’S Gaming Satellite\, 4580 N. University Drive\, Lauderhill\, FL\, 33351\, United States
CATEGORIES:Riftbound TCG
ATTACH;FMTTYPE=image/png:https://staging.tatesgaming.com/wp-content/uploads/2025/12/riftbound-event.png
GEO:26.1823829;-80.2509514
X-APPLE-STRUCTURED-LOCATION;VALUE=URI;X-ADDRESS=TATE’S Gaming Satellite 4580 N. University Drive Lauderhill FL 33351 United States;X-APPLE-RADIUS=500;X-TITLE=4580 N. University Drive:geo:-80.2509514,26.1823829
END:VEVENT
BEGIN:VEVENT
DTSTART;TZID=America/New_York:20301217T180000
DTEND;TZID=America/New_York:20301217T210000
DTSTAMP:20260424T050210
CREATED:20251230T203709Z
LAST-MODIFIED:20251230T203709Z
UID:10004388-1923760800-1923771600@staging.tatesgaming.com
SUMMARY:Riftbound TCG
DESCRIPTION:Summoners\, choose your champions and enter the rift every Tuesday! Here are the details: \nWhen: Tuesdays\nTime: 6:00pm\nEntry: $10.00\nFormat: Constructed
URL:https://staging.tatesgaming.com/event/riftbound-tcg/2030-12-17/
LOCATION:TATE’S Gaming Satellite\, 4580 N. University Drive\, Lauderhill\, FL\, 33351\, United States
CATEGORIES:Riftbound TCG
ATTACH;FMTTYPE=image/png:https://staging.tatesgaming.com/wp-content/uploads/2025/12/riftbound-event.png
GEO:26.1823829;-80.2509514
X-APPLE-STRUCTURED-LOCATION;VALUE=URI;X-ADDRESS=TATE’S Gaming Satellite 4580 N. University Drive Lauderhill FL 33351 United States;X-APPLE-RADIUS=500;X-TITLE=4580 N. University Drive:geo:-80.2509514,26.1823829
END:VEVENT
BEGIN:VEVENT
DTSTART;TZID=America/New_York:20301224T180000
DTEND;TZID=America/New_York:20301224T210000
DTSTAMP:20260424T050210
CREATED:20251230T203709Z
LAST-MODIFIED:20251230T203709Z
UID:10004389-1924365600-1924376400@staging.tatesgaming.com
SUMMARY:Riftbound TCG
DESCRIPTION:Summoners\, choose your champions and enter the rift every Tuesday! Here are the details: \nWhen: Tuesdays\nTime: 6:00pm\nEntry: $10.00\nFormat: Constructed
URL:https://staging.tatesgaming.com/event/riftbound-tcg/2030-12-24/
LOCATION:TATE’S Gaming Satellite\, 4580 N. University Drive\, Lauderhill\, FL\, 33351\, United States
CATEGORIES:Riftbound TCG
ATTACH;FMTTYPE=image/png:https://staging.tatesgaming.com/wp-content/uploads/2025/12/riftbound-event.png
GEO:26.1823829;-80.2509514
X-APPLE-STRUCTURED-LOCATION;VALUE=URI;X-ADDRESS=TATE’S Gaming Satellite 4580 N. University Drive Lauderhill FL 33351 United States;X-APPLE-RADIUS=500;X-TITLE=4580 N. University Drive:geo:-80.2509514,26.1823829
END:VEVENT
END:VCALENDAR