BEGIN:VCALENDAR
VERSION:2.0
PRODID:-//Tate&#039;s Gaming Satellite - ECPv6.15.20//NONSGML v1.0//EN
CALSCALE:GREGORIAN
METHOD:PUBLISH
X-WR-CALNAME:Tate&#039;s Gaming Satellite
X-ORIGINAL-URL:https://staging.tatesgaming.com
X-WR-CALDESC:Events for Tate&#039;s Gaming Satellite
REFRESH-INTERVAL;VALUE=DURATION:PT1H
X-Robots-Tag:noindex
X-PUBLISHED-TTL:PT1H
BEGIN:VTIMEZONE
TZID:America/New_York
BEGIN:DAYLIGHT
TZOFFSETFROM:-0500
TZOFFSETTO:-0400
TZNAME:EDT
DTSTART:20230312T070000
END:DAYLIGHT
BEGIN:STANDARD
TZOFFSETFROM:-0400
TZOFFSETTO:-0500
TZNAME:EST
DTSTART:20231105T060000
END:STANDARD
BEGIN:DAYLIGHT
TZOFFSETFROM:-0500
TZOFFSETTO:-0400
TZNAME:EDT
DTSTART:20240310T070000
END:DAYLIGHT
BEGIN:STANDARD
TZOFFSETFROM:-0400
TZOFFSETTO:-0500
TZNAME:EST
DTSTART:20241103T060000
END:STANDARD
BEGIN:DAYLIGHT
TZOFFSETFROM:-0500
TZOFFSETTO:-0400
TZNAME:EDT
DTSTART:20250309T070000
END:DAYLIGHT
BEGIN:STANDARD
TZOFFSETFROM:-0400
TZOFFSETTO:-0500
TZNAME:EST
DTSTART:20251102T060000
END:STANDARD
END:VTIMEZONE
BEGIN:VEVENT
DTSTART;TZID=America/New_York:20240607T190000
DTEND;TZID=America/New_York:20240607T230000
DTSTAMP:20260423T183742
CREATED:20240525T203524Z
LAST-MODIFIED:20240525T203740Z
UID:10003598-1717786800-1717801200@staging.tatesgaming.com
SUMMARY:MTG Modern Horizons 3 - Prerelease Weekend
DESCRIPTION:New tools\, new strategies\, new favorites! Join us for our Modern Horizons 3 Prerelease Weekend! \nHere are the details: \nSealed Events: \n  • Dates: Friday and Saturday\, June 7th and 8th\, 2024.\n • Time: Friday at 7:00pm and Saturday at 12:00pm\n• Entry: $55\n• Format: Sealed\, Swiss. Three rounds. No playoff cut.\n• Prize support will be issued based on the number of wins a player gets during the Swiss rounds.\n• Preregister and save $5! \nTake-Home Prerelease: \n• Dates: Friday\, June 7th — Thursday\, June 13th\n• Start Time: 11am each day\n• Entry: $55\n• Prize Support: Each Prerelease Kit comes with 2 Play Booster packs of Modern Horizons 3\n• Preorder and save $5! \nEach Modern Horizons 3 Prerelease Pack contains 6 Modern Horizons 3 Play Booster packs\, 1 foil-stamped rare or mythic rare card from Modern Horizons 3\, 1 deck box\, and 1 20-sided die.
URL:https://staging.tatesgaming.com/event/mtg-modern-horizons-3-prerelease-weekend/2024-06-07/
LOCATION:TATE’S Gaming Satellite\, 4580 N. University Drive\, Lauderhill\, FL\, 33351\, United States
CATEGORIES:Magic the Gathering,Slider Feature
ATTACH;FMTTYPE=image/png:https://staging.tatesgaming.com/wp-content/uploads/2024/05/mh3-prerelease-slider.png
GEO:26.1823829;-80.2509514
X-APPLE-STRUCTURED-LOCATION;VALUE=URI;X-ADDRESS=TATE’S Gaming Satellite 4580 N. University Drive Lauderhill FL 33351 United States;X-APPLE-RADIUS=500;X-TITLE=4580 N. University Drive:geo:-80.2509514,26.1823829
END:VEVENT
BEGIN:VEVENT
DTSTART;TZID=America/New_York:20240608T120000
DTEND;TZID=America/New_York:20240608T170000
DTSTAMP:20260423T183742
CREATED:20240525T203524Z
LAST-MODIFIED:20240525T203740Z
UID:10003599-1717848000-1717866000@staging.tatesgaming.com
SUMMARY:MTG Modern Horizons 3 - Prerelease Weekend
DESCRIPTION:New tools\, new strategies\, new favorites! Join us for our Modern Horizons 3 Prerelease Weekend! \nHere are the details: \nSealed Events: \n  • Dates: Friday and Saturday\, June 7th and 8th\, 2024.\n • Time: Friday at 7:00pm and Saturday at 12:00pm\n• Entry: $55\n• Format: Sealed\, Swiss. Three rounds. No playoff cut.\n• Prize support will be issued based on the number of wins a player gets during the Swiss rounds.\n• Preregister and save $5! \nTake-Home Prerelease: \n• Dates: Friday\, June 7th — Thursday\, June 13th\n• Start Time: 11am each day\n• Entry: $55\n• Prize Support: Each Prerelease Kit comes with 2 Play Booster packs of Modern Horizons 3\n• Preorder and save $5! \nEach Modern Horizons 3 Prerelease Pack contains 6 Modern Horizons 3 Play Booster packs\, 1 foil-stamped rare or mythic rare card from Modern Horizons 3\, 1 deck box\, and 1 20-sided die.
URL:https://staging.tatesgaming.com/event/mtg-modern-horizons-3-prerelease-weekend/2024-06-08/
LOCATION:TATE’S Gaming Satellite\, 4580 N. University Drive\, Lauderhill\, FL\, 33351\, United States
CATEGORIES:Magic the Gathering,Slider Feature
ATTACH;FMTTYPE=image/png:https://staging.tatesgaming.com/wp-content/uploads/2024/05/mh3-prerelease-slider.png
GEO:26.1823829;-80.2509514
X-APPLE-STRUCTURED-LOCATION;VALUE=URI;X-ADDRESS=TATE’S Gaming Satellite 4580 N. University Drive Lauderhill FL 33351 United States;X-APPLE-RADIUS=500;X-TITLE=4580 N. University Drive:geo:-80.2509514,26.1823829
END:VEVENT
END:VCALENDAR