BEGIN:VCALENDAR
VERSION:2.0
PRODID:-//Tate&#039;s Gaming Satellite - ECPv6.15.20//NONSGML v1.0//EN
CALSCALE:GREGORIAN
METHOD:PUBLISH
X-ORIGINAL-URL:https://staging.tatesgaming.com
X-WR-CALDESC:Events for Tate&#039;s Gaming Satellite
REFRESH-INTERVAL;VALUE=DURATION:PT1H
X-Robots-Tag:noindex
X-PUBLISHED-TTL:PT1H
BEGIN:VTIMEZONE
TZID:America/New_York
BEGIN:DAYLIGHT
TZOFFSETFROM:-0500
TZOFFSETTO:-0400
TZNAME:EDT
DTSTART:20170312T070000
END:DAYLIGHT
BEGIN:STANDARD
TZOFFSETFROM:-0400
TZOFFSETTO:-0500
TZNAME:EST
DTSTART:20171105T060000
END:STANDARD
BEGIN:DAYLIGHT
TZOFFSETFROM:-0500
TZOFFSETTO:-0400
TZNAME:EDT
DTSTART:20180311T070000
END:DAYLIGHT
BEGIN:STANDARD
TZOFFSETFROM:-0400
TZOFFSETTO:-0500
TZNAME:EST
DTSTART:20181104T060000
END:STANDARD
BEGIN:DAYLIGHT
TZOFFSETFROM:-0500
TZOFFSETTO:-0400
TZNAME:EDT
DTSTART:20190310T070000
END:DAYLIGHT
BEGIN:STANDARD
TZOFFSETFROM:-0400
TZOFFSETTO:-0500
TZNAME:EST
DTSTART:20191103T060000
END:STANDARD
BEGIN:DAYLIGHT
TZOFFSETFROM:-0500
TZOFFSETTO:-0400
TZNAME:EDT
DTSTART:20200308T070000
END:DAYLIGHT
BEGIN:STANDARD
TZOFFSETFROM:-0400
TZOFFSETTO:-0500
TZNAME:EST
DTSTART:20201101T060000
END:STANDARD
BEGIN:DAYLIGHT
TZOFFSETFROM:-0500
TZOFFSETTO:-0400
TZNAME:EDT
DTSTART:20210314T070000
END:DAYLIGHT
BEGIN:STANDARD
TZOFFSETFROM:-0400
TZOFFSETTO:-0500
TZNAME:EST
DTSTART:20211107T060000
END:STANDARD
END:VTIMEZONE
BEGIN:VEVENT
DTSTART;TZID=America/New_York:20200530T110000
DTEND;TZID=America/New_York:20200530T190000
DTSTAMP:20260422T141948
CREATED:20200528T195736Z
LAST-MODIFIED:20200612T152203Z
UID:10000660-1590836400-1590865200@staging.tatesgaming.com
SUMMARY:We Are Back!
DESCRIPTION:We are slowly working our way back to being open! Please keep in mind the following rules: \n• Face masks are required\n• Customers are to practice social distancing\n• Limit of 15 people in the store at any one time\n• Tabletop gaming area is closed until further notice \nHere is the schedule for the “week” of June 12th through June 19th: \nFriday\, June 12th: OPEN 11am – 7pm\nSaturday\, June 13th: OPEN 11am – 7pm\nSunday\, June 14th: OPEN 11am – 6pm\nMonday\, June 15th: OPEN 11am – 7pm\nTuesday\, June 16th: CLOSED for cleaning\nWednesday\, June 17th: OPEN 11am – 7pm\nThursday\, June 18th: OPEN 11am – 7pm\nFriday\, June 19th: OPEN 11am – 7pm
URL:https://staging.tatesgaming.com/event/we-are-back/2020-05-30/
LOCATION:TATE’S Gaming Satellite\, 4580 N. University Drive\, Lauderhill\, FL\, 33351\, United States
CATEGORIES:Slider Feature,TATE'S Comics
ATTACH;FMTTYPE=image/jpeg:https://staging.tatesgaming.com/wp-content/uploads/2020/05/TempScheduleSlider.jpg
GEO:26.1823829;-80.2509514
X-APPLE-STRUCTURED-LOCATION;VALUE=URI;X-ADDRESS=TATE’S Gaming Satellite 4580 N. University Drive Lauderhill FL 33351 United States;X-APPLE-RADIUS=500;X-TITLE=4580 N. University Drive:geo:-80.2509514,26.1823829
END:VEVENT
BEGIN:VEVENT
DTSTART;TZID=America/New_York:20200529T110000
DTEND;TZID=America/New_York:20200529T190000
DTSTAMP:20260422T141948
CREATED:20200528T195736Z
LAST-MODIFIED:20200612T152203Z
UID:10000659-1590750000-1590778800@staging.tatesgaming.com
SUMMARY:We Are Back!
DESCRIPTION:We are slowly working our way back to being open! Please keep in mind the following rules: \n• Face masks are required\n• Customers are to practice social distancing\n• Limit of 15 people in the store at any one time\n• Tabletop gaming area is closed until further notice \nHere is the schedule for the “week” of June 12th through June 19th: \nFriday\, June 12th: OPEN 11am – 7pm\nSaturday\, June 13th: OPEN 11am – 7pm\nSunday\, June 14th: OPEN 11am – 6pm\nMonday\, June 15th: OPEN 11am – 7pm\nTuesday\, June 16th: CLOSED for cleaning\nWednesday\, June 17th: OPEN 11am – 7pm\nThursday\, June 18th: OPEN 11am – 7pm\nFriday\, June 19th: OPEN 11am – 7pm
URL:https://staging.tatesgaming.com/event/we-are-back/2020-05-29/
LOCATION:TATE’S Gaming Satellite\, 4580 N. University Drive\, Lauderhill\, FL\, 33351\, United States
CATEGORIES:Slider Feature,TATE'S Comics
ATTACH;FMTTYPE=image/jpeg:https://staging.tatesgaming.com/wp-content/uploads/2020/05/TempScheduleSlider.jpg
GEO:26.1823829;-80.2509514
X-APPLE-STRUCTURED-LOCATION;VALUE=URI;X-ADDRESS=TATE’S Gaming Satellite 4580 N. University Drive Lauderhill FL 33351 United States;X-APPLE-RADIUS=500;X-TITLE=4580 N. University Drive:geo:-80.2509514,26.1823829
END:VEVENT
BEGIN:VEVENT
DTSTART;TZID=America/New_York:20200329T100000
DTEND;TZID=America/New_York:20200329T170000
DTSTAMP:20260422T141948
CREATED:20200229T160706Z
LAST-MODIFIED:20200229T160758Z
UID:10000677-1585476000-1585501200@staging.tatesgaming.com
SUMMARY:27th Anniversary TATE'S Tent Sale
DESCRIPTION:Join us for the 27th Anniversary TATE’S Sale! \nSaturday\, March 28\, 2020; 10am-8pm\nSunday\, March 29\, 2020; 10am-5pm \nExtra special tent sale savings!\nYou will only find these deals outside our Lauderhill location in the huge tent!\nvvvvvvvvvvvvvvvvvvvvvvvvvvv\nComics 2 for $1 or 75¢ each\nFill up an entire longbox with comics for only $55!\nFill a shortbox for $45!\nGraphic Novels & Books 50% OFF\nManga 3 for $10 or $5 each\nMagazines 3 for $1 or 50¢ each\nToys and Action Figures 2 for $10 or $6 each\nT-Shirts 3 for $25 or $10 each\nDVDs 3 for $10 or $5 each\n+ huge discounts on high-ticket statues\, vinyl toys & more!! \nInside the store!\nThese offers are valid on stuff inside at both the Lauderhill & Boynton locations.\nvvvvvvvvvvvvvvvvvvvvvvvvvvv\nAll our back issue comics 50% OFF\nEverything else inside the store 10% OFF \nAt the Lauderhill location only!\nvvvvvvvvvvvvvvvvvvvvvvvvvvv\nSaturday and Sunday 11am-4pm:\nEnjoy FREE shirt printing* of our exclusive commemorative designs by The Fine Print Shoppe!\n*The printing is totally FREE on your own blank shirts! Bring ‘em! We will also have a limited supply of blanks for sale cheap!
URL:https://staging.tatesgaming.com/event/27th-anniversary-tates-tent-sale/2020-03-29/
LOCATION:FL
CATEGORIES:Family Saturdays,TATE'S Comics
ATTACH;FMTTYPE=image/jpeg:https://staging.tatesgaming.com/wp-content/uploads/2020/02/27AniSale_MainSlider_1000x400.jpg
END:VEVENT
BEGIN:VEVENT
DTSTART;TZID=America/New_York:20200328T100000
DTEND;TZID=America/New_York:20200328T200000
DTSTAMP:20260422T141948
CREATED:20200229T160706Z
LAST-MODIFIED:20200229T160758Z
UID:10000676-1585389600-1585425600@staging.tatesgaming.com
SUMMARY:27th Anniversary TATE'S Tent Sale
DESCRIPTION:Join us for the 27th Anniversary TATE’S Sale! \nSaturday\, March 28\, 2020; 10am-8pm\nSunday\, March 29\, 2020; 10am-5pm \nExtra special tent sale savings!\nYou will only find these deals outside our Lauderhill location in the huge tent!\nvvvvvvvvvvvvvvvvvvvvvvvvvvv\nComics 2 for $1 or 75¢ each\nFill up an entire longbox with comics for only $55!\nFill a shortbox for $45!\nGraphic Novels & Books 50% OFF\nManga 3 for $10 or $5 each\nMagazines 3 for $1 or 50¢ each\nToys and Action Figures 2 for $10 or $6 each\nT-Shirts 3 for $25 or $10 each\nDVDs 3 for $10 or $5 each\n+ huge discounts on high-ticket statues\, vinyl toys & more!! \nInside the store!\nThese offers are valid on stuff inside at both the Lauderhill & Boynton locations.\nvvvvvvvvvvvvvvvvvvvvvvvvvvv\nAll our back issue comics 50% OFF\nEverything else inside the store 10% OFF \nAt the Lauderhill location only!\nvvvvvvvvvvvvvvvvvvvvvvvvvvv\nSaturday and Sunday 11am-4pm:\nEnjoy FREE shirt printing* of our exclusive commemorative designs by The Fine Print Shoppe!\n*The printing is totally FREE on your own blank shirts! Bring ‘em! We will also have a limited supply of blanks for sale cheap!
URL:https://staging.tatesgaming.com/event/27th-anniversary-tates-tent-sale/2020-03-28/
LOCATION:FL
CATEGORIES:Family Saturdays,TATE'S Comics
ATTACH;FMTTYPE=image/jpeg:https://staging.tatesgaming.com/wp-content/uploads/2020/02/27AniSale_MainSlider_1000x400.jpg
END:VEVENT
BEGIN:VEVENT
DTSTART;TZID=America/New_York:20191020T100000
DTEND;TZID=America/New_York:20191020T170000
DTSTAMP:20260422T141948
CREATED:20190903T161353Z
LAST-MODIFIED:20190903T161354Z
UID:10000630-1571565600-1571590800@staging.tatesgaming.com
SUMMARY:Neo-TATE'S Tent Sale
DESCRIPTION:OUTSIDE UNDER THE TENT (Lauderhill Only)\nComics 3 for $1 or 50¢ each\nFill up an entire longbox with comics for only $45!\nFill a shortbox for $30!\nComic Book Bundles 50% OFF\nGraphic Novels & Books 50% OFF\nManga $3 each\nMagazines 3 for $1 or 50¢ each\nToys and Action Figures 2 for $10 or $6 each\nT-Shirts 3 for $25 or $10 each\nDVDs 3 for $10 or $5 each \n+ huge discounts on high-ticket statues\, vinyl toys & more!! \nINSIDE THE STORE (Lauderhill & Boynton Beach)\nAll our back issue comics 50% OFF\nEverything else inside the store 10% OFF \nExtra fun stuff!  (Lauderhill Only)\nAll weekend:\nRule over Neo-Tate’s and sit upon Akira’s throne!\nCount the Capsules! Guess the number in the jar and win $$!\nBounce House! Bounce House!\nGrab a snack at 3KB’s Harukiya Café! \nAnd as always… FREE Souvenir Buttons while they last! \nAll weekend 11am-4pm: Enjoy FREE shirt printing* of our exclusive commemorative designs by The Fine Print Shoppe!\nThe exclusive designs will be posted the week before the event.\n*The printing is totally FREE on your own blank shirts! Bring ‘em! We will also have a limited supply of blanks for sale cheap!
URL:https://staging.tatesgaming.com/event/neo-tates-tent-sale/2019-10-20/
LOCATION:TATE’S Gaming Satellite\, 4580 N. University Drive\, Lauderhill\, FL\, 33351\, United States
CATEGORIES:Family Saturdays,Slider Feature,TATE'S Comics
ATTACH;FMTTYPE=image/jpeg:https://staging.tatesgaming.com/wp-content/uploads/2019/09/1019_NeoTatesSale_1000x400.jpg
GEO:26.1823829;-80.2509514
X-APPLE-STRUCTURED-LOCATION;VALUE=URI;X-ADDRESS=TATE’S Gaming Satellite 4580 N. University Drive Lauderhill FL 33351 United States;X-APPLE-RADIUS=500;X-TITLE=4580 N. University Drive:geo:-80.2509514,26.1823829
END:VEVENT
BEGIN:VEVENT
DTSTART;TZID=America/New_York:20191019T100000
DTEND;TZID=America/New_York:20191019T200000
DTSTAMP:20260422T141948
CREATED:20190903T161353Z
LAST-MODIFIED:20190903T161354Z
UID:10000629-1571479200-1571515200@staging.tatesgaming.com
SUMMARY:Neo-TATE'S Tent Sale
DESCRIPTION:OUTSIDE UNDER THE TENT (Lauderhill Only)\nComics 3 for $1 or 50¢ each\nFill up an entire longbox with comics for only $45!\nFill a shortbox for $30!\nComic Book Bundles 50% OFF\nGraphic Novels & Books 50% OFF\nManga $3 each\nMagazines 3 for $1 or 50¢ each\nToys and Action Figures 2 for $10 or $6 each\nT-Shirts 3 for $25 or $10 each\nDVDs 3 for $10 or $5 each \n+ huge discounts on high-ticket statues\, vinyl toys & more!! \nINSIDE THE STORE (Lauderhill & Boynton Beach)\nAll our back issue comics 50% OFF\nEverything else inside the store 10% OFF \nExtra fun stuff!  (Lauderhill Only)\nAll weekend:\nRule over Neo-Tate’s and sit upon Akira’s throne!\nCount the Capsules! Guess the number in the jar and win $$!\nBounce House! Bounce House!\nGrab a snack at 3KB’s Harukiya Café! \nAnd as always… FREE Souvenir Buttons while they last! \nAll weekend 11am-4pm: Enjoy FREE shirt printing* of our exclusive commemorative designs by The Fine Print Shoppe!\nThe exclusive designs will be posted the week before the event.\n*The printing is totally FREE on your own blank shirts! Bring ‘em! We will also have a limited supply of blanks for sale cheap!
URL:https://staging.tatesgaming.com/event/neo-tates-tent-sale/2019-10-19/
LOCATION:TATE’S Gaming Satellite\, 4580 N. University Drive\, Lauderhill\, FL\, 33351\, United States
CATEGORIES:Family Saturdays,Slider Feature,TATE'S Comics
ATTACH;FMTTYPE=image/jpeg:https://staging.tatesgaming.com/wp-content/uploads/2019/09/1019_NeoTatesSale_1000x400.jpg
GEO:26.1823829;-80.2509514
X-APPLE-STRUCTURED-LOCATION;VALUE=URI;X-ADDRESS=TATE’S Gaming Satellite 4580 N. University Drive Lauderhill FL 33351 United States;X-APPLE-RADIUS=500;X-TITLE=4580 N. University Drive:geo:-80.2509514,26.1823829
END:VEVENT
BEGIN:VEVENT
DTSTART;TZID=America/New_York:20190317T120000
DTEND;TZID=America/New_York:20190317T150000
DTSTAMP:20260422T141948
CREATED:20190309T004247Z
LAST-MODIFIED:20190309T004247Z
UID:10000602-1552824000-1552834800@staging.tatesgaming.com
SUMMARY:Meet Star Wars Ship Creator\, Colin Cantwell!
DESCRIPTION:Meet an original Star Wars “Behind the Scenes” Legend\nStar Wars Ship Creator\, Colin Cantwell! \nJoin us Sunday\, March 17\, 2019 from Noon-3pm\nfor a special presentation\, Q&A and autograph session! \nStar Wars ship designer\, Colin Cantwell\, was the original concept artist and modeler for all things that flew in the first Star Wars movie\, “A New Hope”. His designs include the X-Wing\, TIE Fighter\, Death Star\, Star Destroyer\, original Millennium Falcon\, Y-Wing and others. Developing the process of “Kitbashing” to build the ships\, he revolutionized the modeling industry by tearing apart model kits of cars\, boats and planes and re-constructing the pieces into objects such as the Star Wars ship models. In addition to his contribution to Star Wars\, Colin has been involved in several other iconic projects. \nThis event will feature a fascinating presentation by Colin Cantwell\, where he describes his various projects including: – His Star Wars’ ship designs/models\, scene designs & his work with Lucas – His contributions to the success of “2001\, A Space Odyssey” – How he worked with Walter Cronkite on the First Moon Landing; – His work at NASA – Plus Colin’s work in War Games\, Buck Rogers\, Close Encounters and more! \nThe presentation and Q&A portions of this event are free. There will be a charge for autographs and photos\, for more details on visit colincantwell.com\n_________ _________ _________ _________ _________ _________\nIn honor of this visit\, we will be offering 10% OFF All of our Star Wars merchandise all day on 3/17/19! No coupon required!
URL:https://staging.tatesgaming.com/event/meet-star-wars-ship-creator-colin-cantwell/
LOCATION:TATE’S Gaming Satellite\, 4580 N. University Drive\, Lauderhill\, FL\, 33351\, United States
CATEGORIES:Slider Feature,Star Wars,TATE'S Comics
ATTACH;FMTTYPE=image/jpeg:https://staging.tatesgaming.com/wp-content/uploads/2019/03/51628664_10156386461258878_1727143247509192704_o.jpg
GEO:26.1823829;-80.2509514
X-APPLE-STRUCTURED-LOCATION;VALUE=URI;X-ADDRESS=TATE’S Gaming Satellite 4580 N. University Drive Lauderhill FL 33351 United States;X-APPLE-RADIUS=500;X-TITLE=4580 N. University Drive:geo:-80.2509514,26.1823829
END:VEVENT
BEGIN:VEVENT
DTSTART;TZID=America/New_York:20181014T100000
DTEND;TZID=America/New_York:20181014T200000
DTSTAMP:20260422T141948
CREATED:20180818T180057Z
LAST-MODIFIED:20180910T201708Z
UID:10000006-1539511200-1539547200@staging.tatesgaming.com
SUMMARY:Halloween Tent Sale
DESCRIPTION:It is time again for our big Halloween Tent Sale – where we blow out tons of comics\, toys\, statues and more! You do not want to miss the final big tent sale of the year at Tate’s! The prices are crazy low out in the big tent we setup in our front parking lot! \nSaturday\, October 13\, 2018; 10am-8pm\nSunday\, October 14\, 2018; 10am-5pm \nINSIDE THE BIG TENT OUT FRONT: \n\nComics 3 for $1 or 50¢ each\nFill up an entire longbox with comics for only $45!\nFill a shortbox for $30!\nComic Book Bundles 50% OFF\nGraphic Novels & Books 2 for $10 or $6 each\nManga $3 each\nMagazines 3 for $1 or 50¢ each\nToys and Action Figures 2 for $10 or $6 each\nT-Shirts 3 for $25 or $10 each\nDVDs 3 for $10 or $5 each\n+ huge discounts on high-ticket statues\, vinyl toys & more!\n\nINSIDE THE STORE: \n\nAll our back issue comics 50% OFF\nEverything else inside the store 10% OFF\n\nThe extra fun stuff!\nAll weekend: \n\nSpin our “Wheel of Misfortune” for free prizes!\nMake your mark in our Spellbooooooooooook!\nKIDS! Visit the our Haunted Bounce House!\nStop by the 3KB’s Salem Pub for a snack!\nAnd as always… FREE Souvenir Buttons\, while they last!\n\nSaturday and Sunday 11am-4pm: \n\nEnjoy FREE shirt printing* of our exclusive commemorative designs by The Fine Print Shoppe!\n*The printing is totally FREE on your own blank shirts! Bring ‘em! We will also have a limited supply of blanks for sale cheap!\n\nSunday\, October 14th from 12noon-4pm: \n\nJoin us at our Tate’s Gaming Satellite for a special Dungeons & Dragons Encounter! Mere mortals welcome!\nWe will have Dungeon Masters at the ready to guide you through the frightful frights!\nEvent Flyer: https://tinyurl.com/tates18tentsale
URL:https://staging.tatesgaming.com/event/halloween-tent-sale/2018-10-14/
LOCATION:TATE’S Gaming Satellite\, 4580 N. University Drive\, Lauderhill\, FL\, 33351\, United States
CATEGORIES:Dungeons & Dragons,Slider Feature,TATE'S Comics
ATTACH;FMTTYPE=image/jpeg:https://staging.tatesgaming.com/wp-content/uploads/2018/08/40322955_10156028036358878_4787519952301064192_o.jpg
GEO:26.1823829;-80.2509514
X-APPLE-STRUCTURED-LOCATION;VALUE=URI;X-ADDRESS=TATE’S Gaming Satellite 4580 N. University Drive Lauderhill FL 33351 United States;X-APPLE-RADIUS=500;X-TITLE=4580 N. University Drive:geo:-80.2509514,26.1823829
END:VEVENT
BEGIN:VEVENT
DTSTART;TZID=America/New_York:20181013T100000
DTEND;TZID=America/New_York:20181013T200000
DTSTAMP:20260422T141948
CREATED:20180818T180057Z
LAST-MODIFIED:20180910T201708Z
UID:10000005-1539424800-1539460800@staging.tatesgaming.com
SUMMARY:Halloween Tent Sale
DESCRIPTION:It is time again for our big Halloween Tent Sale – where we blow out tons of comics\, toys\, statues and more! You do not want to miss the final big tent sale of the year at Tate’s! The prices are crazy low out in the big tent we setup in our front parking lot! \nSaturday\, October 13\, 2018; 10am-8pm\nSunday\, October 14\, 2018; 10am-5pm \nINSIDE THE BIG TENT OUT FRONT: \n\nComics 3 for $1 or 50¢ each\nFill up an entire longbox with comics for only $45!\nFill a shortbox for $30!\nComic Book Bundles 50% OFF\nGraphic Novels & Books 2 for $10 or $6 each\nManga $3 each\nMagazines 3 for $1 or 50¢ each\nToys and Action Figures 2 for $10 or $6 each\nT-Shirts 3 for $25 or $10 each\nDVDs 3 for $10 or $5 each\n+ huge discounts on high-ticket statues\, vinyl toys & more!\n\nINSIDE THE STORE: \n\nAll our back issue comics 50% OFF\nEverything else inside the store 10% OFF\n\nThe extra fun stuff!\nAll weekend: \n\nSpin our “Wheel of Misfortune” for free prizes!\nMake your mark in our Spellbooooooooooook!\nKIDS! Visit the our Haunted Bounce House!\nStop by the 3KB’s Salem Pub for a snack!\nAnd as always… FREE Souvenir Buttons\, while they last!\n\nSaturday and Sunday 11am-4pm: \n\nEnjoy FREE shirt printing* of our exclusive commemorative designs by The Fine Print Shoppe!\n*The printing is totally FREE on your own blank shirts! Bring ‘em! We will also have a limited supply of blanks for sale cheap!\n\nSunday\, October 14th from 12noon-4pm: \n\nJoin us at our Tate’s Gaming Satellite for a special Dungeons & Dragons Encounter! Mere mortals welcome!\nWe will have Dungeon Masters at the ready to guide you through the frightful frights!\nEvent Flyer: https://tinyurl.com/tates18tentsale
URL:https://staging.tatesgaming.com/event/halloween-tent-sale/2018-10-13/
LOCATION:TATE’S Gaming Satellite\, 4580 N. University Drive\, Lauderhill\, FL\, 33351\, United States
CATEGORIES:Dungeons & Dragons,Slider Feature,TATE'S Comics
ATTACH;FMTTYPE=image/jpeg:https://staging.tatesgaming.com/wp-content/uploads/2018/08/40322955_10156028036358878_4787519952301064192_o.jpg
GEO:26.1823829;-80.2509514
X-APPLE-STRUCTURED-LOCATION;VALUE=URI;X-ADDRESS=TATE’S Gaming Satellite 4580 N. University Drive Lauderhill FL 33351 United States;X-APPLE-RADIUS=500;X-TITLE=4580 N. University Drive:geo:-80.2509514,26.1823829
END:VEVENT
END:VCALENDAR