BEGIN:VCALENDAR
VERSION:2.0
PRODID:-//Tate&#039;s Gaming Satellite - ECPv6.15.20//NONSGML v1.0//EN
CALSCALE:GREGORIAN
METHOD:PUBLISH
X-WR-CALNAME:Tate&#039;s Gaming Satellite
X-ORIGINAL-URL:https://staging.tatesgaming.com
X-WR-CALDESC:Events for Tate&#039;s Gaming Satellite
REFRESH-INTERVAL;VALUE=DURATION:PT1H
X-Robots-Tag:noindex
X-PUBLISHED-TTL:PT1H
BEGIN:VTIMEZONE
TZID:America/New_York
BEGIN:DAYLIGHT
TZOFFSETFROM:-0500
TZOFFSETTO:-0400
TZNAME:EDT
DTSTART:20260308T070000
END:DAYLIGHT
BEGIN:STANDARD
TZOFFSETFROM:-0400
TZOFFSETTO:-0500
TZNAME:EST
DTSTART:20261101T060000
END:STANDARD
BEGIN:DAYLIGHT
TZOFFSETFROM:-0500
TZOFFSETTO:-0400
TZNAME:EDT
DTSTART:20270314T070000
END:DAYLIGHT
BEGIN:STANDARD
TZOFFSETFROM:-0400
TZOFFSETTO:-0500
TZNAME:EST
DTSTART:20271107T060000
END:STANDARD
BEGIN:DAYLIGHT
TZOFFSETFROM:-0500
TZOFFSETTO:-0400
TZNAME:EDT
DTSTART:20280312T070000
END:DAYLIGHT
BEGIN:STANDARD
TZOFFSETFROM:-0400
TZOFFSETTO:-0500
TZNAME:EST
DTSTART:20281105T060000
END:STANDARD
END:VTIMEZONE
BEGIN:VEVENT
DTSTART;TZID=America/New_York:20270702T190000
DTEND;TZID=America/New_York:20270702T220000
DTSTAMP:20260423T064722
CREATED:20251230T205701Z
LAST-MODIFIED:20251230T205701Z
UID:10005066-1814554800-1814565600@staging.tatesgaming.com
SUMMARY:Union Arena TCG
DESCRIPTION:Join us every Friday and Saturday at 7pm for our Union Arena weekly tournaments!
URL:https://staging.tatesgaming.com/event/union-arena-tcg/2027-07-02/
LOCATION:TATE’S Gaming Satellite\, 4580 N. University Drive\, Lauderhill\, FL\, 33351\, United States
CATEGORIES:Union Arena
ATTACH;FMTTYPE=image/png:https://staging.tatesgaming.com/wp-content/uploads/2025/12/unionarena-event.png
GEO:26.1823829;-80.2509514
X-APPLE-STRUCTURED-LOCATION;VALUE=URI;X-ADDRESS=TATE’S Gaming Satellite 4580 N. University Drive Lauderhill FL 33351 United States;X-APPLE-RADIUS=500;X-TITLE=4580 N. University Drive:geo:-80.2509514,26.1823829
END:VEVENT
BEGIN:VEVENT
DTSTART;TZID=America/New_York:20270703T190000
DTEND;TZID=America/New_York:20270703T220000
DTSTAMP:20260423T064722
CREATED:20251230T205701Z
LAST-MODIFIED:20251230T205701Z
UID:10005067-1814641200-1814652000@staging.tatesgaming.com
SUMMARY:Union Arena TCG
DESCRIPTION:Join us every Friday and Saturday at 7pm for our Union Arena weekly tournaments!
URL:https://staging.tatesgaming.com/event/union-arena-tcg/2027-07-03/
LOCATION:TATE’S Gaming Satellite\, 4580 N. University Drive\, Lauderhill\, FL\, 33351\, United States
CATEGORIES:Union Arena
ATTACH;FMTTYPE=image/png:https://staging.tatesgaming.com/wp-content/uploads/2025/12/unionarena-event.png
GEO:26.1823829;-80.2509514
X-APPLE-STRUCTURED-LOCATION;VALUE=URI;X-ADDRESS=TATE’S Gaming Satellite 4580 N. University Drive Lauderhill FL 33351 United States;X-APPLE-RADIUS=500;X-TITLE=4580 N. University Drive:geo:-80.2509514,26.1823829
END:VEVENT
BEGIN:VEVENT
DTSTART;TZID=America/New_York:20270709T190000
DTEND;TZID=America/New_York:20270709T220000
DTSTAMP:20260423T064722
CREATED:20251230T205701Z
LAST-MODIFIED:20251230T205701Z
UID:10005068-1815159600-1815170400@staging.tatesgaming.com
SUMMARY:Union Arena TCG
DESCRIPTION:Join us every Friday and Saturday at 7pm for our Union Arena weekly tournaments!
URL:https://staging.tatesgaming.com/event/union-arena-tcg/2027-07-09/
LOCATION:TATE’S Gaming Satellite\, 4580 N. University Drive\, Lauderhill\, FL\, 33351\, United States
CATEGORIES:Union Arena
ATTACH;FMTTYPE=image/png:https://staging.tatesgaming.com/wp-content/uploads/2025/12/unionarena-event.png
GEO:26.1823829;-80.2509514
X-APPLE-STRUCTURED-LOCATION;VALUE=URI;X-ADDRESS=TATE’S Gaming Satellite 4580 N. University Drive Lauderhill FL 33351 United States;X-APPLE-RADIUS=500;X-TITLE=4580 N. University Drive:geo:-80.2509514,26.1823829
END:VEVENT
BEGIN:VEVENT
DTSTART;TZID=America/New_York:20270710T190000
DTEND;TZID=America/New_York:20270710T220000
DTSTAMP:20260423T064722
CREATED:20251230T205701Z
LAST-MODIFIED:20251230T205701Z
UID:10005069-1815246000-1815256800@staging.tatesgaming.com
SUMMARY:Union Arena TCG
DESCRIPTION:Join us every Friday and Saturday at 7pm for our Union Arena weekly tournaments!
URL:https://staging.tatesgaming.com/event/union-arena-tcg/2027-07-10/
LOCATION:TATE’S Gaming Satellite\, 4580 N. University Drive\, Lauderhill\, FL\, 33351\, United States
CATEGORIES:Union Arena
ATTACH;FMTTYPE=image/png:https://staging.tatesgaming.com/wp-content/uploads/2025/12/unionarena-event.png
GEO:26.1823829;-80.2509514
X-APPLE-STRUCTURED-LOCATION;VALUE=URI;X-ADDRESS=TATE’S Gaming Satellite 4580 N. University Drive Lauderhill FL 33351 United States;X-APPLE-RADIUS=500;X-TITLE=4580 N. University Drive:geo:-80.2509514,26.1823829
END:VEVENT
BEGIN:VEVENT
DTSTART;TZID=America/New_York:20270716T190000
DTEND;TZID=America/New_York:20270716T220000
DTSTAMP:20260423T064722
CREATED:20251230T205701Z
LAST-MODIFIED:20251230T205701Z
UID:10005070-1815764400-1815775200@staging.tatesgaming.com
SUMMARY:Union Arena TCG
DESCRIPTION:Join us every Friday and Saturday at 7pm for our Union Arena weekly tournaments!
URL:https://staging.tatesgaming.com/event/union-arena-tcg/2027-07-16/
LOCATION:TATE’S Gaming Satellite\, 4580 N. University Drive\, Lauderhill\, FL\, 33351\, United States
CATEGORIES:Union Arena
ATTACH;FMTTYPE=image/png:https://staging.tatesgaming.com/wp-content/uploads/2025/12/unionarena-event.png
GEO:26.1823829;-80.2509514
X-APPLE-STRUCTURED-LOCATION;VALUE=URI;X-ADDRESS=TATE’S Gaming Satellite 4580 N. University Drive Lauderhill FL 33351 United States;X-APPLE-RADIUS=500;X-TITLE=4580 N. University Drive:geo:-80.2509514,26.1823829
END:VEVENT
BEGIN:VEVENT
DTSTART;TZID=America/New_York:20270717T190000
DTEND;TZID=America/New_York:20270717T220000
DTSTAMP:20260423T064722
CREATED:20251230T205701Z
LAST-MODIFIED:20251230T205701Z
UID:10005071-1815850800-1815861600@staging.tatesgaming.com
SUMMARY:Union Arena TCG
DESCRIPTION:Join us every Friday and Saturday at 7pm for our Union Arena weekly tournaments!
URL:https://staging.tatesgaming.com/event/union-arena-tcg/2027-07-17/
LOCATION:TATE’S Gaming Satellite\, 4580 N. University Drive\, Lauderhill\, FL\, 33351\, United States
CATEGORIES:Union Arena
ATTACH;FMTTYPE=image/png:https://staging.tatesgaming.com/wp-content/uploads/2025/12/unionarena-event.png
GEO:26.1823829;-80.2509514
X-APPLE-STRUCTURED-LOCATION;VALUE=URI;X-ADDRESS=TATE’S Gaming Satellite 4580 N. University Drive Lauderhill FL 33351 United States;X-APPLE-RADIUS=500;X-TITLE=4580 N. University Drive:geo:-80.2509514,26.1823829
END:VEVENT
BEGIN:VEVENT
DTSTART;TZID=America/New_York:20270723T190000
DTEND;TZID=America/New_York:20270723T220000
DTSTAMP:20260423T064722
CREATED:20251230T205701Z
LAST-MODIFIED:20251230T205701Z
UID:10005072-1816369200-1816380000@staging.tatesgaming.com
SUMMARY:Union Arena TCG
DESCRIPTION:Join us every Friday and Saturday at 7pm for our Union Arena weekly tournaments!
URL:https://staging.tatesgaming.com/event/union-arena-tcg/2027-07-23/
LOCATION:TATE’S Gaming Satellite\, 4580 N. University Drive\, Lauderhill\, FL\, 33351\, United States
CATEGORIES:Union Arena
ATTACH;FMTTYPE=image/png:https://staging.tatesgaming.com/wp-content/uploads/2025/12/unionarena-event.png
GEO:26.1823829;-80.2509514
X-APPLE-STRUCTURED-LOCATION;VALUE=URI;X-ADDRESS=TATE’S Gaming Satellite 4580 N. University Drive Lauderhill FL 33351 United States;X-APPLE-RADIUS=500;X-TITLE=4580 N. University Drive:geo:-80.2509514,26.1823829
END:VEVENT
BEGIN:VEVENT
DTSTART;TZID=America/New_York:20270724T190000
DTEND;TZID=America/New_York:20270724T220000
DTSTAMP:20260423T064722
CREATED:20251230T205701Z
LAST-MODIFIED:20251230T205701Z
UID:10005073-1816455600-1816466400@staging.tatesgaming.com
SUMMARY:Union Arena TCG
DESCRIPTION:Join us every Friday and Saturday at 7pm for our Union Arena weekly tournaments!
URL:https://staging.tatesgaming.com/event/union-arena-tcg/2027-07-24/
LOCATION:TATE’S Gaming Satellite\, 4580 N. University Drive\, Lauderhill\, FL\, 33351\, United States
CATEGORIES:Union Arena
ATTACH;FMTTYPE=image/png:https://staging.tatesgaming.com/wp-content/uploads/2025/12/unionarena-event.png
GEO:26.1823829;-80.2509514
X-APPLE-STRUCTURED-LOCATION;VALUE=URI;X-ADDRESS=TATE’S Gaming Satellite 4580 N. University Drive Lauderhill FL 33351 United States;X-APPLE-RADIUS=500;X-TITLE=4580 N. University Drive:geo:-80.2509514,26.1823829
END:VEVENT
BEGIN:VEVENT
DTSTART;TZID=America/New_York:20270730T190000
DTEND;TZID=America/New_York:20270730T220000
DTSTAMP:20260423T064722
CREATED:20251230T205701Z
LAST-MODIFIED:20251230T205701Z
UID:10005074-1816974000-1816984800@staging.tatesgaming.com
SUMMARY:Union Arena TCG
DESCRIPTION:Join us every Friday and Saturday at 7pm for our Union Arena weekly tournaments!
URL:https://staging.tatesgaming.com/event/union-arena-tcg/2027-07-30/
LOCATION:TATE’S Gaming Satellite\, 4580 N. University Drive\, Lauderhill\, FL\, 33351\, United States
CATEGORIES:Union Arena
ATTACH;FMTTYPE=image/png:https://staging.tatesgaming.com/wp-content/uploads/2025/12/unionarena-event.png
GEO:26.1823829;-80.2509514
X-APPLE-STRUCTURED-LOCATION;VALUE=URI;X-ADDRESS=TATE’S Gaming Satellite 4580 N. University Drive Lauderhill FL 33351 United States;X-APPLE-RADIUS=500;X-TITLE=4580 N. University Drive:geo:-80.2509514,26.1823829
END:VEVENT
BEGIN:VEVENT
DTSTART;TZID=America/New_York:20270731T190000
DTEND;TZID=America/New_York:20270731T220000
DTSTAMP:20260423T064722
CREATED:20251230T205701Z
LAST-MODIFIED:20251230T205701Z
UID:10005075-1817060400-1817071200@staging.tatesgaming.com
SUMMARY:Union Arena TCG
DESCRIPTION:Join us every Friday and Saturday at 7pm for our Union Arena weekly tournaments!
URL:https://staging.tatesgaming.com/event/union-arena-tcg/2027-07-31/
LOCATION:TATE’S Gaming Satellite\, 4580 N. University Drive\, Lauderhill\, FL\, 33351\, United States
CATEGORIES:Union Arena
ATTACH;FMTTYPE=image/png:https://staging.tatesgaming.com/wp-content/uploads/2025/12/unionarena-event.png
GEO:26.1823829;-80.2509514
X-APPLE-STRUCTURED-LOCATION;VALUE=URI;X-ADDRESS=TATE’S Gaming Satellite 4580 N. University Drive Lauderhill FL 33351 United States;X-APPLE-RADIUS=500;X-TITLE=4580 N. University Drive:geo:-80.2509514,26.1823829
END:VEVENT
END:VCALENDAR