BEGIN:VCALENDAR
VERSION:2.0
PRODID:-//Tate&#039;s Gaming Satellite - ECPv6.15.20//NONSGML v1.0//EN
CALSCALE:GREGORIAN
METHOD:PUBLISH
X-WR-CALNAME:Tate&#039;s Gaming Satellite
X-ORIGINAL-URL:https://staging.tatesgaming.com
X-WR-CALDESC:Events for Tate&#039;s Gaming Satellite
REFRESH-INTERVAL;VALUE=DURATION:PT1H
X-Robots-Tag:noindex
X-PUBLISHED-TTL:PT1H
BEGIN:VTIMEZONE
TZID:America/New_York
BEGIN:DAYLIGHT
TZOFFSETFROM:-0500
TZOFFSETTO:-0400
TZNAME:EDT
DTSTART:20260308T070000
END:DAYLIGHT
BEGIN:STANDARD
TZOFFSETFROM:-0400
TZOFFSETTO:-0500
TZNAME:EST
DTSTART:20261101T060000
END:STANDARD
BEGIN:DAYLIGHT
TZOFFSETFROM:-0500
TZOFFSETTO:-0400
TZNAME:EDT
DTSTART:20270314T070000
END:DAYLIGHT
BEGIN:STANDARD
TZOFFSETFROM:-0400
TZOFFSETTO:-0500
TZNAME:EST
DTSTART:20271107T060000
END:STANDARD
BEGIN:DAYLIGHT
TZOFFSETFROM:-0500
TZOFFSETTO:-0400
TZNAME:EDT
DTSTART:20280312T070000
END:DAYLIGHT
BEGIN:STANDARD
TZOFFSETFROM:-0400
TZOFFSETTO:-0500
TZNAME:EST
DTSTART:20281105T060000
END:STANDARD
END:VTIMEZONE
BEGIN:VEVENT
DTSTART;TZID=America/New_York:20271105T190000
DTEND;TZID=America/New_York:20271105T220000
DTSTAMP:20260423T131952
CREATED:20251230T205701Z
LAST-MODIFIED:20251230T205701Z
UID:10005102-1825441200-1825452000@staging.tatesgaming.com
SUMMARY:Union Arena TCG
DESCRIPTION:Join us every Friday and Saturday at 7pm for our Union Arena weekly tournaments!
URL:https://staging.tatesgaming.com/event/union-arena-tcg/2027-11-05/
LOCATION:TATE’S Gaming Satellite\, 4580 N. University Drive\, Lauderhill\, FL\, 33351\, United States
CATEGORIES:Union Arena
ATTACH;FMTTYPE=image/png:https://staging.tatesgaming.com/wp-content/uploads/2025/12/unionarena-event.png
GEO:26.1823829;-80.2509514
X-APPLE-STRUCTURED-LOCATION;VALUE=URI;X-ADDRESS=TATE’S Gaming Satellite 4580 N. University Drive Lauderhill FL 33351 United States;X-APPLE-RADIUS=500;X-TITLE=4580 N. University Drive:geo:-80.2509514,26.1823829
END:VEVENT
BEGIN:VEVENT
DTSTART;TZID=America/New_York:20271106T190000
DTEND;TZID=America/New_York:20271106T220000
DTSTAMP:20260423T131952
CREATED:20251230T205701Z
LAST-MODIFIED:20251230T205701Z
UID:10005103-1825527600-1825538400@staging.tatesgaming.com
SUMMARY:Union Arena TCG
DESCRIPTION:Join us every Friday and Saturday at 7pm for our Union Arena weekly tournaments!
URL:https://staging.tatesgaming.com/event/union-arena-tcg/2027-11-06/
LOCATION:TATE’S Gaming Satellite\, 4580 N. University Drive\, Lauderhill\, FL\, 33351\, United States
CATEGORIES:Union Arena
ATTACH;FMTTYPE=image/png:https://staging.tatesgaming.com/wp-content/uploads/2025/12/unionarena-event.png
GEO:26.1823829;-80.2509514
X-APPLE-STRUCTURED-LOCATION;VALUE=URI;X-ADDRESS=TATE’S Gaming Satellite 4580 N. University Drive Lauderhill FL 33351 United States;X-APPLE-RADIUS=500;X-TITLE=4580 N. University Drive:geo:-80.2509514,26.1823829
END:VEVENT
BEGIN:VEVENT
DTSTART;TZID=America/New_York:20271112T190000
DTEND;TZID=America/New_York:20271112T220000
DTSTAMP:20260423T131952
CREATED:20251230T205701Z
LAST-MODIFIED:20251230T205701Z
UID:10005104-1826046000-1826056800@staging.tatesgaming.com
SUMMARY:Union Arena TCG
DESCRIPTION:Join us every Friday and Saturday at 7pm for our Union Arena weekly tournaments!
URL:https://staging.tatesgaming.com/event/union-arena-tcg/2027-11-12/
LOCATION:TATE’S Gaming Satellite\, 4580 N. University Drive\, Lauderhill\, FL\, 33351\, United States
CATEGORIES:Union Arena
ATTACH;FMTTYPE=image/png:https://staging.tatesgaming.com/wp-content/uploads/2025/12/unionarena-event.png
GEO:26.1823829;-80.2509514
X-APPLE-STRUCTURED-LOCATION;VALUE=URI;X-ADDRESS=TATE’S Gaming Satellite 4580 N. University Drive Lauderhill FL 33351 United States;X-APPLE-RADIUS=500;X-TITLE=4580 N. University Drive:geo:-80.2509514,26.1823829
END:VEVENT
BEGIN:VEVENT
DTSTART;TZID=America/New_York:20271113T190000
DTEND;TZID=America/New_York:20271113T220000
DTSTAMP:20260423T131952
CREATED:20251230T205701Z
LAST-MODIFIED:20251230T205701Z
UID:10005105-1826132400-1826143200@staging.tatesgaming.com
SUMMARY:Union Arena TCG
DESCRIPTION:Join us every Friday and Saturday at 7pm for our Union Arena weekly tournaments!
URL:https://staging.tatesgaming.com/event/union-arena-tcg/2027-11-13/
LOCATION:TATE’S Gaming Satellite\, 4580 N. University Drive\, Lauderhill\, FL\, 33351\, United States
CATEGORIES:Union Arena
ATTACH;FMTTYPE=image/png:https://staging.tatesgaming.com/wp-content/uploads/2025/12/unionarena-event.png
GEO:26.1823829;-80.2509514
X-APPLE-STRUCTURED-LOCATION;VALUE=URI;X-ADDRESS=TATE’S Gaming Satellite 4580 N. University Drive Lauderhill FL 33351 United States;X-APPLE-RADIUS=500;X-TITLE=4580 N. University Drive:geo:-80.2509514,26.1823829
END:VEVENT
BEGIN:VEVENT
DTSTART;TZID=America/New_York:20271119T190000
DTEND;TZID=America/New_York:20271119T220000
DTSTAMP:20260423T131952
CREATED:20251230T205701Z
LAST-MODIFIED:20251230T205701Z
UID:10005106-1826650800-1826661600@staging.tatesgaming.com
SUMMARY:Union Arena TCG
DESCRIPTION:Join us every Friday and Saturday at 7pm for our Union Arena weekly tournaments!
URL:https://staging.tatesgaming.com/event/union-arena-tcg/2027-11-19/
LOCATION:TATE’S Gaming Satellite\, 4580 N. University Drive\, Lauderhill\, FL\, 33351\, United States
CATEGORIES:Union Arena
ATTACH;FMTTYPE=image/png:https://staging.tatesgaming.com/wp-content/uploads/2025/12/unionarena-event.png
GEO:26.1823829;-80.2509514
X-APPLE-STRUCTURED-LOCATION;VALUE=URI;X-ADDRESS=TATE’S Gaming Satellite 4580 N. University Drive Lauderhill FL 33351 United States;X-APPLE-RADIUS=500;X-TITLE=4580 N. University Drive:geo:-80.2509514,26.1823829
END:VEVENT
BEGIN:VEVENT
DTSTART;TZID=America/New_York:20271120T190000
DTEND;TZID=America/New_York:20271120T220000
DTSTAMP:20260423T131952
CREATED:20251230T205701Z
LAST-MODIFIED:20251230T205701Z
UID:10005107-1826737200-1826748000@staging.tatesgaming.com
SUMMARY:Union Arena TCG
DESCRIPTION:Join us every Friday and Saturday at 7pm for our Union Arena weekly tournaments!
URL:https://staging.tatesgaming.com/event/union-arena-tcg/2027-11-20/
LOCATION:TATE’S Gaming Satellite\, 4580 N. University Drive\, Lauderhill\, FL\, 33351\, United States
CATEGORIES:Union Arena
ATTACH;FMTTYPE=image/png:https://staging.tatesgaming.com/wp-content/uploads/2025/12/unionarena-event.png
GEO:26.1823829;-80.2509514
X-APPLE-STRUCTURED-LOCATION;VALUE=URI;X-ADDRESS=TATE’S Gaming Satellite 4580 N. University Drive Lauderhill FL 33351 United States;X-APPLE-RADIUS=500;X-TITLE=4580 N. University Drive:geo:-80.2509514,26.1823829
END:VEVENT
BEGIN:VEVENT
DTSTART;TZID=America/New_York:20271126T190000
DTEND;TZID=America/New_York:20271126T220000
DTSTAMP:20260423T131952
CREATED:20251230T205701Z
LAST-MODIFIED:20251230T205701Z
UID:10005108-1827255600-1827266400@staging.tatesgaming.com
SUMMARY:Union Arena TCG
DESCRIPTION:Join us every Friday and Saturday at 7pm for our Union Arena weekly tournaments!
URL:https://staging.tatesgaming.com/event/union-arena-tcg/2027-11-26/
LOCATION:TATE’S Gaming Satellite\, 4580 N. University Drive\, Lauderhill\, FL\, 33351\, United States
CATEGORIES:Union Arena
ATTACH;FMTTYPE=image/png:https://staging.tatesgaming.com/wp-content/uploads/2025/12/unionarena-event.png
GEO:26.1823829;-80.2509514
X-APPLE-STRUCTURED-LOCATION;VALUE=URI;X-ADDRESS=TATE’S Gaming Satellite 4580 N. University Drive Lauderhill FL 33351 United States;X-APPLE-RADIUS=500;X-TITLE=4580 N. University Drive:geo:-80.2509514,26.1823829
END:VEVENT
BEGIN:VEVENT
DTSTART;TZID=America/New_York:20271127T190000
DTEND;TZID=America/New_York:20271127T220000
DTSTAMP:20260423T131952
CREATED:20251230T205701Z
LAST-MODIFIED:20251230T205701Z
UID:10005109-1827342000-1827352800@staging.tatesgaming.com
SUMMARY:Union Arena TCG
DESCRIPTION:Join us every Friday and Saturday at 7pm for our Union Arena weekly tournaments!
URL:https://staging.tatesgaming.com/event/union-arena-tcg/2027-11-27/
LOCATION:TATE’S Gaming Satellite\, 4580 N. University Drive\, Lauderhill\, FL\, 33351\, United States
CATEGORIES:Union Arena
ATTACH;FMTTYPE=image/png:https://staging.tatesgaming.com/wp-content/uploads/2025/12/unionarena-event.png
GEO:26.1823829;-80.2509514
X-APPLE-STRUCTURED-LOCATION;VALUE=URI;X-ADDRESS=TATE’S Gaming Satellite 4580 N. University Drive Lauderhill FL 33351 United States;X-APPLE-RADIUS=500;X-TITLE=4580 N. University Drive:geo:-80.2509514,26.1823829
END:VEVENT
END:VCALENDAR