BEGIN:VCALENDAR
VERSION:2.0
PRODID:-//Tate&#039;s Gaming Satellite - ECPv6.15.20//NONSGML v1.0//EN
CALSCALE:GREGORIAN
METHOD:PUBLISH
X-WR-CALNAME:Tate&#039;s Gaming Satellite
X-ORIGINAL-URL:https://staging.tatesgaming.com
X-WR-CALDESC:Events for Tate&#039;s Gaming Satellite
REFRESH-INTERVAL;VALUE=DURATION:PT1H
X-Robots-Tag:noindex
X-PUBLISHED-TTL:PT1H
BEGIN:VTIMEZONE
TZID:America/New_York
BEGIN:DAYLIGHT
TZOFFSETFROM:-0500
TZOFFSETTO:-0400
TZNAME:EDT
DTSTART:20280312T070000
END:DAYLIGHT
BEGIN:STANDARD
TZOFFSETFROM:-0400
TZOFFSETTO:-0500
TZNAME:EST
DTSTART:20281105T060000
END:STANDARD
BEGIN:DAYLIGHT
TZOFFSETFROM:-0500
TZOFFSETTO:-0400
TZNAME:EDT
DTSTART:20290311T070000
END:DAYLIGHT
BEGIN:STANDARD
TZOFFSETFROM:-0400
TZOFFSETTO:-0500
TZNAME:EST
DTSTART:20291104T060000
END:STANDARD
BEGIN:DAYLIGHT
TZOFFSETFROM:-0500
TZOFFSETTO:-0400
TZNAME:EDT
DTSTART:20300310T070000
END:DAYLIGHT
BEGIN:STANDARD
TZOFFSETFROM:-0400
TZOFFSETTO:-0500
TZNAME:EST
DTSTART:20301103T060000
END:STANDARD
END:VTIMEZONE
BEGIN:VEVENT
DTSTART;TZID=America/New_York:20290105T190000
DTEND;TZID=America/New_York:20290105T220000
DTSTAMP:20260424T145416
CREATED:20251230T205701Z
LAST-MODIFIED:20251230T205701Z
UID:10005224-1862334000-1862344800@staging.tatesgaming.com
SUMMARY:Union Arena TCG
DESCRIPTION:Join us every Friday and Saturday at 7pm for our Union Arena weekly tournaments!
URL:https://staging.tatesgaming.com/event/union-arena-tcg/2029-01-05/
LOCATION:TATE’S Gaming Satellite\, 4580 N. University Drive\, Lauderhill\, FL\, 33351\, United States
CATEGORIES:Union Arena
ATTACH;FMTTYPE=image/png:https://staging.tatesgaming.com/wp-content/uploads/2025/12/unionarena-event.png
GEO:26.1823829;-80.2509514
X-APPLE-STRUCTURED-LOCATION;VALUE=URI;X-ADDRESS=TATE’S Gaming Satellite 4580 N. University Drive Lauderhill FL 33351 United States;X-APPLE-RADIUS=500;X-TITLE=4580 N. University Drive:geo:-80.2509514,26.1823829
END:VEVENT
BEGIN:VEVENT
DTSTART;TZID=America/New_York:20290106T190000
DTEND;TZID=America/New_York:20290106T220000
DTSTAMP:20260424T145416
CREATED:20251230T205701Z
LAST-MODIFIED:20251230T205701Z
UID:10005225-1862420400-1862431200@staging.tatesgaming.com
SUMMARY:Union Arena TCG
DESCRIPTION:Join us every Friday and Saturday at 7pm for our Union Arena weekly tournaments!
URL:https://staging.tatesgaming.com/event/union-arena-tcg/2029-01-06/
LOCATION:TATE’S Gaming Satellite\, 4580 N. University Drive\, Lauderhill\, FL\, 33351\, United States
CATEGORIES:Union Arena
ATTACH;FMTTYPE=image/png:https://staging.tatesgaming.com/wp-content/uploads/2025/12/unionarena-event.png
GEO:26.1823829;-80.2509514
X-APPLE-STRUCTURED-LOCATION;VALUE=URI;X-ADDRESS=TATE’S Gaming Satellite 4580 N. University Drive Lauderhill FL 33351 United States;X-APPLE-RADIUS=500;X-TITLE=4580 N. University Drive:geo:-80.2509514,26.1823829
END:VEVENT
BEGIN:VEVENT
DTSTART;TZID=America/New_York:20290112T190000
DTEND;TZID=America/New_York:20290112T220000
DTSTAMP:20260424T145416
CREATED:20251230T205701Z
LAST-MODIFIED:20251230T205701Z
UID:10005226-1862938800-1862949600@staging.tatesgaming.com
SUMMARY:Union Arena TCG
DESCRIPTION:Join us every Friday and Saturday at 7pm for our Union Arena weekly tournaments!
URL:https://staging.tatesgaming.com/event/union-arena-tcg/2029-01-12/
LOCATION:TATE’S Gaming Satellite\, 4580 N. University Drive\, Lauderhill\, FL\, 33351\, United States
CATEGORIES:Union Arena
ATTACH;FMTTYPE=image/png:https://staging.tatesgaming.com/wp-content/uploads/2025/12/unionarena-event.png
GEO:26.1823829;-80.2509514
X-APPLE-STRUCTURED-LOCATION;VALUE=URI;X-ADDRESS=TATE’S Gaming Satellite 4580 N. University Drive Lauderhill FL 33351 United States;X-APPLE-RADIUS=500;X-TITLE=4580 N. University Drive:geo:-80.2509514,26.1823829
END:VEVENT
BEGIN:VEVENT
DTSTART;TZID=America/New_York:20290113T190000
DTEND;TZID=America/New_York:20290113T220000
DTSTAMP:20260424T145416
CREATED:20251230T205701Z
LAST-MODIFIED:20251230T205701Z
UID:10005227-1863025200-1863036000@staging.tatesgaming.com
SUMMARY:Union Arena TCG
DESCRIPTION:Join us every Friday and Saturday at 7pm for our Union Arena weekly tournaments!
URL:https://staging.tatesgaming.com/event/union-arena-tcg/2029-01-13/
LOCATION:TATE’S Gaming Satellite\, 4580 N. University Drive\, Lauderhill\, FL\, 33351\, United States
CATEGORIES:Union Arena
ATTACH;FMTTYPE=image/png:https://staging.tatesgaming.com/wp-content/uploads/2025/12/unionarena-event.png
GEO:26.1823829;-80.2509514
X-APPLE-STRUCTURED-LOCATION;VALUE=URI;X-ADDRESS=TATE’S Gaming Satellite 4580 N. University Drive Lauderhill FL 33351 United States;X-APPLE-RADIUS=500;X-TITLE=4580 N. University Drive:geo:-80.2509514,26.1823829
END:VEVENT
BEGIN:VEVENT
DTSTART;TZID=America/New_York:20290119T190000
DTEND;TZID=America/New_York:20290119T220000
DTSTAMP:20260424T145416
CREATED:20251230T205701Z
LAST-MODIFIED:20251230T205701Z
UID:10005228-1863543600-1863554400@staging.tatesgaming.com
SUMMARY:Union Arena TCG
DESCRIPTION:Join us every Friday and Saturday at 7pm for our Union Arena weekly tournaments!
URL:https://staging.tatesgaming.com/event/union-arena-tcg/2029-01-19/
LOCATION:TATE’S Gaming Satellite\, 4580 N. University Drive\, Lauderhill\, FL\, 33351\, United States
CATEGORIES:Union Arena
ATTACH;FMTTYPE=image/png:https://staging.tatesgaming.com/wp-content/uploads/2025/12/unionarena-event.png
GEO:26.1823829;-80.2509514
X-APPLE-STRUCTURED-LOCATION;VALUE=URI;X-ADDRESS=TATE’S Gaming Satellite 4580 N. University Drive Lauderhill FL 33351 United States;X-APPLE-RADIUS=500;X-TITLE=4580 N. University Drive:geo:-80.2509514,26.1823829
END:VEVENT
BEGIN:VEVENT
DTSTART;TZID=America/New_York:20290120T190000
DTEND;TZID=America/New_York:20290120T220000
DTSTAMP:20260424T145416
CREATED:20251230T205701Z
LAST-MODIFIED:20251230T205701Z
UID:10005229-1863630000-1863640800@staging.tatesgaming.com
SUMMARY:Union Arena TCG
DESCRIPTION:Join us every Friday and Saturday at 7pm for our Union Arena weekly tournaments!
URL:https://staging.tatesgaming.com/event/union-arena-tcg/2029-01-20/
LOCATION:TATE’S Gaming Satellite\, 4580 N. University Drive\, Lauderhill\, FL\, 33351\, United States
CATEGORIES:Union Arena
ATTACH;FMTTYPE=image/png:https://staging.tatesgaming.com/wp-content/uploads/2025/12/unionarena-event.png
GEO:26.1823829;-80.2509514
X-APPLE-STRUCTURED-LOCATION;VALUE=URI;X-ADDRESS=TATE’S Gaming Satellite 4580 N. University Drive Lauderhill FL 33351 United States;X-APPLE-RADIUS=500;X-TITLE=4580 N. University Drive:geo:-80.2509514,26.1823829
END:VEVENT
BEGIN:VEVENT
DTSTART;TZID=America/New_York:20290126T190000
DTEND;TZID=America/New_York:20290126T220000
DTSTAMP:20260424T145416
CREATED:20251230T205701Z
LAST-MODIFIED:20251230T205701Z
UID:10005230-1864148400-1864159200@staging.tatesgaming.com
SUMMARY:Union Arena TCG
DESCRIPTION:Join us every Friday and Saturday at 7pm for our Union Arena weekly tournaments!
URL:https://staging.tatesgaming.com/event/union-arena-tcg/2029-01-26/
LOCATION:TATE’S Gaming Satellite\, 4580 N. University Drive\, Lauderhill\, FL\, 33351\, United States
CATEGORIES:Union Arena
ATTACH;FMTTYPE=image/png:https://staging.tatesgaming.com/wp-content/uploads/2025/12/unionarena-event.png
GEO:26.1823829;-80.2509514
X-APPLE-STRUCTURED-LOCATION;VALUE=URI;X-ADDRESS=TATE’S Gaming Satellite 4580 N. University Drive Lauderhill FL 33351 United States;X-APPLE-RADIUS=500;X-TITLE=4580 N. University Drive:geo:-80.2509514,26.1823829
END:VEVENT
BEGIN:VEVENT
DTSTART;TZID=America/New_York:20290127T190000
DTEND;TZID=America/New_York:20290127T220000
DTSTAMP:20260424T145416
CREATED:20251230T205701Z
LAST-MODIFIED:20251230T205701Z
UID:10005231-1864234800-1864245600@staging.tatesgaming.com
SUMMARY:Union Arena TCG
DESCRIPTION:Join us every Friday and Saturday at 7pm for our Union Arena weekly tournaments!
URL:https://staging.tatesgaming.com/event/union-arena-tcg/2029-01-27/
LOCATION:TATE’S Gaming Satellite\, 4580 N. University Drive\, Lauderhill\, FL\, 33351\, United States
CATEGORIES:Union Arena
ATTACH;FMTTYPE=image/png:https://staging.tatesgaming.com/wp-content/uploads/2025/12/unionarena-event.png
GEO:26.1823829;-80.2509514
X-APPLE-STRUCTURED-LOCATION;VALUE=URI;X-ADDRESS=TATE’S Gaming Satellite 4580 N. University Drive Lauderhill FL 33351 United States;X-APPLE-RADIUS=500;X-TITLE=4580 N. University Drive:geo:-80.2509514,26.1823829
END:VEVENT
END:VCALENDAR