BEGIN:VCALENDAR
VERSION:2.0
PRODID:-//Tate&#039;s Gaming Satellite - ECPv6.15.20//NONSGML v1.0//EN
CALSCALE:GREGORIAN
METHOD:PUBLISH
X-ORIGINAL-URL:https://staging.tatesgaming.com
X-WR-CALDESC:Events for Tate&#039;s Gaming Satellite
REFRESH-INTERVAL;VALUE=DURATION:PT1H
X-Robots-Tag:noindex
X-PUBLISHED-TTL:PT1H
BEGIN:VTIMEZONE
TZID:America/New_York
BEGIN:DAYLIGHT
TZOFFSETFROM:-0500
TZOFFSETTO:-0400
TZNAME:EDT
DTSTART:20270314T070000
END:DAYLIGHT
BEGIN:STANDARD
TZOFFSETFROM:-0400
TZOFFSETTO:-0500
TZNAME:EST
DTSTART:20271107T060000
END:STANDARD
BEGIN:DAYLIGHT
TZOFFSETFROM:-0500
TZOFFSETTO:-0400
TZNAME:EDT
DTSTART:20280312T070000
END:DAYLIGHT
BEGIN:STANDARD
TZOFFSETFROM:-0400
TZOFFSETTO:-0500
TZNAME:EST
DTSTART:20281105T060000
END:STANDARD
BEGIN:DAYLIGHT
TZOFFSETFROM:-0500
TZOFFSETTO:-0400
TZNAME:EDT
DTSTART:20290311T070000
END:DAYLIGHT
BEGIN:STANDARD
TZOFFSETFROM:-0400
TZOFFSETTO:-0500
TZNAME:EST
DTSTART:20291104T060000
END:STANDARD
END:VTIMEZONE
BEGIN:VEVENT
DTSTART;TZID=America/New_York:20280428T190000
DTEND;TZID=America/New_York:20280428T220000
DTSTAMP:20260423T184001
CREATED:20251230T205701Z
LAST-MODIFIED:20251230T205701Z
UID:10005152-1840561200-1840572000@staging.tatesgaming.com
SUMMARY:Union Arena TCG
DESCRIPTION:Join us every Friday and Saturday at 7pm for our Union Arena weekly tournaments!
URL:https://staging.tatesgaming.com/event/union-arena-tcg/2028-04-28/
LOCATION:TATE’S Gaming Satellite\, 4580 N. University Drive\, Lauderhill\, FL\, 33351\, United States
CATEGORIES:Union Arena
ATTACH;FMTTYPE=image/png:https://staging.tatesgaming.com/wp-content/uploads/2025/12/unionarena-event.png
GEO:26.1823829;-80.2509514
X-APPLE-STRUCTURED-LOCATION;VALUE=URI;X-ADDRESS=TATE’S Gaming Satellite 4580 N. University Drive Lauderhill FL 33351 United States;X-APPLE-RADIUS=500;X-TITLE=4580 N. University Drive:geo:-80.2509514,26.1823829
END:VEVENT
BEGIN:VEVENT
DTSTART;TZID=America/New_York:20280429T190000
DTEND;TZID=America/New_York:20280429T220000
DTSTAMP:20260423T184001
CREATED:20251230T205701Z
LAST-MODIFIED:20251230T205701Z
UID:10005153-1840647600-1840658400@staging.tatesgaming.com
SUMMARY:Union Arena TCG
DESCRIPTION:Join us every Friday and Saturday at 7pm for our Union Arena weekly tournaments!
URL:https://staging.tatesgaming.com/event/union-arena-tcg/2028-04-29/
LOCATION:TATE’S Gaming Satellite\, 4580 N. University Drive\, Lauderhill\, FL\, 33351\, United States
CATEGORIES:Union Arena
ATTACH;FMTTYPE=image/png:https://staging.tatesgaming.com/wp-content/uploads/2025/12/unionarena-event.png
GEO:26.1823829;-80.2509514
X-APPLE-STRUCTURED-LOCATION;VALUE=URI;X-ADDRESS=TATE’S Gaming Satellite 4580 N. University Drive Lauderhill FL 33351 United States;X-APPLE-RADIUS=500;X-TITLE=4580 N. University Drive:geo:-80.2509514,26.1823829
END:VEVENT
BEGIN:VEVENT
DTSTART;TZID=America/New_York:20280505T190000
DTEND;TZID=America/New_York:20280505T220000
DTSTAMP:20260423T184001
CREATED:20251230T205701Z
LAST-MODIFIED:20251230T205701Z
UID:10005154-1841166000-1841176800@staging.tatesgaming.com
SUMMARY:Union Arena TCG
DESCRIPTION:Join us every Friday and Saturday at 7pm for our Union Arena weekly tournaments!
URL:https://staging.tatesgaming.com/event/union-arena-tcg/2028-05-05/
LOCATION:TATE’S Gaming Satellite\, 4580 N. University Drive\, Lauderhill\, FL\, 33351\, United States
CATEGORIES:Union Arena
ATTACH;FMTTYPE=image/png:https://staging.tatesgaming.com/wp-content/uploads/2025/12/unionarena-event.png
GEO:26.1823829;-80.2509514
X-APPLE-STRUCTURED-LOCATION;VALUE=URI;X-ADDRESS=TATE’S Gaming Satellite 4580 N. University Drive Lauderhill FL 33351 United States;X-APPLE-RADIUS=500;X-TITLE=4580 N. University Drive:geo:-80.2509514,26.1823829
END:VEVENT
BEGIN:VEVENT
DTSTART;TZID=America/New_York:20280506T190000
DTEND;TZID=America/New_York:20280506T220000
DTSTAMP:20260423T184001
CREATED:20251230T205701Z
LAST-MODIFIED:20251230T205701Z
UID:10005155-1841252400-1841263200@staging.tatesgaming.com
SUMMARY:Union Arena TCG
DESCRIPTION:Join us every Friday and Saturday at 7pm for our Union Arena weekly tournaments!
URL:https://staging.tatesgaming.com/event/union-arena-tcg/2028-05-06/
LOCATION:TATE’S Gaming Satellite\, 4580 N. University Drive\, Lauderhill\, FL\, 33351\, United States
CATEGORIES:Union Arena
ATTACH;FMTTYPE=image/png:https://staging.tatesgaming.com/wp-content/uploads/2025/12/unionarena-event.png
GEO:26.1823829;-80.2509514
X-APPLE-STRUCTURED-LOCATION;VALUE=URI;X-ADDRESS=TATE’S Gaming Satellite 4580 N. University Drive Lauderhill FL 33351 United States;X-APPLE-RADIUS=500;X-TITLE=4580 N. University Drive:geo:-80.2509514,26.1823829
END:VEVENT
BEGIN:VEVENT
DTSTART;TZID=America/New_York:20280512T190000
DTEND;TZID=America/New_York:20280512T220000
DTSTAMP:20260423T184001
CREATED:20251230T205701Z
LAST-MODIFIED:20251230T205701Z
UID:10005156-1841770800-1841781600@staging.tatesgaming.com
SUMMARY:Union Arena TCG
DESCRIPTION:Join us every Friday and Saturday at 7pm for our Union Arena weekly tournaments!
URL:https://staging.tatesgaming.com/event/union-arena-tcg/2028-05-12/
LOCATION:TATE’S Gaming Satellite\, 4580 N. University Drive\, Lauderhill\, FL\, 33351\, United States
CATEGORIES:Union Arena
ATTACH;FMTTYPE=image/png:https://staging.tatesgaming.com/wp-content/uploads/2025/12/unionarena-event.png
GEO:26.1823829;-80.2509514
X-APPLE-STRUCTURED-LOCATION;VALUE=URI;X-ADDRESS=TATE’S Gaming Satellite 4580 N. University Drive Lauderhill FL 33351 United States;X-APPLE-RADIUS=500;X-TITLE=4580 N. University Drive:geo:-80.2509514,26.1823829
END:VEVENT
BEGIN:VEVENT
DTSTART;TZID=America/New_York:20280513T190000
DTEND;TZID=America/New_York:20280513T220000
DTSTAMP:20260423T184001
CREATED:20251230T205701Z
LAST-MODIFIED:20251230T205701Z
UID:10005157-1841857200-1841868000@staging.tatesgaming.com
SUMMARY:Union Arena TCG
DESCRIPTION:Join us every Friday and Saturday at 7pm for our Union Arena weekly tournaments!
URL:https://staging.tatesgaming.com/event/union-arena-tcg/2028-05-13/
LOCATION:TATE’S Gaming Satellite\, 4580 N. University Drive\, Lauderhill\, FL\, 33351\, United States
CATEGORIES:Union Arena
ATTACH;FMTTYPE=image/png:https://staging.tatesgaming.com/wp-content/uploads/2025/12/unionarena-event.png
GEO:26.1823829;-80.2509514
X-APPLE-STRUCTURED-LOCATION;VALUE=URI;X-ADDRESS=TATE’S Gaming Satellite 4580 N. University Drive Lauderhill FL 33351 United States;X-APPLE-RADIUS=500;X-TITLE=4580 N. University Drive:geo:-80.2509514,26.1823829
END:VEVENT
BEGIN:VEVENT
DTSTART;TZID=America/New_York:20280519T190000
DTEND;TZID=America/New_York:20280519T220000
DTSTAMP:20260423T184001
CREATED:20251230T205701Z
LAST-MODIFIED:20251230T205701Z
UID:10005158-1842375600-1842386400@staging.tatesgaming.com
SUMMARY:Union Arena TCG
DESCRIPTION:Join us every Friday and Saturday at 7pm for our Union Arena weekly tournaments!
URL:https://staging.tatesgaming.com/event/union-arena-tcg/2028-05-19/
LOCATION:TATE’S Gaming Satellite\, 4580 N. University Drive\, Lauderhill\, FL\, 33351\, United States
CATEGORIES:Union Arena
ATTACH;FMTTYPE=image/png:https://staging.tatesgaming.com/wp-content/uploads/2025/12/unionarena-event.png
GEO:26.1823829;-80.2509514
X-APPLE-STRUCTURED-LOCATION;VALUE=URI;X-ADDRESS=TATE’S Gaming Satellite 4580 N. University Drive Lauderhill FL 33351 United States;X-APPLE-RADIUS=500;X-TITLE=4580 N. University Drive:geo:-80.2509514,26.1823829
END:VEVENT
BEGIN:VEVENT
DTSTART;TZID=America/New_York:20280520T190000
DTEND;TZID=America/New_York:20280520T220000
DTSTAMP:20260423T184001
CREATED:20251230T205701Z
LAST-MODIFIED:20251230T205701Z
UID:10005159-1842462000-1842472800@staging.tatesgaming.com
SUMMARY:Union Arena TCG
DESCRIPTION:Join us every Friday and Saturday at 7pm for our Union Arena weekly tournaments!
URL:https://staging.tatesgaming.com/event/union-arena-tcg/2028-05-20/
LOCATION:TATE’S Gaming Satellite\, 4580 N. University Drive\, Lauderhill\, FL\, 33351\, United States
CATEGORIES:Union Arena
ATTACH;FMTTYPE=image/png:https://staging.tatesgaming.com/wp-content/uploads/2025/12/unionarena-event.png
GEO:26.1823829;-80.2509514
X-APPLE-STRUCTURED-LOCATION;VALUE=URI;X-ADDRESS=TATE’S Gaming Satellite 4580 N. University Drive Lauderhill FL 33351 United States;X-APPLE-RADIUS=500;X-TITLE=4580 N. University Drive:geo:-80.2509514,26.1823829
END:VEVENT
BEGIN:VEVENT
DTSTART;TZID=America/New_York:20280526T190000
DTEND;TZID=America/New_York:20280526T220000
DTSTAMP:20260423T184001
CREATED:20251230T205701Z
LAST-MODIFIED:20251230T205701Z
UID:10005160-1842980400-1842991200@staging.tatesgaming.com
SUMMARY:Union Arena TCG
DESCRIPTION:Join us every Friday and Saturday at 7pm for our Union Arena weekly tournaments!
URL:https://staging.tatesgaming.com/event/union-arena-tcg/2028-05-26/
LOCATION:TATE’S Gaming Satellite\, 4580 N. University Drive\, Lauderhill\, FL\, 33351\, United States
CATEGORIES:Union Arena
ATTACH;FMTTYPE=image/png:https://staging.tatesgaming.com/wp-content/uploads/2025/12/unionarena-event.png
GEO:26.1823829;-80.2509514
X-APPLE-STRUCTURED-LOCATION;VALUE=URI;X-ADDRESS=TATE’S Gaming Satellite 4580 N. University Drive Lauderhill FL 33351 United States;X-APPLE-RADIUS=500;X-TITLE=4580 N. University Drive:geo:-80.2509514,26.1823829
END:VEVENT
BEGIN:VEVENT
DTSTART;TZID=America/New_York:20280527T190000
DTEND;TZID=America/New_York:20280527T220000
DTSTAMP:20260423T184001
CREATED:20251230T205701Z
LAST-MODIFIED:20251230T205701Z
UID:10005161-1843066800-1843077600@staging.tatesgaming.com
SUMMARY:Union Arena TCG
DESCRIPTION:Join us every Friday and Saturday at 7pm for our Union Arena weekly tournaments!
URL:https://staging.tatesgaming.com/event/union-arena-tcg/2028-05-27/
LOCATION:TATE’S Gaming Satellite\, 4580 N. University Drive\, Lauderhill\, FL\, 33351\, United States
CATEGORIES:Union Arena
ATTACH;FMTTYPE=image/png:https://staging.tatesgaming.com/wp-content/uploads/2025/12/unionarena-event.png
GEO:26.1823829;-80.2509514
X-APPLE-STRUCTURED-LOCATION;VALUE=URI;X-ADDRESS=TATE’S Gaming Satellite 4580 N. University Drive Lauderhill FL 33351 United States;X-APPLE-RADIUS=500;X-TITLE=4580 N. University Drive:geo:-80.2509514,26.1823829
END:VEVENT
BEGIN:VEVENT
DTSTART;TZID=America/New_York:20280602T190000
DTEND;TZID=America/New_York:20280602T220000
DTSTAMP:20260423T184001
CREATED:20251230T205701Z
LAST-MODIFIED:20251230T205701Z
UID:10005162-1843585200-1843596000@staging.tatesgaming.com
SUMMARY:Union Arena TCG
DESCRIPTION:Join us every Friday and Saturday at 7pm for our Union Arena weekly tournaments!
URL:https://staging.tatesgaming.com/event/union-arena-tcg/2028-06-02/
LOCATION:TATE’S Gaming Satellite\, 4580 N. University Drive\, Lauderhill\, FL\, 33351\, United States
CATEGORIES:Union Arena
ATTACH;FMTTYPE=image/png:https://staging.tatesgaming.com/wp-content/uploads/2025/12/unionarena-event.png
GEO:26.1823829;-80.2509514
X-APPLE-STRUCTURED-LOCATION;VALUE=URI;X-ADDRESS=TATE’S Gaming Satellite 4580 N. University Drive Lauderhill FL 33351 United States;X-APPLE-RADIUS=500;X-TITLE=4580 N. University Drive:geo:-80.2509514,26.1823829
END:VEVENT
BEGIN:VEVENT
DTSTART;TZID=America/New_York:20280603T190000
DTEND;TZID=America/New_York:20280603T220000
DTSTAMP:20260423T184001
CREATED:20251230T205701Z
LAST-MODIFIED:20251230T205701Z
UID:10005163-1843671600-1843682400@staging.tatesgaming.com
SUMMARY:Union Arena TCG
DESCRIPTION:Join us every Friday and Saturday at 7pm for our Union Arena weekly tournaments!
URL:https://staging.tatesgaming.com/event/union-arena-tcg/2028-06-03/
LOCATION:TATE’S Gaming Satellite\, 4580 N. University Drive\, Lauderhill\, FL\, 33351\, United States
CATEGORIES:Union Arena
ATTACH;FMTTYPE=image/png:https://staging.tatesgaming.com/wp-content/uploads/2025/12/unionarena-event.png
GEO:26.1823829;-80.2509514
X-APPLE-STRUCTURED-LOCATION;VALUE=URI;X-ADDRESS=TATE’S Gaming Satellite 4580 N. University Drive Lauderhill FL 33351 United States;X-APPLE-RADIUS=500;X-TITLE=4580 N. University Drive:geo:-80.2509514,26.1823829
END:VEVENT
BEGIN:VEVENT
DTSTART;TZID=America/New_York:20280609T190000
DTEND;TZID=America/New_York:20280609T220000
DTSTAMP:20260423T184001
CREATED:20251230T205701Z
LAST-MODIFIED:20251230T205701Z
UID:10005164-1844190000-1844200800@staging.tatesgaming.com
SUMMARY:Union Arena TCG
DESCRIPTION:Join us every Friday and Saturday at 7pm for our Union Arena weekly tournaments!
URL:https://staging.tatesgaming.com/event/union-arena-tcg/2028-06-09/
LOCATION:TATE’S Gaming Satellite\, 4580 N. University Drive\, Lauderhill\, FL\, 33351\, United States
CATEGORIES:Union Arena
ATTACH;FMTTYPE=image/png:https://staging.tatesgaming.com/wp-content/uploads/2025/12/unionarena-event.png
GEO:26.1823829;-80.2509514
X-APPLE-STRUCTURED-LOCATION;VALUE=URI;X-ADDRESS=TATE’S Gaming Satellite 4580 N. University Drive Lauderhill FL 33351 United States;X-APPLE-RADIUS=500;X-TITLE=4580 N. University Drive:geo:-80.2509514,26.1823829
END:VEVENT
BEGIN:VEVENT
DTSTART;TZID=America/New_York:20280610T190000
DTEND;TZID=America/New_York:20280610T220000
DTSTAMP:20260423T184001
CREATED:20251230T205701Z
LAST-MODIFIED:20251230T205701Z
UID:10005165-1844276400-1844287200@staging.tatesgaming.com
SUMMARY:Union Arena TCG
DESCRIPTION:Join us every Friday and Saturday at 7pm for our Union Arena weekly tournaments!
URL:https://staging.tatesgaming.com/event/union-arena-tcg/2028-06-10/
LOCATION:TATE’S Gaming Satellite\, 4580 N. University Drive\, Lauderhill\, FL\, 33351\, United States
CATEGORIES:Union Arena
ATTACH;FMTTYPE=image/png:https://staging.tatesgaming.com/wp-content/uploads/2025/12/unionarena-event.png
GEO:26.1823829;-80.2509514
X-APPLE-STRUCTURED-LOCATION;VALUE=URI;X-ADDRESS=TATE’S Gaming Satellite 4580 N. University Drive Lauderhill FL 33351 United States;X-APPLE-RADIUS=500;X-TITLE=4580 N. University Drive:geo:-80.2509514,26.1823829
END:VEVENT
BEGIN:VEVENT
DTSTART;TZID=America/New_York:20280616T190000
DTEND;TZID=America/New_York:20280616T220000
DTSTAMP:20260423T184001
CREATED:20251230T205701Z
LAST-MODIFIED:20251230T205701Z
UID:10005166-1844794800-1844805600@staging.tatesgaming.com
SUMMARY:Union Arena TCG
DESCRIPTION:Join us every Friday and Saturday at 7pm for our Union Arena weekly tournaments!
URL:https://staging.tatesgaming.com/event/union-arena-tcg/2028-06-16/
LOCATION:TATE’S Gaming Satellite\, 4580 N. University Drive\, Lauderhill\, FL\, 33351\, United States
CATEGORIES:Union Arena
ATTACH;FMTTYPE=image/png:https://staging.tatesgaming.com/wp-content/uploads/2025/12/unionarena-event.png
GEO:26.1823829;-80.2509514
X-APPLE-STRUCTURED-LOCATION;VALUE=URI;X-ADDRESS=TATE’S Gaming Satellite 4580 N. University Drive Lauderhill FL 33351 United States;X-APPLE-RADIUS=500;X-TITLE=4580 N. University Drive:geo:-80.2509514,26.1823829
END:VEVENT
BEGIN:VEVENT
DTSTART;TZID=America/New_York:20280617T190000
DTEND;TZID=America/New_York:20280617T220000
DTSTAMP:20260423T184001
CREATED:20251230T205701Z
LAST-MODIFIED:20251230T205701Z
UID:10005167-1844881200-1844892000@staging.tatesgaming.com
SUMMARY:Union Arena TCG
DESCRIPTION:Join us every Friday and Saturday at 7pm for our Union Arena weekly tournaments!
URL:https://staging.tatesgaming.com/event/union-arena-tcg/2028-06-17/
LOCATION:TATE’S Gaming Satellite\, 4580 N. University Drive\, Lauderhill\, FL\, 33351\, United States
CATEGORIES:Union Arena
ATTACH;FMTTYPE=image/png:https://staging.tatesgaming.com/wp-content/uploads/2025/12/unionarena-event.png
GEO:26.1823829;-80.2509514
X-APPLE-STRUCTURED-LOCATION;VALUE=URI;X-ADDRESS=TATE’S Gaming Satellite 4580 N. University Drive Lauderhill FL 33351 United States;X-APPLE-RADIUS=500;X-TITLE=4580 N. University Drive:geo:-80.2509514,26.1823829
END:VEVENT
BEGIN:VEVENT
DTSTART;TZID=America/New_York:20280623T190000
DTEND;TZID=America/New_York:20280623T220000
DTSTAMP:20260423T184001
CREATED:20251230T205701Z
LAST-MODIFIED:20251230T205701Z
UID:10005168-1845399600-1845410400@staging.tatesgaming.com
SUMMARY:Union Arena TCG
DESCRIPTION:Join us every Friday and Saturday at 7pm for our Union Arena weekly tournaments!
URL:https://staging.tatesgaming.com/event/union-arena-tcg/2028-06-23/
LOCATION:TATE’S Gaming Satellite\, 4580 N. University Drive\, Lauderhill\, FL\, 33351\, United States
CATEGORIES:Union Arena
ATTACH;FMTTYPE=image/png:https://staging.tatesgaming.com/wp-content/uploads/2025/12/unionarena-event.png
GEO:26.1823829;-80.2509514
X-APPLE-STRUCTURED-LOCATION;VALUE=URI;X-ADDRESS=TATE’S Gaming Satellite 4580 N. University Drive Lauderhill FL 33351 United States;X-APPLE-RADIUS=500;X-TITLE=4580 N. University Drive:geo:-80.2509514,26.1823829
END:VEVENT
BEGIN:VEVENT
DTSTART;TZID=America/New_York:20280624T190000
DTEND;TZID=America/New_York:20280624T220000
DTSTAMP:20260423T184001
CREATED:20251230T205701Z
LAST-MODIFIED:20251230T205701Z
UID:10005169-1845486000-1845496800@staging.tatesgaming.com
SUMMARY:Union Arena TCG
DESCRIPTION:Join us every Friday and Saturday at 7pm for our Union Arena weekly tournaments!
URL:https://staging.tatesgaming.com/event/union-arena-tcg/2028-06-24/
LOCATION:TATE’S Gaming Satellite\, 4580 N. University Drive\, Lauderhill\, FL\, 33351\, United States
CATEGORIES:Union Arena
ATTACH;FMTTYPE=image/png:https://staging.tatesgaming.com/wp-content/uploads/2025/12/unionarena-event.png
GEO:26.1823829;-80.2509514
X-APPLE-STRUCTURED-LOCATION;VALUE=URI;X-ADDRESS=TATE’S Gaming Satellite 4580 N. University Drive Lauderhill FL 33351 United States;X-APPLE-RADIUS=500;X-TITLE=4580 N. University Drive:geo:-80.2509514,26.1823829
END:VEVENT
BEGIN:VEVENT
DTSTART;TZID=America/New_York:20280630T190000
DTEND;TZID=America/New_York:20280630T220000
DTSTAMP:20260423T184001
CREATED:20251230T205701Z
LAST-MODIFIED:20251230T205701Z
UID:10005170-1846004400-1846015200@staging.tatesgaming.com
SUMMARY:Union Arena TCG
DESCRIPTION:Join us every Friday and Saturday at 7pm for our Union Arena weekly tournaments!
URL:https://staging.tatesgaming.com/event/union-arena-tcg/2028-06-30/
LOCATION:TATE’S Gaming Satellite\, 4580 N. University Drive\, Lauderhill\, FL\, 33351\, United States
CATEGORIES:Union Arena
ATTACH;FMTTYPE=image/png:https://staging.tatesgaming.com/wp-content/uploads/2025/12/unionarena-event.png
GEO:26.1823829;-80.2509514
X-APPLE-STRUCTURED-LOCATION;VALUE=URI;X-ADDRESS=TATE’S Gaming Satellite 4580 N. University Drive Lauderhill FL 33351 United States;X-APPLE-RADIUS=500;X-TITLE=4580 N. University Drive:geo:-80.2509514,26.1823829
END:VEVENT
BEGIN:VEVENT
DTSTART;TZID=America/New_York:20280701T190000
DTEND;TZID=America/New_York:20280701T220000
DTSTAMP:20260423T184001
CREATED:20251230T205701Z
LAST-MODIFIED:20251230T205701Z
UID:10005171-1846090800-1846101600@staging.tatesgaming.com
SUMMARY:Union Arena TCG
DESCRIPTION:Join us every Friday and Saturday at 7pm for our Union Arena weekly tournaments!
URL:https://staging.tatesgaming.com/event/union-arena-tcg/2028-07-01/
LOCATION:TATE’S Gaming Satellite\, 4580 N. University Drive\, Lauderhill\, FL\, 33351\, United States
CATEGORIES:Union Arena
ATTACH;FMTTYPE=image/png:https://staging.tatesgaming.com/wp-content/uploads/2025/12/unionarena-event.png
GEO:26.1823829;-80.2509514
X-APPLE-STRUCTURED-LOCATION;VALUE=URI;X-ADDRESS=TATE’S Gaming Satellite 4580 N. University Drive Lauderhill FL 33351 United States;X-APPLE-RADIUS=500;X-TITLE=4580 N. University Drive:geo:-80.2509514,26.1823829
END:VEVENT
BEGIN:VEVENT
DTSTART;TZID=America/New_York:20280707T190000
DTEND;TZID=America/New_York:20280707T220000
DTSTAMP:20260423T184001
CREATED:20251230T205701Z
LAST-MODIFIED:20251230T205701Z
UID:10005172-1846609200-1846620000@staging.tatesgaming.com
SUMMARY:Union Arena TCG
DESCRIPTION:Join us every Friday and Saturday at 7pm for our Union Arena weekly tournaments!
URL:https://staging.tatesgaming.com/event/union-arena-tcg/2028-07-07/
LOCATION:TATE’S Gaming Satellite\, 4580 N. University Drive\, Lauderhill\, FL\, 33351\, United States
CATEGORIES:Union Arena
ATTACH;FMTTYPE=image/png:https://staging.tatesgaming.com/wp-content/uploads/2025/12/unionarena-event.png
GEO:26.1823829;-80.2509514
X-APPLE-STRUCTURED-LOCATION;VALUE=URI;X-ADDRESS=TATE’S Gaming Satellite 4580 N. University Drive Lauderhill FL 33351 United States;X-APPLE-RADIUS=500;X-TITLE=4580 N. University Drive:geo:-80.2509514,26.1823829
END:VEVENT
BEGIN:VEVENT
DTSTART;TZID=America/New_York:20280708T190000
DTEND;TZID=America/New_York:20280708T220000
DTSTAMP:20260423T184001
CREATED:20251230T205701Z
LAST-MODIFIED:20251230T205701Z
UID:10005173-1846695600-1846706400@staging.tatesgaming.com
SUMMARY:Union Arena TCG
DESCRIPTION:Join us every Friday and Saturday at 7pm for our Union Arena weekly tournaments!
URL:https://staging.tatesgaming.com/event/union-arena-tcg/2028-07-08/
LOCATION:TATE’S Gaming Satellite\, 4580 N. University Drive\, Lauderhill\, FL\, 33351\, United States
CATEGORIES:Union Arena
ATTACH;FMTTYPE=image/png:https://staging.tatesgaming.com/wp-content/uploads/2025/12/unionarena-event.png
GEO:26.1823829;-80.2509514
X-APPLE-STRUCTURED-LOCATION;VALUE=URI;X-ADDRESS=TATE’S Gaming Satellite 4580 N. University Drive Lauderhill FL 33351 United States;X-APPLE-RADIUS=500;X-TITLE=4580 N. University Drive:geo:-80.2509514,26.1823829
END:VEVENT
BEGIN:VEVENT
DTSTART;TZID=America/New_York:20280714T190000
DTEND;TZID=America/New_York:20280714T220000
DTSTAMP:20260423T184001
CREATED:20251230T205701Z
LAST-MODIFIED:20251230T205701Z
UID:10005174-1847214000-1847224800@staging.tatesgaming.com
SUMMARY:Union Arena TCG
DESCRIPTION:Join us every Friday and Saturday at 7pm for our Union Arena weekly tournaments!
URL:https://staging.tatesgaming.com/event/union-arena-tcg/2028-07-14/
LOCATION:TATE’S Gaming Satellite\, 4580 N. University Drive\, Lauderhill\, FL\, 33351\, United States
CATEGORIES:Union Arena
ATTACH;FMTTYPE=image/png:https://staging.tatesgaming.com/wp-content/uploads/2025/12/unionarena-event.png
GEO:26.1823829;-80.2509514
X-APPLE-STRUCTURED-LOCATION;VALUE=URI;X-ADDRESS=TATE’S Gaming Satellite 4580 N. University Drive Lauderhill FL 33351 United States;X-APPLE-RADIUS=500;X-TITLE=4580 N. University Drive:geo:-80.2509514,26.1823829
END:VEVENT
BEGIN:VEVENT
DTSTART;TZID=America/New_York:20280715T190000
DTEND;TZID=America/New_York:20280715T220000
DTSTAMP:20260423T184001
CREATED:20251230T205701Z
LAST-MODIFIED:20251230T205701Z
UID:10005175-1847300400-1847311200@staging.tatesgaming.com
SUMMARY:Union Arena TCG
DESCRIPTION:Join us every Friday and Saturday at 7pm for our Union Arena weekly tournaments!
URL:https://staging.tatesgaming.com/event/union-arena-tcg/2028-07-15/
LOCATION:TATE’S Gaming Satellite\, 4580 N. University Drive\, Lauderhill\, FL\, 33351\, United States
CATEGORIES:Union Arena
ATTACH;FMTTYPE=image/png:https://staging.tatesgaming.com/wp-content/uploads/2025/12/unionarena-event.png
GEO:26.1823829;-80.2509514
X-APPLE-STRUCTURED-LOCATION;VALUE=URI;X-ADDRESS=TATE’S Gaming Satellite 4580 N. University Drive Lauderhill FL 33351 United States;X-APPLE-RADIUS=500;X-TITLE=4580 N. University Drive:geo:-80.2509514,26.1823829
END:VEVENT
BEGIN:VEVENT
DTSTART;TZID=America/New_York:20280721T190000
DTEND;TZID=America/New_York:20280721T220000
DTSTAMP:20260423T184001
CREATED:20251230T205701Z
LAST-MODIFIED:20251230T205701Z
UID:10005176-1847818800-1847829600@staging.tatesgaming.com
SUMMARY:Union Arena TCG
DESCRIPTION:Join us every Friday and Saturday at 7pm for our Union Arena weekly tournaments!
URL:https://staging.tatesgaming.com/event/union-arena-tcg/2028-07-21/
LOCATION:TATE’S Gaming Satellite\, 4580 N. University Drive\, Lauderhill\, FL\, 33351\, United States
CATEGORIES:Union Arena
ATTACH;FMTTYPE=image/png:https://staging.tatesgaming.com/wp-content/uploads/2025/12/unionarena-event.png
GEO:26.1823829;-80.2509514
X-APPLE-STRUCTURED-LOCATION;VALUE=URI;X-ADDRESS=TATE’S Gaming Satellite 4580 N. University Drive Lauderhill FL 33351 United States;X-APPLE-RADIUS=500;X-TITLE=4580 N. University Drive:geo:-80.2509514,26.1823829
END:VEVENT
BEGIN:VEVENT
DTSTART;TZID=America/New_York:20280722T190000
DTEND;TZID=America/New_York:20280722T220000
DTSTAMP:20260423T184001
CREATED:20251230T205701Z
LAST-MODIFIED:20251230T205701Z
UID:10005177-1847905200-1847916000@staging.tatesgaming.com
SUMMARY:Union Arena TCG
DESCRIPTION:Join us every Friday and Saturday at 7pm for our Union Arena weekly tournaments!
URL:https://staging.tatesgaming.com/event/union-arena-tcg/2028-07-22/
LOCATION:TATE’S Gaming Satellite\, 4580 N. University Drive\, Lauderhill\, FL\, 33351\, United States
CATEGORIES:Union Arena
ATTACH;FMTTYPE=image/png:https://staging.tatesgaming.com/wp-content/uploads/2025/12/unionarena-event.png
GEO:26.1823829;-80.2509514
X-APPLE-STRUCTURED-LOCATION;VALUE=URI;X-ADDRESS=TATE’S Gaming Satellite 4580 N. University Drive Lauderhill FL 33351 United States;X-APPLE-RADIUS=500;X-TITLE=4580 N. University Drive:geo:-80.2509514,26.1823829
END:VEVENT
BEGIN:VEVENT
DTSTART;TZID=America/New_York:20280728T190000
DTEND;TZID=America/New_York:20280728T220000
DTSTAMP:20260423T184001
CREATED:20251230T205701Z
LAST-MODIFIED:20251230T205701Z
UID:10005178-1848423600-1848434400@staging.tatesgaming.com
SUMMARY:Union Arena TCG
DESCRIPTION:Join us every Friday and Saturday at 7pm for our Union Arena weekly tournaments!
URL:https://staging.tatesgaming.com/event/union-arena-tcg/2028-07-28/
LOCATION:TATE’S Gaming Satellite\, 4580 N. University Drive\, Lauderhill\, FL\, 33351\, United States
CATEGORIES:Union Arena
ATTACH;FMTTYPE=image/png:https://staging.tatesgaming.com/wp-content/uploads/2025/12/unionarena-event.png
GEO:26.1823829;-80.2509514
X-APPLE-STRUCTURED-LOCATION;VALUE=URI;X-ADDRESS=TATE’S Gaming Satellite 4580 N. University Drive Lauderhill FL 33351 United States;X-APPLE-RADIUS=500;X-TITLE=4580 N. University Drive:geo:-80.2509514,26.1823829
END:VEVENT
BEGIN:VEVENT
DTSTART;TZID=America/New_York:20280729T190000
DTEND;TZID=America/New_York:20280729T220000
DTSTAMP:20260423T184001
CREATED:20251230T205701Z
LAST-MODIFIED:20251230T205701Z
UID:10005179-1848510000-1848520800@staging.tatesgaming.com
SUMMARY:Union Arena TCG
DESCRIPTION:Join us every Friday and Saturday at 7pm for our Union Arena weekly tournaments!
URL:https://staging.tatesgaming.com/event/union-arena-tcg/2028-07-29/
LOCATION:TATE’S Gaming Satellite\, 4580 N. University Drive\, Lauderhill\, FL\, 33351\, United States
CATEGORIES:Union Arena
ATTACH;FMTTYPE=image/png:https://staging.tatesgaming.com/wp-content/uploads/2025/12/unionarena-event.png
GEO:26.1823829;-80.2509514
X-APPLE-STRUCTURED-LOCATION;VALUE=URI;X-ADDRESS=TATE’S Gaming Satellite 4580 N. University Drive Lauderhill FL 33351 United States;X-APPLE-RADIUS=500;X-TITLE=4580 N. University Drive:geo:-80.2509514,26.1823829
END:VEVENT
BEGIN:VEVENT
DTSTART;TZID=America/New_York:20280804T190000
DTEND;TZID=America/New_York:20280804T220000
DTSTAMP:20260423T184001
CREATED:20251230T205701Z
LAST-MODIFIED:20251230T205701Z
UID:10005180-1849028400-1849039200@staging.tatesgaming.com
SUMMARY:Union Arena TCG
DESCRIPTION:Join us every Friday and Saturday at 7pm for our Union Arena weekly tournaments!
URL:https://staging.tatesgaming.com/event/union-arena-tcg/2028-08-04/
LOCATION:TATE’S Gaming Satellite\, 4580 N. University Drive\, Lauderhill\, FL\, 33351\, United States
CATEGORIES:Union Arena
ATTACH;FMTTYPE=image/png:https://staging.tatesgaming.com/wp-content/uploads/2025/12/unionarena-event.png
GEO:26.1823829;-80.2509514
X-APPLE-STRUCTURED-LOCATION;VALUE=URI;X-ADDRESS=TATE’S Gaming Satellite 4580 N. University Drive Lauderhill FL 33351 United States;X-APPLE-RADIUS=500;X-TITLE=4580 N. University Drive:geo:-80.2509514,26.1823829
END:VEVENT
BEGIN:VEVENT
DTSTART;TZID=America/New_York:20280805T190000
DTEND;TZID=America/New_York:20280805T220000
DTSTAMP:20260423T184001
CREATED:20251230T205701Z
LAST-MODIFIED:20251230T205701Z
UID:10005181-1849114800-1849125600@staging.tatesgaming.com
SUMMARY:Union Arena TCG
DESCRIPTION:Join us every Friday and Saturday at 7pm for our Union Arena weekly tournaments!
URL:https://staging.tatesgaming.com/event/union-arena-tcg/2028-08-05/
LOCATION:TATE’S Gaming Satellite\, 4580 N. University Drive\, Lauderhill\, FL\, 33351\, United States
CATEGORIES:Union Arena
ATTACH;FMTTYPE=image/png:https://staging.tatesgaming.com/wp-content/uploads/2025/12/unionarena-event.png
GEO:26.1823829;-80.2509514
X-APPLE-STRUCTURED-LOCATION;VALUE=URI;X-ADDRESS=TATE’S Gaming Satellite 4580 N. University Drive Lauderhill FL 33351 United States;X-APPLE-RADIUS=500;X-TITLE=4580 N. University Drive:geo:-80.2509514,26.1823829
END:VEVENT
END:VCALENDAR