BEGIN:VCALENDAR
VERSION:2.0
PRODID:-//Tate&#039;s Gaming Satellite - ECPv6.15.20//NONSGML v1.0//EN
CALSCALE:GREGORIAN
METHOD:PUBLISH
X-WR-CALNAME:Tate&#039;s Gaming Satellite
X-ORIGINAL-URL:https://staging.tatesgaming.com
X-WR-CALDESC:Events for Tate&#039;s Gaming Satellite
REFRESH-INTERVAL;VALUE=DURATION:PT1H
X-Robots-Tag:noindex
X-PUBLISHED-TTL:PT1H
BEGIN:VTIMEZONE
TZID:America/New_York
BEGIN:DAYLIGHT
TZOFFSETFROM:-0500
TZOFFSETTO:-0400
TZNAME:EDT
DTSTART:20280312T070000
END:DAYLIGHT
BEGIN:STANDARD
TZOFFSETFROM:-0400
TZOFFSETTO:-0500
TZNAME:EST
DTSTART:20281105T060000
END:STANDARD
BEGIN:DAYLIGHT
TZOFFSETFROM:-0500
TZOFFSETTO:-0400
TZNAME:EDT
DTSTART:20290311T070000
END:DAYLIGHT
BEGIN:STANDARD
TZOFFSETFROM:-0400
TZOFFSETTO:-0500
TZNAME:EST
DTSTART:20291104T060000
END:STANDARD
BEGIN:DAYLIGHT
TZOFFSETFROM:-0500
TZOFFSETTO:-0400
TZNAME:EDT
DTSTART:20300310T070000
END:DAYLIGHT
BEGIN:STANDARD
TZOFFSETFROM:-0400
TZOFFSETTO:-0500
TZNAME:EST
DTSTART:20301103T060000
END:STANDARD
BEGIN:DAYLIGHT
TZOFFSETFROM:-0500
TZOFFSETTO:-0400
TZNAME:EDT
DTSTART:20310309T070000
END:DAYLIGHT
BEGIN:STANDARD
TZOFFSETFROM:-0400
TZOFFSETTO:-0500
TZNAME:EST
DTSTART:20311102T060000
END:STANDARD
END:VTIMEZONE
BEGIN:VEVENT
DTSTART;TZID=America/New_York:20291109T190000
DTEND;TZID=America/New_York:20291109T220000
DTSTAMP:20260424T205850
CREATED:20251230T205701Z
LAST-MODIFIED:20251230T205701Z
UID:10005312-1888945200-1888956000@staging.tatesgaming.com
SUMMARY:Union Arena TCG
DESCRIPTION:Join us every Friday and Saturday at 7pm for our Union Arena weekly tournaments!
URL:https://staging.tatesgaming.com/event/union-arena-tcg/2029-11-09/
LOCATION:TATE’S Gaming Satellite\, 4580 N. University Drive\, Lauderhill\, FL\, 33351\, United States
CATEGORIES:Union Arena
ATTACH;FMTTYPE=image/png:https://staging.tatesgaming.com/wp-content/uploads/2025/12/unionarena-event.png
GEO:26.1823829;-80.2509514
X-APPLE-STRUCTURED-LOCATION;VALUE=URI;X-ADDRESS=TATE’S Gaming Satellite 4580 N. University Drive Lauderhill FL 33351 United States;X-APPLE-RADIUS=500;X-TITLE=4580 N. University Drive:geo:-80.2509514,26.1823829
END:VEVENT
BEGIN:VEVENT
DTSTART;TZID=America/New_York:20291110T190000
DTEND;TZID=America/New_York:20291110T220000
DTSTAMP:20260424T205850
CREATED:20251230T205701Z
LAST-MODIFIED:20251230T205701Z
UID:10005313-1889031600-1889042400@staging.tatesgaming.com
SUMMARY:Union Arena TCG
DESCRIPTION:Join us every Friday and Saturday at 7pm for our Union Arena weekly tournaments!
URL:https://staging.tatesgaming.com/event/union-arena-tcg/2029-11-10/
LOCATION:TATE’S Gaming Satellite\, 4580 N. University Drive\, Lauderhill\, FL\, 33351\, United States
CATEGORIES:Union Arena
ATTACH;FMTTYPE=image/png:https://staging.tatesgaming.com/wp-content/uploads/2025/12/unionarena-event.png
GEO:26.1823829;-80.2509514
X-APPLE-STRUCTURED-LOCATION;VALUE=URI;X-ADDRESS=TATE’S Gaming Satellite 4580 N. University Drive Lauderhill FL 33351 United States;X-APPLE-RADIUS=500;X-TITLE=4580 N. University Drive:geo:-80.2509514,26.1823829
END:VEVENT
BEGIN:VEVENT
DTSTART;TZID=America/New_York:20291116T190000
DTEND;TZID=America/New_York:20291116T220000
DTSTAMP:20260424T205850
CREATED:20251230T205701Z
LAST-MODIFIED:20251230T205701Z
UID:10005314-1889550000-1889560800@staging.tatesgaming.com
SUMMARY:Union Arena TCG
DESCRIPTION:Join us every Friday and Saturday at 7pm for our Union Arena weekly tournaments!
URL:https://staging.tatesgaming.com/event/union-arena-tcg/2029-11-16/
LOCATION:TATE’S Gaming Satellite\, 4580 N. University Drive\, Lauderhill\, FL\, 33351\, United States
CATEGORIES:Union Arena
ATTACH;FMTTYPE=image/png:https://staging.tatesgaming.com/wp-content/uploads/2025/12/unionarena-event.png
GEO:26.1823829;-80.2509514
X-APPLE-STRUCTURED-LOCATION;VALUE=URI;X-ADDRESS=TATE’S Gaming Satellite 4580 N. University Drive Lauderhill FL 33351 United States;X-APPLE-RADIUS=500;X-TITLE=4580 N. University Drive:geo:-80.2509514,26.1823829
END:VEVENT
BEGIN:VEVENT
DTSTART;TZID=America/New_York:20291117T190000
DTEND;TZID=America/New_York:20291117T220000
DTSTAMP:20260424T205850
CREATED:20251230T205701Z
LAST-MODIFIED:20251230T205701Z
UID:10005315-1889636400-1889647200@staging.tatesgaming.com
SUMMARY:Union Arena TCG
DESCRIPTION:Join us every Friday and Saturday at 7pm for our Union Arena weekly tournaments!
URL:https://staging.tatesgaming.com/event/union-arena-tcg/2029-11-17/
LOCATION:TATE’S Gaming Satellite\, 4580 N. University Drive\, Lauderhill\, FL\, 33351\, United States
CATEGORIES:Union Arena
ATTACH;FMTTYPE=image/png:https://staging.tatesgaming.com/wp-content/uploads/2025/12/unionarena-event.png
GEO:26.1823829;-80.2509514
X-APPLE-STRUCTURED-LOCATION;VALUE=URI;X-ADDRESS=TATE’S Gaming Satellite 4580 N. University Drive Lauderhill FL 33351 United States;X-APPLE-RADIUS=500;X-TITLE=4580 N. University Drive:geo:-80.2509514,26.1823829
END:VEVENT
BEGIN:VEVENT
DTSTART;TZID=America/New_York:20291123T190000
DTEND;TZID=America/New_York:20291123T220000
DTSTAMP:20260424T205850
CREATED:20251230T205701Z
LAST-MODIFIED:20251230T205701Z
UID:10005316-1890154800-1890165600@staging.tatesgaming.com
SUMMARY:Union Arena TCG
DESCRIPTION:Join us every Friday and Saturday at 7pm for our Union Arena weekly tournaments!
URL:https://staging.tatesgaming.com/event/union-arena-tcg/2029-11-23/
LOCATION:TATE’S Gaming Satellite\, 4580 N. University Drive\, Lauderhill\, FL\, 33351\, United States
CATEGORIES:Union Arena
ATTACH;FMTTYPE=image/png:https://staging.tatesgaming.com/wp-content/uploads/2025/12/unionarena-event.png
GEO:26.1823829;-80.2509514
X-APPLE-STRUCTURED-LOCATION;VALUE=URI;X-ADDRESS=TATE’S Gaming Satellite 4580 N. University Drive Lauderhill FL 33351 United States;X-APPLE-RADIUS=500;X-TITLE=4580 N. University Drive:geo:-80.2509514,26.1823829
END:VEVENT
BEGIN:VEVENT
DTSTART;TZID=America/New_York:20291124T190000
DTEND;TZID=America/New_York:20291124T220000
DTSTAMP:20260424T205850
CREATED:20251230T205701Z
LAST-MODIFIED:20251230T205701Z
UID:10005317-1890241200-1890252000@staging.tatesgaming.com
SUMMARY:Union Arena TCG
DESCRIPTION:Join us every Friday and Saturday at 7pm for our Union Arena weekly tournaments!
URL:https://staging.tatesgaming.com/event/union-arena-tcg/2029-11-24/
LOCATION:TATE’S Gaming Satellite\, 4580 N. University Drive\, Lauderhill\, FL\, 33351\, United States
CATEGORIES:Union Arena
ATTACH;FMTTYPE=image/png:https://staging.tatesgaming.com/wp-content/uploads/2025/12/unionarena-event.png
GEO:26.1823829;-80.2509514
X-APPLE-STRUCTURED-LOCATION;VALUE=URI;X-ADDRESS=TATE’S Gaming Satellite 4580 N. University Drive Lauderhill FL 33351 United States;X-APPLE-RADIUS=500;X-TITLE=4580 N. University Drive:geo:-80.2509514,26.1823829
END:VEVENT
BEGIN:VEVENT
DTSTART;TZID=America/New_York:20291130T190000
DTEND;TZID=America/New_York:20291130T220000
DTSTAMP:20260424T205850
CREATED:20251230T205701Z
LAST-MODIFIED:20251230T205701Z
UID:10005318-1890759600-1890770400@staging.tatesgaming.com
SUMMARY:Union Arena TCG
DESCRIPTION:Join us every Friday and Saturday at 7pm for our Union Arena weekly tournaments!
URL:https://staging.tatesgaming.com/event/union-arena-tcg/2029-11-30/
LOCATION:TATE’S Gaming Satellite\, 4580 N. University Drive\, Lauderhill\, FL\, 33351\, United States
CATEGORIES:Union Arena
ATTACH;FMTTYPE=image/png:https://staging.tatesgaming.com/wp-content/uploads/2025/12/unionarena-event.png
GEO:26.1823829;-80.2509514
X-APPLE-STRUCTURED-LOCATION;VALUE=URI;X-ADDRESS=TATE’S Gaming Satellite 4580 N. University Drive Lauderhill FL 33351 United States;X-APPLE-RADIUS=500;X-TITLE=4580 N. University Drive:geo:-80.2509514,26.1823829
END:VEVENT
BEGIN:VEVENT
DTSTART;TZID=America/New_York:20291201T190000
DTEND;TZID=America/New_York:20291201T220000
DTSTAMP:20260424T205850
CREATED:20251230T205701Z
LAST-MODIFIED:20251230T205701Z
UID:10005319-1890846000-1890856800@staging.tatesgaming.com
SUMMARY:Union Arena TCG
DESCRIPTION:Join us every Friday and Saturday at 7pm for our Union Arena weekly tournaments!
URL:https://staging.tatesgaming.com/event/union-arena-tcg/2029-12-01/
LOCATION:TATE’S Gaming Satellite\, 4580 N. University Drive\, Lauderhill\, FL\, 33351\, United States
CATEGORIES:Union Arena
ATTACH;FMTTYPE=image/png:https://staging.tatesgaming.com/wp-content/uploads/2025/12/unionarena-event.png
GEO:26.1823829;-80.2509514
X-APPLE-STRUCTURED-LOCATION;VALUE=URI;X-ADDRESS=TATE’S Gaming Satellite 4580 N. University Drive Lauderhill FL 33351 United States;X-APPLE-RADIUS=500;X-TITLE=4580 N. University Drive:geo:-80.2509514,26.1823829
END:VEVENT
BEGIN:VEVENT
DTSTART;TZID=America/New_York:20291207T190000
DTEND;TZID=America/New_York:20291207T220000
DTSTAMP:20260424T205850
CREATED:20251230T205701Z
LAST-MODIFIED:20251230T205701Z
UID:10005320-1891364400-1891375200@staging.tatesgaming.com
SUMMARY:Union Arena TCG
DESCRIPTION:Join us every Friday and Saturday at 7pm for our Union Arena weekly tournaments!
URL:https://staging.tatesgaming.com/event/union-arena-tcg/2029-12-07/
LOCATION:TATE’S Gaming Satellite\, 4580 N. University Drive\, Lauderhill\, FL\, 33351\, United States
CATEGORIES:Union Arena
ATTACH;FMTTYPE=image/png:https://staging.tatesgaming.com/wp-content/uploads/2025/12/unionarena-event.png
GEO:26.1823829;-80.2509514
X-APPLE-STRUCTURED-LOCATION;VALUE=URI;X-ADDRESS=TATE’S Gaming Satellite 4580 N. University Drive Lauderhill FL 33351 United States;X-APPLE-RADIUS=500;X-TITLE=4580 N. University Drive:geo:-80.2509514,26.1823829
END:VEVENT
BEGIN:VEVENT
DTSTART;TZID=America/New_York:20291208T190000
DTEND;TZID=America/New_York:20291208T220000
DTSTAMP:20260424T205850
CREATED:20251230T205701Z
LAST-MODIFIED:20251230T205701Z
UID:10005321-1891450800-1891461600@staging.tatesgaming.com
SUMMARY:Union Arena TCG
DESCRIPTION:Join us every Friday and Saturday at 7pm for our Union Arena weekly tournaments!
URL:https://staging.tatesgaming.com/event/union-arena-tcg/2029-12-08/
LOCATION:TATE’S Gaming Satellite\, 4580 N. University Drive\, Lauderhill\, FL\, 33351\, United States
CATEGORIES:Union Arena
ATTACH;FMTTYPE=image/png:https://staging.tatesgaming.com/wp-content/uploads/2025/12/unionarena-event.png
GEO:26.1823829;-80.2509514
X-APPLE-STRUCTURED-LOCATION;VALUE=URI;X-ADDRESS=TATE’S Gaming Satellite 4580 N. University Drive Lauderhill FL 33351 United States;X-APPLE-RADIUS=500;X-TITLE=4580 N. University Drive:geo:-80.2509514,26.1823829
END:VEVENT
BEGIN:VEVENT
DTSTART;TZID=America/New_York:20291214T190000
DTEND;TZID=America/New_York:20291214T220000
DTSTAMP:20260424T205850
CREATED:20251230T205701Z
LAST-MODIFIED:20251230T205701Z
UID:10005322-1891969200-1891980000@staging.tatesgaming.com
SUMMARY:Union Arena TCG
DESCRIPTION:Join us every Friday and Saturday at 7pm for our Union Arena weekly tournaments!
URL:https://staging.tatesgaming.com/event/union-arena-tcg/2029-12-14/
LOCATION:TATE’S Gaming Satellite\, 4580 N. University Drive\, Lauderhill\, FL\, 33351\, United States
CATEGORIES:Union Arena
ATTACH;FMTTYPE=image/png:https://staging.tatesgaming.com/wp-content/uploads/2025/12/unionarena-event.png
GEO:26.1823829;-80.2509514
X-APPLE-STRUCTURED-LOCATION;VALUE=URI;X-ADDRESS=TATE’S Gaming Satellite 4580 N. University Drive Lauderhill FL 33351 United States;X-APPLE-RADIUS=500;X-TITLE=4580 N. University Drive:geo:-80.2509514,26.1823829
END:VEVENT
BEGIN:VEVENT
DTSTART;TZID=America/New_York:20291215T190000
DTEND;TZID=America/New_York:20291215T220000
DTSTAMP:20260424T205850
CREATED:20251230T205701Z
LAST-MODIFIED:20251230T205701Z
UID:10005323-1892055600-1892066400@staging.tatesgaming.com
SUMMARY:Union Arena TCG
DESCRIPTION:Join us every Friday and Saturday at 7pm for our Union Arena weekly tournaments!
URL:https://staging.tatesgaming.com/event/union-arena-tcg/2029-12-15/
LOCATION:TATE’S Gaming Satellite\, 4580 N. University Drive\, Lauderhill\, FL\, 33351\, United States
CATEGORIES:Union Arena
ATTACH;FMTTYPE=image/png:https://staging.tatesgaming.com/wp-content/uploads/2025/12/unionarena-event.png
GEO:26.1823829;-80.2509514
X-APPLE-STRUCTURED-LOCATION;VALUE=URI;X-ADDRESS=TATE’S Gaming Satellite 4580 N. University Drive Lauderhill FL 33351 United States;X-APPLE-RADIUS=500;X-TITLE=4580 N. University Drive:geo:-80.2509514,26.1823829
END:VEVENT
BEGIN:VEVENT
DTSTART;TZID=America/New_York:20291221T190000
DTEND;TZID=America/New_York:20291221T220000
DTSTAMP:20260424T205850
CREATED:20251230T205701Z
LAST-MODIFIED:20251230T205701Z
UID:10005324-1892574000-1892584800@staging.tatesgaming.com
SUMMARY:Union Arena TCG
DESCRIPTION:Join us every Friday and Saturday at 7pm for our Union Arena weekly tournaments!
URL:https://staging.tatesgaming.com/event/union-arena-tcg/2029-12-21/
LOCATION:TATE’S Gaming Satellite\, 4580 N. University Drive\, Lauderhill\, FL\, 33351\, United States
CATEGORIES:Union Arena
ATTACH;FMTTYPE=image/png:https://staging.tatesgaming.com/wp-content/uploads/2025/12/unionarena-event.png
GEO:26.1823829;-80.2509514
X-APPLE-STRUCTURED-LOCATION;VALUE=URI;X-ADDRESS=TATE’S Gaming Satellite 4580 N. University Drive Lauderhill FL 33351 United States;X-APPLE-RADIUS=500;X-TITLE=4580 N. University Drive:geo:-80.2509514,26.1823829
END:VEVENT
BEGIN:VEVENT
DTSTART;TZID=America/New_York:20291222T190000
DTEND;TZID=America/New_York:20291222T220000
DTSTAMP:20260424T205850
CREATED:20251230T205701Z
LAST-MODIFIED:20251230T205701Z
UID:10005325-1892660400-1892671200@staging.tatesgaming.com
SUMMARY:Union Arena TCG
DESCRIPTION:Join us every Friday and Saturday at 7pm for our Union Arena weekly tournaments!
URL:https://staging.tatesgaming.com/event/union-arena-tcg/2029-12-22/
LOCATION:TATE’S Gaming Satellite\, 4580 N. University Drive\, Lauderhill\, FL\, 33351\, United States
CATEGORIES:Union Arena
ATTACH;FMTTYPE=image/png:https://staging.tatesgaming.com/wp-content/uploads/2025/12/unionarena-event.png
GEO:26.1823829;-80.2509514
X-APPLE-STRUCTURED-LOCATION;VALUE=URI;X-ADDRESS=TATE’S Gaming Satellite 4580 N. University Drive Lauderhill FL 33351 United States;X-APPLE-RADIUS=500;X-TITLE=4580 N. University Drive:geo:-80.2509514,26.1823829
END:VEVENT
BEGIN:VEVENT
DTSTART;TZID=America/New_York:20291228T190000
DTEND;TZID=America/New_York:20291228T220000
DTSTAMP:20260424T205850
CREATED:20251230T205701Z
LAST-MODIFIED:20251230T205701Z
UID:10005326-1893178800-1893189600@staging.tatesgaming.com
SUMMARY:Union Arena TCG
DESCRIPTION:Join us every Friday and Saturday at 7pm for our Union Arena weekly tournaments!
URL:https://staging.tatesgaming.com/event/union-arena-tcg/2029-12-28/
LOCATION:TATE’S Gaming Satellite\, 4580 N. University Drive\, Lauderhill\, FL\, 33351\, United States
CATEGORIES:Union Arena
ATTACH;FMTTYPE=image/png:https://staging.tatesgaming.com/wp-content/uploads/2025/12/unionarena-event.png
GEO:26.1823829;-80.2509514
X-APPLE-STRUCTURED-LOCATION;VALUE=URI;X-ADDRESS=TATE’S Gaming Satellite 4580 N. University Drive Lauderhill FL 33351 United States;X-APPLE-RADIUS=500;X-TITLE=4580 N. University Drive:geo:-80.2509514,26.1823829
END:VEVENT
BEGIN:VEVENT
DTSTART;TZID=America/New_York:20291229T190000
DTEND;TZID=America/New_York:20291229T220000
DTSTAMP:20260424T205850
CREATED:20251230T205701Z
LAST-MODIFIED:20251230T205701Z
UID:10005327-1893265200-1893276000@staging.tatesgaming.com
SUMMARY:Union Arena TCG
DESCRIPTION:Join us every Friday and Saturday at 7pm for our Union Arena weekly tournaments!
URL:https://staging.tatesgaming.com/event/union-arena-tcg/2029-12-29/
LOCATION:TATE’S Gaming Satellite\, 4580 N. University Drive\, Lauderhill\, FL\, 33351\, United States
CATEGORIES:Union Arena
ATTACH;FMTTYPE=image/png:https://staging.tatesgaming.com/wp-content/uploads/2025/12/unionarena-event.png
GEO:26.1823829;-80.2509514
X-APPLE-STRUCTURED-LOCATION;VALUE=URI;X-ADDRESS=TATE’S Gaming Satellite 4580 N. University Drive Lauderhill FL 33351 United States;X-APPLE-RADIUS=500;X-TITLE=4580 N. University Drive:geo:-80.2509514,26.1823829
END:VEVENT
BEGIN:VEVENT
DTSTART;TZID=America/New_York:20300104T190000
DTEND;TZID=America/New_York:20300104T220000
DTSTAMP:20260424T205850
CREATED:20251230T205701Z
LAST-MODIFIED:20251230T205701Z
UID:10005328-1893783600-1893794400@staging.tatesgaming.com
SUMMARY:Union Arena TCG
DESCRIPTION:Join us every Friday and Saturday at 7pm for our Union Arena weekly tournaments!
URL:https://staging.tatesgaming.com/event/union-arena-tcg/2030-01-04/
LOCATION:TATE’S Gaming Satellite\, 4580 N. University Drive\, Lauderhill\, FL\, 33351\, United States
CATEGORIES:Union Arena
ATTACH;FMTTYPE=image/png:https://staging.tatesgaming.com/wp-content/uploads/2025/12/unionarena-event.png
GEO:26.1823829;-80.2509514
X-APPLE-STRUCTURED-LOCATION;VALUE=URI;X-ADDRESS=TATE’S Gaming Satellite 4580 N. University Drive Lauderhill FL 33351 United States;X-APPLE-RADIUS=500;X-TITLE=4580 N. University Drive:geo:-80.2509514,26.1823829
END:VEVENT
BEGIN:VEVENT
DTSTART;TZID=America/New_York:20300105T190000
DTEND;TZID=America/New_York:20300105T220000
DTSTAMP:20260424T205850
CREATED:20251230T205701Z
LAST-MODIFIED:20251230T205701Z
UID:10005329-1893870000-1893880800@staging.tatesgaming.com
SUMMARY:Union Arena TCG
DESCRIPTION:Join us every Friday and Saturday at 7pm for our Union Arena weekly tournaments!
URL:https://staging.tatesgaming.com/event/union-arena-tcg/2030-01-05/
LOCATION:TATE’S Gaming Satellite\, 4580 N. University Drive\, Lauderhill\, FL\, 33351\, United States
CATEGORIES:Union Arena
ATTACH;FMTTYPE=image/png:https://staging.tatesgaming.com/wp-content/uploads/2025/12/unionarena-event.png
GEO:26.1823829;-80.2509514
X-APPLE-STRUCTURED-LOCATION;VALUE=URI;X-ADDRESS=TATE’S Gaming Satellite 4580 N. University Drive Lauderhill FL 33351 United States;X-APPLE-RADIUS=500;X-TITLE=4580 N. University Drive:geo:-80.2509514,26.1823829
END:VEVENT
BEGIN:VEVENT
DTSTART;TZID=America/New_York:20300111T190000
DTEND;TZID=America/New_York:20300111T220000
DTSTAMP:20260424T205850
CREATED:20251230T205701Z
LAST-MODIFIED:20251230T205701Z
UID:10005330-1894388400-1894399200@staging.tatesgaming.com
SUMMARY:Union Arena TCG
DESCRIPTION:Join us every Friday and Saturday at 7pm for our Union Arena weekly tournaments!
URL:https://staging.tatesgaming.com/event/union-arena-tcg/2030-01-11/
LOCATION:TATE’S Gaming Satellite\, 4580 N. University Drive\, Lauderhill\, FL\, 33351\, United States
CATEGORIES:Union Arena
ATTACH;FMTTYPE=image/png:https://staging.tatesgaming.com/wp-content/uploads/2025/12/unionarena-event.png
GEO:26.1823829;-80.2509514
X-APPLE-STRUCTURED-LOCATION;VALUE=URI;X-ADDRESS=TATE’S Gaming Satellite 4580 N. University Drive Lauderhill FL 33351 United States;X-APPLE-RADIUS=500;X-TITLE=4580 N. University Drive:geo:-80.2509514,26.1823829
END:VEVENT
BEGIN:VEVENT
DTSTART;TZID=America/New_York:20300112T190000
DTEND;TZID=America/New_York:20300112T220000
DTSTAMP:20260424T205850
CREATED:20251230T205701Z
LAST-MODIFIED:20251230T205701Z
UID:10005331-1894474800-1894485600@staging.tatesgaming.com
SUMMARY:Union Arena TCG
DESCRIPTION:Join us every Friday and Saturday at 7pm for our Union Arena weekly tournaments!
URL:https://staging.tatesgaming.com/event/union-arena-tcg/2030-01-12/
LOCATION:TATE’S Gaming Satellite\, 4580 N. University Drive\, Lauderhill\, FL\, 33351\, United States
CATEGORIES:Union Arena
ATTACH;FMTTYPE=image/png:https://staging.tatesgaming.com/wp-content/uploads/2025/12/unionarena-event.png
GEO:26.1823829;-80.2509514
X-APPLE-STRUCTURED-LOCATION;VALUE=URI;X-ADDRESS=TATE’S Gaming Satellite 4580 N. University Drive Lauderhill FL 33351 United States;X-APPLE-RADIUS=500;X-TITLE=4580 N. University Drive:geo:-80.2509514,26.1823829
END:VEVENT
BEGIN:VEVENT
DTSTART;TZID=America/New_York:20300118T190000
DTEND;TZID=America/New_York:20300118T220000
DTSTAMP:20260424T205850
CREATED:20251230T205701Z
LAST-MODIFIED:20251230T205701Z
UID:10005332-1894993200-1895004000@staging.tatesgaming.com
SUMMARY:Union Arena TCG
DESCRIPTION:Join us every Friday and Saturday at 7pm for our Union Arena weekly tournaments!
URL:https://staging.tatesgaming.com/event/union-arena-tcg/2030-01-18/
LOCATION:TATE’S Gaming Satellite\, 4580 N. University Drive\, Lauderhill\, FL\, 33351\, United States
CATEGORIES:Union Arena
ATTACH;FMTTYPE=image/png:https://staging.tatesgaming.com/wp-content/uploads/2025/12/unionarena-event.png
GEO:26.1823829;-80.2509514
X-APPLE-STRUCTURED-LOCATION;VALUE=URI;X-ADDRESS=TATE’S Gaming Satellite 4580 N. University Drive Lauderhill FL 33351 United States;X-APPLE-RADIUS=500;X-TITLE=4580 N. University Drive:geo:-80.2509514,26.1823829
END:VEVENT
BEGIN:VEVENT
DTSTART;TZID=America/New_York:20300119T190000
DTEND;TZID=America/New_York:20300119T220000
DTSTAMP:20260424T205850
CREATED:20251230T205701Z
LAST-MODIFIED:20251230T205701Z
UID:10005333-1895079600-1895090400@staging.tatesgaming.com
SUMMARY:Union Arena TCG
DESCRIPTION:Join us every Friday and Saturday at 7pm for our Union Arena weekly tournaments!
URL:https://staging.tatesgaming.com/event/union-arena-tcg/2030-01-19/
LOCATION:TATE’S Gaming Satellite\, 4580 N. University Drive\, Lauderhill\, FL\, 33351\, United States
CATEGORIES:Union Arena
ATTACH;FMTTYPE=image/png:https://staging.tatesgaming.com/wp-content/uploads/2025/12/unionarena-event.png
GEO:26.1823829;-80.2509514
X-APPLE-STRUCTURED-LOCATION;VALUE=URI;X-ADDRESS=TATE’S Gaming Satellite 4580 N. University Drive Lauderhill FL 33351 United States;X-APPLE-RADIUS=500;X-TITLE=4580 N. University Drive:geo:-80.2509514,26.1823829
END:VEVENT
BEGIN:VEVENT
DTSTART;TZID=America/New_York:20300125T190000
DTEND;TZID=America/New_York:20300125T220000
DTSTAMP:20260424T205850
CREATED:20251230T205701Z
LAST-MODIFIED:20251230T205701Z
UID:10005334-1895598000-1895608800@staging.tatesgaming.com
SUMMARY:Union Arena TCG
DESCRIPTION:Join us every Friday and Saturday at 7pm for our Union Arena weekly tournaments!
URL:https://staging.tatesgaming.com/event/union-arena-tcg/2030-01-25/
LOCATION:TATE’S Gaming Satellite\, 4580 N. University Drive\, Lauderhill\, FL\, 33351\, United States
CATEGORIES:Union Arena
ATTACH;FMTTYPE=image/png:https://staging.tatesgaming.com/wp-content/uploads/2025/12/unionarena-event.png
GEO:26.1823829;-80.2509514
X-APPLE-STRUCTURED-LOCATION;VALUE=URI;X-ADDRESS=TATE’S Gaming Satellite 4580 N. University Drive Lauderhill FL 33351 United States;X-APPLE-RADIUS=500;X-TITLE=4580 N. University Drive:geo:-80.2509514,26.1823829
END:VEVENT
BEGIN:VEVENT
DTSTART;TZID=America/New_York:20300126T190000
DTEND;TZID=America/New_York:20300126T220000
DTSTAMP:20260424T205850
CREATED:20251230T205701Z
LAST-MODIFIED:20251230T205701Z
UID:10005335-1895684400-1895695200@staging.tatesgaming.com
SUMMARY:Union Arena TCG
DESCRIPTION:Join us every Friday and Saturday at 7pm for our Union Arena weekly tournaments!
URL:https://staging.tatesgaming.com/event/union-arena-tcg/2030-01-26/
LOCATION:TATE’S Gaming Satellite\, 4580 N. University Drive\, Lauderhill\, FL\, 33351\, United States
CATEGORIES:Union Arena
ATTACH;FMTTYPE=image/png:https://staging.tatesgaming.com/wp-content/uploads/2025/12/unionarena-event.png
GEO:26.1823829;-80.2509514
X-APPLE-STRUCTURED-LOCATION;VALUE=URI;X-ADDRESS=TATE’S Gaming Satellite 4580 N. University Drive Lauderhill FL 33351 United States;X-APPLE-RADIUS=500;X-TITLE=4580 N. University Drive:geo:-80.2509514,26.1823829
END:VEVENT
BEGIN:VEVENT
DTSTART;TZID=America/New_York:20300201T190000
DTEND;TZID=America/New_York:20300201T220000
DTSTAMP:20260424T205850
CREATED:20251230T205701Z
LAST-MODIFIED:20251230T205701Z
UID:10005336-1896202800-1896213600@staging.tatesgaming.com
SUMMARY:Union Arena TCG
DESCRIPTION:Join us every Friday and Saturday at 7pm for our Union Arena weekly tournaments!
URL:https://staging.tatesgaming.com/event/union-arena-tcg/2030-02-01/
LOCATION:TATE’S Gaming Satellite\, 4580 N. University Drive\, Lauderhill\, FL\, 33351\, United States
CATEGORIES:Union Arena
ATTACH;FMTTYPE=image/png:https://staging.tatesgaming.com/wp-content/uploads/2025/12/unionarena-event.png
GEO:26.1823829;-80.2509514
X-APPLE-STRUCTURED-LOCATION;VALUE=URI;X-ADDRESS=TATE’S Gaming Satellite 4580 N. University Drive Lauderhill FL 33351 United States;X-APPLE-RADIUS=500;X-TITLE=4580 N. University Drive:geo:-80.2509514,26.1823829
END:VEVENT
BEGIN:VEVENT
DTSTART;TZID=America/New_York:20300202T190000
DTEND;TZID=America/New_York:20300202T220000
DTSTAMP:20260424T205850
CREATED:20251230T205701Z
LAST-MODIFIED:20251230T205701Z
UID:10005337-1896289200-1896300000@staging.tatesgaming.com
SUMMARY:Union Arena TCG
DESCRIPTION:Join us every Friday and Saturday at 7pm for our Union Arena weekly tournaments!
URL:https://staging.tatesgaming.com/event/union-arena-tcg/2030-02-02/
LOCATION:TATE’S Gaming Satellite\, 4580 N. University Drive\, Lauderhill\, FL\, 33351\, United States
CATEGORIES:Union Arena
ATTACH;FMTTYPE=image/png:https://staging.tatesgaming.com/wp-content/uploads/2025/12/unionarena-event.png
GEO:26.1823829;-80.2509514
X-APPLE-STRUCTURED-LOCATION;VALUE=URI;X-ADDRESS=TATE’S Gaming Satellite 4580 N. University Drive Lauderhill FL 33351 United States;X-APPLE-RADIUS=500;X-TITLE=4580 N. University Drive:geo:-80.2509514,26.1823829
END:VEVENT
BEGIN:VEVENT
DTSTART;TZID=America/New_York:20300208T190000
DTEND;TZID=America/New_York:20300208T220000
DTSTAMP:20260424T205850
CREATED:20251230T205701Z
LAST-MODIFIED:20251230T205701Z
UID:10005338-1896807600-1896818400@staging.tatesgaming.com
SUMMARY:Union Arena TCG
DESCRIPTION:Join us every Friday and Saturday at 7pm for our Union Arena weekly tournaments!
URL:https://staging.tatesgaming.com/event/union-arena-tcg/2030-02-08/
LOCATION:TATE’S Gaming Satellite\, 4580 N. University Drive\, Lauderhill\, FL\, 33351\, United States
CATEGORIES:Union Arena
ATTACH;FMTTYPE=image/png:https://staging.tatesgaming.com/wp-content/uploads/2025/12/unionarena-event.png
GEO:26.1823829;-80.2509514
X-APPLE-STRUCTURED-LOCATION;VALUE=URI;X-ADDRESS=TATE’S Gaming Satellite 4580 N. University Drive Lauderhill FL 33351 United States;X-APPLE-RADIUS=500;X-TITLE=4580 N. University Drive:geo:-80.2509514,26.1823829
END:VEVENT
BEGIN:VEVENT
DTSTART;TZID=America/New_York:20300209T190000
DTEND;TZID=America/New_York:20300209T220000
DTSTAMP:20260424T205850
CREATED:20251230T205701Z
LAST-MODIFIED:20251230T205701Z
UID:10005339-1896894000-1896904800@staging.tatesgaming.com
SUMMARY:Union Arena TCG
DESCRIPTION:Join us every Friday and Saturday at 7pm for our Union Arena weekly tournaments!
URL:https://staging.tatesgaming.com/event/union-arena-tcg/2030-02-09/
LOCATION:TATE’S Gaming Satellite\, 4580 N. University Drive\, Lauderhill\, FL\, 33351\, United States
CATEGORIES:Union Arena
ATTACH;FMTTYPE=image/png:https://staging.tatesgaming.com/wp-content/uploads/2025/12/unionarena-event.png
GEO:26.1823829;-80.2509514
X-APPLE-STRUCTURED-LOCATION;VALUE=URI;X-ADDRESS=TATE’S Gaming Satellite 4580 N. University Drive Lauderhill FL 33351 United States;X-APPLE-RADIUS=500;X-TITLE=4580 N. University Drive:geo:-80.2509514,26.1823829
END:VEVENT
BEGIN:VEVENT
DTSTART;TZID=America/New_York:20300215T190000
DTEND;TZID=America/New_York:20300215T220000
DTSTAMP:20260424T205850
CREATED:20251230T205701Z
LAST-MODIFIED:20251230T205701Z
UID:10005340-1897412400-1897423200@staging.tatesgaming.com
SUMMARY:Union Arena TCG
DESCRIPTION:Join us every Friday and Saturday at 7pm for our Union Arena weekly tournaments!
URL:https://staging.tatesgaming.com/event/union-arena-tcg/2030-02-15/
LOCATION:TATE’S Gaming Satellite\, 4580 N. University Drive\, Lauderhill\, FL\, 33351\, United States
CATEGORIES:Union Arena
ATTACH;FMTTYPE=image/png:https://staging.tatesgaming.com/wp-content/uploads/2025/12/unionarena-event.png
GEO:26.1823829;-80.2509514
X-APPLE-STRUCTURED-LOCATION;VALUE=URI;X-ADDRESS=TATE’S Gaming Satellite 4580 N. University Drive Lauderhill FL 33351 United States;X-APPLE-RADIUS=500;X-TITLE=4580 N. University Drive:geo:-80.2509514,26.1823829
END:VEVENT
BEGIN:VEVENT
DTSTART;TZID=America/New_York:20300216T190000
DTEND;TZID=America/New_York:20300216T220000
DTSTAMP:20260424T205850
CREATED:20251230T205701Z
LAST-MODIFIED:20251230T205701Z
UID:10005341-1897498800-1897509600@staging.tatesgaming.com
SUMMARY:Union Arena TCG
DESCRIPTION:Join us every Friday and Saturday at 7pm for our Union Arena weekly tournaments!
URL:https://staging.tatesgaming.com/event/union-arena-tcg/2030-02-16/
LOCATION:TATE’S Gaming Satellite\, 4580 N. University Drive\, Lauderhill\, FL\, 33351\, United States
CATEGORIES:Union Arena
ATTACH;FMTTYPE=image/png:https://staging.tatesgaming.com/wp-content/uploads/2025/12/unionarena-event.png
GEO:26.1823829;-80.2509514
X-APPLE-STRUCTURED-LOCATION;VALUE=URI;X-ADDRESS=TATE’S Gaming Satellite 4580 N. University Drive Lauderhill FL 33351 United States;X-APPLE-RADIUS=500;X-TITLE=4580 N. University Drive:geo:-80.2509514,26.1823829
END:VEVENT
END:VCALENDAR