BEGIN:VCALENDAR
VERSION:2.0
PRODID:-//Tate&#039;s Gaming Satellite - ECPv6.15.20//NONSGML v1.0//EN
CALSCALE:GREGORIAN
METHOD:PUBLISH
X-ORIGINAL-URL:https://staging.tatesgaming.com
X-WR-CALDESC:Events for Tate&#039;s Gaming Satellite
REFRESH-INTERVAL;VALUE=DURATION:PT1H
X-Robots-Tag:noindex
X-PUBLISHED-TTL:PT1H
BEGIN:VTIMEZONE
TZID:America/New_York
BEGIN:DAYLIGHT
TZOFFSETFROM:-0500
TZOFFSETTO:-0400
TZNAME:EDT
DTSTART:20230312T070000
END:DAYLIGHT
BEGIN:STANDARD
TZOFFSETFROM:-0400
TZOFFSETTO:-0500
TZNAME:EST
DTSTART:20231105T060000
END:STANDARD
BEGIN:DAYLIGHT
TZOFFSETFROM:-0500
TZOFFSETTO:-0400
TZNAME:EDT
DTSTART:20240310T070000
END:DAYLIGHT
BEGIN:STANDARD
TZOFFSETFROM:-0400
TZOFFSETTO:-0500
TZNAME:EST
DTSTART:20241103T060000
END:STANDARD
BEGIN:DAYLIGHT
TZOFFSETFROM:-0500
TZOFFSETTO:-0400
TZNAME:EDT
DTSTART:20250309T070000
END:DAYLIGHT
BEGIN:STANDARD
TZOFFSETFROM:-0400
TZOFFSETTO:-0500
TZNAME:EST
DTSTART:20251102T060000
END:STANDARD
END:VTIMEZONE
BEGIN:VEVENT
DTSTART;TZID=America/New_York:20241203T160000
DTEND;TZID=America/New_York:20241203T210000
DTSTAMP:20260423T093232
CREATED:20180331T203728Z
LAST-MODIFIED:20240305T212619Z
UID:10001945-1733241600-1733259600@staging.tatesgaming.com
SUMMARY:Yu-Gi-Oh! Tournament
DESCRIPTION:Come join us every Tuesday for our weekly sanctioned Yu-Gi-Oh! Tournament! \nRegistration starts at 4:00 pm\, and the tournament starts at 4:30 pm.\nEntry is $10 (2 free OTS packs with entry!)\nSwiss with prize support and top cut based off the number of players.
URL:https://staging.tatesgaming.com/event/yu-gi-oh-tournament/2024-12-03/
LOCATION:TATE’S Gaming Satellite\, 4580 N. University Drive\, Lauderhill\, FL\, 33351\, United States
CATEGORIES:Yugioh
ATTACH;FMTTYPE=image/jpeg:https://staging.tatesgaming.com/wp-content/uploads/2018/03/Yugioh-Event-Slider.jpg
GEO:26.1823829;-80.2509514
X-APPLE-STRUCTURED-LOCATION;VALUE=URI;X-ADDRESS=TATE’S Gaming Satellite 4580 N. University Drive Lauderhill FL 33351 United States;X-APPLE-RADIUS=500;X-TITLE=4580 N. University Drive:geo:-80.2509514,26.1823829
END:VEVENT
BEGIN:VEVENT
DTSTART;TZID=America/New_York:20241210T160000
DTEND;TZID=America/New_York:20241210T210000
DTSTAMP:20260423T093232
CREATED:20180331T203728Z
LAST-MODIFIED:20240305T212619Z
UID:10001946-1733846400-1733864400@staging.tatesgaming.com
SUMMARY:Yu-Gi-Oh! Tournament
DESCRIPTION:Come join us every Tuesday for our weekly sanctioned Yu-Gi-Oh! Tournament! \nRegistration starts at 4:00 pm\, and the tournament starts at 4:30 pm.\nEntry is $10 (2 free OTS packs with entry!)\nSwiss with prize support and top cut based off the number of players.
URL:https://staging.tatesgaming.com/event/yu-gi-oh-tournament/2024-12-10/
LOCATION:TATE’S Gaming Satellite\, 4580 N. University Drive\, Lauderhill\, FL\, 33351\, United States
CATEGORIES:Yugioh
ATTACH;FMTTYPE=image/jpeg:https://staging.tatesgaming.com/wp-content/uploads/2018/03/Yugioh-Event-Slider.jpg
GEO:26.1823829;-80.2509514
X-APPLE-STRUCTURED-LOCATION;VALUE=URI;X-ADDRESS=TATE’S Gaming Satellite 4580 N. University Drive Lauderhill FL 33351 United States;X-APPLE-RADIUS=500;X-TITLE=4580 N. University Drive:geo:-80.2509514,26.1823829
END:VEVENT
BEGIN:VEVENT
DTSTART;TZID=America/New_York:20241217T160000
DTEND;TZID=America/New_York:20241217T210000
DTSTAMP:20260423T093232
CREATED:20180331T203728Z
LAST-MODIFIED:20240305T212619Z
UID:10001947-1734451200-1734469200@staging.tatesgaming.com
SUMMARY:Yu-Gi-Oh! Tournament
DESCRIPTION:Come join us every Tuesday for our weekly sanctioned Yu-Gi-Oh! Tournament! \nRegistration starts at 4:00 pm\, and the tournament starts at 4:30 pm.\nEntry is $10 (2 free OTS packs with entry!)\nSwiss with prize support and top cut based off the number of players.
URL:https://staging.tatesgaming.com/event/yu-gi-oh-tournament/2024-12-17/
LOCATION:TATE’S Gaming Satellite\, 4580 N. University Drive\, Lauderhill\, FL\, 33351\, United States
CATEGORIES:Yugioh
ATTACH;FMTTYPE=image/jpeg:https://staging.tatesgaming.com/wp-content/uploads/2018/03/Yugioh-Event-Slider.jpg
GEO:26.1823829;-80.2509514
X-APPLE-STRUCTURED-LOCATION;VALUE=URI;X-ADDRESS=TATE’S Gaming Satellite 4580 N. University Drive Lauderhill FL 33351 United States;X-APPLE-RADIUS=500;X-TITLE=4580 N. University Drive:geo:-80.2509514,26.1823829
END:VEVENT
BEGIN:VEVENT
DTSTART;TZID=America/New_York:20241224T160000
DTEND;TZID=America/New_York:20241224T210000
DTSTAMP:20260423T093232
CREATED:20180331T203728Z
LAST-MODIFIED:20240305T212619Z
UID:10001948-1735056000-1735074000@staging.tatesgaming.com
SUMMARY:Yu-Gi-Oh! Tournament
DESCRIPTION:Come join us every Tuesday for our weekly sanctioned Yu-Gi-Oh! Tournament! \nRegistration starts at 4:00 pm\, and the tournament starts at 4:30 pm.\nEntry is $10 (2 free OTS packs with entry!)\nSwiss with prize support and top cut based off the number of players.
URL:https://staging.tatesgaming.com/event/yu-gi-oh-tournament/2024-12-24/
LOCATION:TATE’S Gaming Satellite\, 4580 N. University Drive\, Lauderhill\, FL\, 33351\, United States
CATEGORIES:Yugioh
ATTACH;FMTTYPE=image/jpeg:https://staging.tatesgaming.com/wp-content/uploads/2018/03/Yugioh-Event-Slider.jpg
GEO:26.1823829;-80.2509514
X-APPLE-STRUCTURED-LOCATION;VALUE=URI;X-ADDRESS=TATE’S Gaming Satellite 4580 N. University Drive Lauderhill FL 33351 United States;X-APPLE-RADIUS=500;X-TITLE=4580 N. University Drive:geo:-80.2509514,26.1823829
END:VEVENT
BEGIN:VEVENT
DTSTART;TZID=America/New_York:20241231T160000
DTEND;TZID=America/New_York:20241231T210000
DTSTAMP:20260423T093232
CREATED:20180331T203728Z
LAST-MODIFIED:20240305T212619Z
UID:10001949-1735660800-1735678800@staging.tatesgaming.com
SUMMARY:Yu-Gi-Oh! Tournament
DESCRIPTION:Come join us every Tuesday for our weekly sanctioned Yu-Gi-Oh! Tournament! \nRegistration starts at 4:00 pm\, and the tournament starts at 4:30 pm.\nEntry is $10 (2 free OTS packs with entry!)\nSwiss with prize support and top cut based off the number of players.
URL:https://staging.tatesgaming.com/event/yu-gi-oh-tournament/2024-12-31/
LOCATION:TATE’S Gaming Satellite\, 4580 N. University Drive\, Lauderhill\, FL\, 33351\, United States
CATEGORIES:Yugioh
ATTACH;FMTTYPE=image/jpeg:https://staging.tatesgaming.com/wp-content/uploads/2018/03/Yugioh-Event-Slider.jpg
GEO:26.1823829;-80.2509514
X-APPLE-STRUCTURED-LOCATION;VALUE=URI;X-ADDRESS=TATE’S Gaming Satellite 4580 N. University Drive Lauderhill FL 33351 United States;X-APPLE-RADIUS=500;X-TITLE=4580 N. University Drive:geo:-80.2509514,26.1823829
END:VEVENT
END:VCALENDAR